BEGIN:VCALENDAR
VERSION:2.0
PRODID:-//Michael D&#039;Amore - ECPv6.15.20//NONSGML v1.0//EN
CALSCALE:GREGORIAN
METHOD:PUBLISH
X-WR-CALNAME:Michael D&#039;Amore
X-ORIGINAL-URL:https://michaeldamore.com
X-WR-CALDESC:Events for Michael D&#039;Amore
REFRESH-INTERVAL;VALUE=DURATION:PT1H
X-Robots-Tag:noindex
X-PUBLISHED-TTL:PT1H
BEGIN:VTIMEZONE
TZID:America/New_York
BEGIN:DAYLIGHT
TZOFFSETFROM:-0500
TZOFFSETTO:-0400
TZNAME:EDT
DTSTART:20210314T070000
END:DAYLIGHT
BEGIN:STANDARD
TZOFFSETFROM:-0400
TZOFFSETTO:-0500
TZNAME:EST
DTSTART:20211107T060000
END:STANDARD
BEGIN:DAYLIGHT
TZOFFSETFROM:-0500
TZOFFSETTO:-0400
TZNAME:EDT
DTSTART:20220313T070000
END:DAYLIGHT
BEGIN:STANDARD
TZOFFSETFROM:-0400
TZOFFSETTO:-0500
TZNAME:EST
DTSTART:20221106T060000
END:STANDARD
BEGIN:DAYLIGHT
TZOFFSETFROM:-0500
TZOFFSETTO:-0400
TZNAME:EDT
DTSTART:20230312T070000
END:DAYLIGHT
BEGIN:STANDARD
TZOFFSETFROM:-0400
TZOFFSETTO:-0500
TZNAME:EST
DTSTART:20231105T060000
END:STANDARD
BEGIN:DAYLIGHT
TZOFFSETFROM:-0500
TZOFFSETTO:-0400
TZNAME:EDT
DTSTART:20240310T070000
END:DAYLIGHT
BEGIN:STANDARD
TZOFFSETFROM:-0400
TZOFFSETTO:-0500
TZNAME:EST
DTSTART:20241103T060000
END:STANDARD
BEGIN:DAYLIGHT
TZOFFSETFROM:-0500
TZOFFSETTO:-0400
TZNAME:EDT
DTSTART:20250309T070000
END:DAYLIGHT
BEGIN:STANDARD
TZOFFSETFROM:-0400
TZOFFSETTO:-0500
TZNAME:EST
DTSTART:20251102T060000
END:STANDARD
BEGIN:DAYLIGHT
TZOFFSETFROM:-0500
TZOFFSETTO:-0400
TZNAME:EDT
DTSTART:20260308T070000
END:DAYLIGHT
BEGIN:STANDARD
TZOFFSETFROM:-0400
TZOFFSETTO:-0500
TZNAME:EST
DTSTART:20261101T060000
END:STANDARD
END:VTIMEZONE
BEGIN:VEVENT
DTSTART;TZID=America/New_York:20251109T093000
DTEND;TZID=America/New_York:20251115T110000
DTSTAMP:20260420T175042
CREATED:20250802T185134Z
LAST-MODIFIED:20250802T190002Z
UID:5962-1762680600-1763204400@michaeldamore.com
SUMMARY:The Ben Allen Band & Michael D'Amore Aboard The Celebrity Silhouette
DESCRIPTION:We are so excited to be sailing on The Celebrity Silhouette\n\nWe will be departing out of Fort Lauderdale Florida and cruising to some amazing ports.  We can’t wait to entertain everyone and have fun with everybody in the group.\nDon’t forget these prices include …  Prepaid Gratuities\, The Beverage Package\, Wi-Fi amongst other things!!!\n\nDon’t wait to call….\nYou can reach Melissa at 908-418-7062.\nCall to ask any and all of your questions and get booked for a fun filled week.\n  \n 
URL:https://michaeldamore.com/event/the-ben-allen-band-michael-damore-aboard-the-celebrity-silhouette/
LOCATION:Melissa D’Amore – Expedia Cruises Land Air and Sea
CATEGORIES:Cruisin' With Michael D'Amore,One Man Show
ATTACH;FMTTYPE=image/jpeg:https://michaeldamore.com/wp-content/uploads/2025/08/Ben-Allen-Michael-DAmore-Cruise-Flyer-Silhouette-11-9-25-WHITE-Call-for-price-copy-1-scaled.jpg
END:VEVENT
BEGIN:VEVENT
DTSTART;TZID=America/New_York:20250119T110000
DTEND;TZID=America/New_York:20250126T110000
DTSTAMP:20260420T175042
CREATED:20240919T144924Z
LAST-MODIFIED:20240919T145017Z
UID:5416-1737284400-1737889200@michaeldamore.com
SUMMARY:Cruisin' With Michael D'Amore Aboard The Celebrity Reflection
DESCRIPTION:We are so excited to be sailing on The Celebrity Constellation\n\nWe will be departing out of Tampa Florida.  I can’t wait to entertain everyone and have fun with everybody in the group.\nDon’t forget these prices include The Beverage Package & Wi-Fi amongst other things!!!\n\nDon’t wait to call….\nYou can reach Melissa at 908-418-7062.\nCall to ask any and all of your questions and get booked for a fun filled week.\n 
URL:https://michaeldamore.com/event/cruisin-with-michael-damore-aboard-the-celebrity-reflection-2/
LOCATION:Melissa D’Amore – Expedia Cruises Land Air and Sea
CATEGORIES:Cruisin' With Michael D'Amore,One Man Show
ATTACH;FMTTYPE=image/jpeg:https://michaeldamore.com/wp-content/uploads/2023/12/MOST-CURRENT-Jan-2025-Michael-DAmore-Celebrity-Constellation-copy-scaled.jpg
END:VEVENT
BEGIN:VEVENT
DTSTART;TZID=America/New_York:20240302T093000
DTEND;TZID=America/New_York:20240309T140000
DTSTAMP:20260420T175042
CREATED:20231104T113000Z
LAST-MODIFIED:20231104T113000Z
UID:5145-1709371800-1709992800@michaeldamore.com
SUMMARY:Cruisin' With Michael D'Amore Aboard The Princess "Sky Princess"
DESCRIPTION:We are so excited to be sailing on The Sky Princess\n\nWe will be departing out of Fort Lauderdale Florida and cruising to some amazing ports.  I can’t wait to entertain everyone and have fun with everybody in the group.\nDon’t forget these prices include everything…  Prepaid Gratuities\, The Beverage Package\, Wi-Fi amongst other things!!!\n\nDon’t wait to call….\nYou can reach Melissa at 908-418-7062.\nCall to ask any and all of your questions and get booked for a fun filled week.\n 
URL:https://michaeldamore.com/event/cruisin-with-michael-damore-aboard-the-sky-princess/
LOCATION:Melissa D’Amore – Expedia Cruises Land Air and Sea
CATEGORIES:Cruisin' With Michael D'Amore,One Man Show
ATTACH;FMTTYPE=image/jpeg:https://michaeldamore.com/wp-content/uploads/2023/10/Sky-Princess-Cruise-Mar-2-2024-final-copy.jpg
END:VEVENT
BEGIN:VEVENT
DTSTART;TZID=America/New_York:20231112T093000
DTEND;TZID=America/New_York:20231119T110000
DTSTAMP:20260420T175042
CREATED:20230329T214735Z
LAST-MODIFIED:20231008T015656Z
UID:4731-1699781400-1700391600@michaeldamore.com
SUMMARY:Cruisin' With Michael D'Amore Aboard The Celebrity Reflection
DESCRIPTION:We are so excited to be sailing on The Celebrity Reflection\n\nWe will be departing out of Fort Lauderdale Florida and cruising to some amazing ports.  I can’t wait to entertain everyone and have fun with everybody in the group.\nDon’t forget these prices include everything…  Prepaid Gratuities\, The Beverage Package\, Wi-Fi amongst other things!!!\n\nDon’t wait to call….\nYou can reach Melissa at 908-418-7062.\nCall to ask any and all of your questions and get booked for a fun filled week.\n 
URL:https://michaeldamore.com/event/cruisin-with-michael-damore-aboard-the-celebrity-reflection/
LOCATION:Melissa D’Amore – Expedia Cruises Land Air and Sea
CATEGORIES:Cruisin' With Michael D'Amore,One Man Show
ATTACH;FMTTYPE=image/jpeg:https://michaeldamore.com/wp-content/uploads/2023/03/MOST-CURRENT-Nov-2023-Michael-DAmore-Reflection-Best-Pricing-copy-1130x1536-1.jpg
END:VEVENT
BEGIN:VEVENT
DTSTART;TZID=America/New_York:20221114T133000
DTEND;TZID=America/New_York:20221119T170000
DTSTAMP:20260420T175042
CREATED:20220603T162546Z
LAST-MODIFIED:20220812T231653Z
UID:3968-1668432600-1668877200@michaeldamore.com
SUMMARY:Cruisin' With Michael D'Amore Aboard The Celebrity Summit
DESCRIPTION:We are so excited to be sailing on The Celebrity Summit\n\nWe will be departing out of Miami Florida and cruising to some amazing ports.  I can’t wait to entertain everyone and have fun with everybody in the group.\nDon’t forget these prices include everything…  Prepaid Tax and Gratuities\, The Beverage Package\, Wi-Fi amongst other things!!!\n\nDon’t wait to call….\nYou can reach Melissa at 908-418-7062.\nCall to ask any and all of your questions and get booked for a fun filled week.\n 
URL:https://michaeldamore.com/event/cruisin-with-michael-damore-the-summit/
LOCATION:Melissa D’Amore – Expedia Cruises Land Air and Sea
CATEGORIES:Cruisin' With Michael D'Amore,One Man Show
END:VEVENT
END:VCALENDAR