BEGIN:VCALENDAR
VERSION:2.0
PRODID:-//Michael D&#039;Amore - ECPv6.15.20//NONSGML v1.0//EN
CALSCALE:GREGORIAN
METHOD:PUBLISH
X-ORIGINAL-URL:https://michaeldamore.com
X-WR-CALDESC:Events for Michael D&#039;Amore
REFRESH-INTERVAL;VALUE=DURATION:PT1H
X-Robots-Tag:noindex
X-PUBLISHED-TTL:PT1H
BEGIN:VTIMEZONE
TZID:UTC
BEGIN:STANDARD
TZOFFSETFROM:+0000
TZOFFSETTO:+0000
TZNAME:UTC
DTSTART:20210101T000000
END:STANDARD
END:VTIMEZONE
BEGIN:VTIMEZONE
TZID:America/New_York
BEGIN:DAYLIGHT
TZOFFSETFROM:-0500
TZOFFSETTO:-0400
TZNAME:EDT
DTSTART:20210314T070000
END:DAYLIGHT
BEGIN:STANDARD
TZOFFSETFROM:-0400
TZOFFSETTO:-0500
TZNAME:EST
DTSTART:20211107T060000
END:STANDARD
BEGIN:DAYLIGHT
TZOFFSETFROM:-0500
TZOFFSETTO:-0400
TZNAME:EDT
DTSTART:20220313T070000
END:DAYLIGHT
BEGIN:STANDARD
TZOFFSETFROM:-0400
TZOFFSETTO:-0500
TZNAME:EST
DTSTART:20221106T060000
END:STANDARD
BEGIN:DAYLIGHT
TZOFFSETFROM:-0500
TZOFFSETTO:-0400
TZNAME:EDT
DTSTART:20230312T070000
END:DAYLIGHT
BEGIN:STANDARD
TZOFFSETFROM:-0400
TZOFFSETTO:-0500
TZNAME:EST
DTSTART:20231105T060000
END:STANDARD
END:VTIMEZONE
BEGIN:VEVENT
DTSTART;TZID=UTC:20220605T160000
DTEND;TZID=UTC:20220605T160000
DTSTAMP:20260423T233110
CREATED:20220321T085050Z
LAST-MODIFIED:20220321T085050Z
UID:3835-1654444800-1654444800@michaeldamore.com
SUMMARY:Cass Cay
DESCRIPTION:
URL:https://michaeldamore.com/event/cass-cay-48/
LOCATION:Cass Cay\, 3200 Marcumbe Key Road\, Punta Gorda\, FL\, 33955\, United States
CATEGORIES:One Man Show
ATTACH;FMTTYPE=image/jpeg:https://michaeldamore.com/wp-content/uploads/2015/10/CassCayRestaurant.jpg
END:VEVENT
BEGIN:VEVENT
DTSTART;TZID=America/New_York:20220606T173000
DTEND;TZID=America/New_York:20220606T173000
DTSTAMP:20260423T233110
CREATED:20220321T090057Z
LAST-MODIFIED:20220321T090057Z
UID:3855-1654536600-1654536600@michaeldamore.com
SUMMARY:Island View Restaurant
DESCRIPTION:A show with a view.   You don’t want to miss the sunset.\nDon’t wait to make your reservations.\n  \nCall (239) 463-5550 for your reservations
URL:https://michaeldamore.com/event/island-view-restaurant-44/
LOCATION:Lani Kai Island Resort\, 1400 Estero Blvd.\, Fort Myers Beach\, Fl\, 33931
CATEGORIES:One Man Show
ATTACH;FMTTYPE=image/png:https://michaeldamore.com/wp-content/uploads/2021/06/Island-View-Restaurant-Logo.png
END:VEVENT
BEGIN:VEVENT
DTSTART;TZID=UTC:20220608T183000
DTEND;TZID=UTC:20220608T183000
DTSTAMP:20260423T233110
CREATED:20220504T152039Z
LAST-MODIFIED:20220504T152039Z
UID:3902-1654713000-1654713000@michaeldamore.com
SUMMARY:Dogtooth Sports & Music Bar
DESCRIPTION:Reservations are strongly recommended!!! \n  \nI look forward to seeing you there. \n 
URL:https://michaeldamore.com/event/dogtooth-sports-music-bar-47/
LOCATION:Dogtooth Sports and Music Bar\, 5310 Shirley St.\, Naples\, FL\, 34109\, United States
CATEGORIES:One Man Show
ATTACH;FMTTYPE=image/jpeg:https://michaeldamore.com/wp-content/uploads/2019/08/Dogtooth-Logo-3.jpg
END:VEVENT
BEGIN:VEVENT
DTSTART;TZID=America/New_York:20220609T190000
DTEND;TZID=America/New_York:20220609T190000
DTSTAMP:20260423T233110
CREATED:20220504T160708Z
LAST-MODIFIED:20220504T161225Z
UID:3918-1654801200-1654801200@michaeldamore.com
SUMMARY:Sneaky Pete's
DESCRIPTION:
URL:https://michaeldamore.com/event/sneaky-petes-6/
LOCATION:Sneaky Pete’s\, 3465 Bonita Beach Rd\, Bonita Springs\, FL\, 34134
CATEGORIES:One Man Show
END:VEVENT
BEGIN:VEVENT
DTSTART;TZID=UTC:20220616T190000
DTEND;TZID=UTC:20220616T190000
DTSTAMP:20260423T233110
CREATED:20220227T162032Z
LAST-MODIFIED:20220227T162032Z
UID:3806-1655406000-1655406000@michaeldamore.com
SUMMARY:Cape Cabaret
DESCRIPTION:Call For Reservations\n$10.00 Entertainment Cover Charge
URL:https://michaeldamore.com/event/cape-cabaret-33/
LOCATION:Cape Cabaret\, 4725 Vincennes Blvd\, Cape Coral\, Fl\, 33904\, United States
CATEGORIES:One Man Show
END:VEVENT
BEGIN:VEVENT
DTSTART;TZID=UTC:20220619T160000
DTEND;TZID=UTC:20220619T160000
DTSTAMP:20260423T233110
CREATED:20220321T085127Z
LAST-MODIFIED:20220321T085127Z
UID:3837-1655654400-1655654400@michaeldamore.com
SUMMARY:Cass Cay
DESCRIPTION:
URL:https://michaeldamore.com/event/cass-cay-49/
LOCATION:Cass Cay\, 3200 Marcumbe Key Road\, Punta Gorda\, FL\, 33955\, United States
CATEGORIES:One Man Show
ATTACH;FMTTYPE=image/jpeg:https://michaeldamore.com/wp-content/uploads/2015/10/CassCayRestaurant.jpg
END:VEVENT
BEGIN:VEVENT
DTSTART;TZID=America/New_York:20220625T180000
DTEND;TZID=America/New_York:20220625T180000
DTSTAMP:20260423T233110
CREATED:20220609T143615Z
LAST-MODIFIED:20220609T143615Z
UID:4019-1656180000-1656180000@michaeldamore.com
SUMMARY:
DESCRIPTION:The Westlake Italian American Cultural Club Presents\nA Night To Remember\n  \nDinner and Show is $45.00 per person.  Don’t wait to get your seats while seat are still available\n  \nCall Linda Antico at 732-598-9935 for tickets
URL:https://michaeldamore.com/event/4019/
LOCATION:Westlake Golf and Country Club\, 1 Pine Lake Circle\, Jackson Township\, NJ\, 08527
CATEGORIES:One Man Show
ATTACH;FMTTYPE=image/jpeg:https://michaeldamore.com/wp-content/uploads/2022/06/Flyer-Westlake-CC-6-25-22-copy.jpg
END:VEVENT
END:VCALENDAR