BEGIN:VCALENDAR
VERSION:2.0
PRODID:-//Michael D&#039;Amore - ECPv6.15.20//NONSGML v1.0//EN
CALSCALE:GREGORIAN
METHOD:PUBLISH
X-WR-CALNAME:Michael D&#039;Amore
X-ORIGINAL-URL:https://michaeldamore.com
X-WR-CALDESC:Events for Michael D&#039;Amore
REFRESH-INTERVAL;VALUE=DURATION:PT1H
X-Robots-Tag:noindex
X-PUBLISHED-TTL:PT1H
BEGIN:VTIMEZONE
TZID:America/New_York
BEGIN:DAYLIGHT
TZOFFSETFROM:-0500
TZOFFSETTO:-0400
TZNAME:EDT
DTSTART:20210314T070000
END:DAYLIGHT
BEGIN:STANDARD
TZOFFSETFROM:-0400
TZOFFSETTO:-0500
TZNAME:EST
DTSTART:20211107T060000
END:STANDARD
BEGIN:DAYLIGHT
TZOFFSETFROM:-0500
TZOFFSETTO:-0400
TZNAME:EDT
DTSTART:20220313T070000
END:DAYLIGHT
BEGIN:STANDARD
TZOFFSETFROM:-0400
TZOFFSETTO:-0500
TZNAME:EST
DTSTART:20221106T060000
END:STANDARD
BEGIN:DAYLIGHT
TZOFFSETFROM:-0500
TZOFFSETTO:-0400
TZNAME:EDT
DTSTART:20230312T070000
END:DAYLIGHT
BEGIN:STANDARD
TZOFFSETFROM:-0400
TZOFFSETTO:-0500
TZNAME:EST
DTSTART:20231105T060000
END:STANDARD
END:VTIMEZONE
BEGIN:VTIMEZONE
TZID:UTC
BEGIN:STANDARD
TZOFFSETFROM:+0000
TZOFFSETTO:+0000
TZNAME:UTC
DTSTART:20210101T000000
END:STANDARD
END:VTIMEZONE
BEGIN:VEVENT
DTSTART;TZID=America/New_York:20220902T190000
DTEND;TZID=America/New_York:20220902T190000
DTSTAMP:20260423T175127
CREATED:20220504T155015Z
LAST-MODIFIED:20220504T155015Z
UID:3910-1662145200-1662145200@michaeldamore.com
SUMMARY:Lead East 2022
DESCRIPTION:Lead East 2022\nFriday Night Concert\nLead East 40th Anniversary\nFriday Night Show\nMichael D’Amore\nThe Variations\n  \n 
URL:https://michaeldamore.com/event/lead-east-2022/
LOCATION:Lead East – Parsippany Hilton Hotel\, 1 Hilton Ct\,\, Parsippany\, NJ\, 07054
CATEGORIES:One Man Show
ATTACH;FMTTYPE=image/jpeg:https://michaeldamore.com/wp-content/uploads/2022/05/flyer-Lead-east-2022.jpg
END:VEVENT
BEGIN:VEVENT
DTSTART;TZID=UTC:20220907T183000
DTEND;TZID=UTC:20220907T183000
DTSTAMP:20260423T175127
CREATED:20220504T152515Z
LAST-MODIFIED:20220504T152515Z
UID:3908-1662575400-1662575400@michaeldamore.com
SUMMARY:Dogtooth Sports & Music Bar
DESCRIPTION:Reservations are strongly recommended!!! \n  \nI look forward to seeing you there. \n 
URL:https://michaeldamore.com/event/dogtooth-sports-music-bar-50/
LOCATION:Dogtooth Sports and Music Bar\, 5310 Shirley St.\, Naples\, FL\, 34109\, United States
CATEGORIES:One Man Show
ATTACH;FMTTYPE=image/jpeg:https://michaeldamore.com/wp-content/uploads/2019/08/Dogtooth-Logo-3.jpg
END:VEVENT
BEGIN:VEVENT
DTSTART;TZID=UTC:20220908T190000
DTEND;TZID=UTC:20220908T190000
DTSTAMP:20260423T175127
CREATED:20220321T085418Z
LAST-MODIFIED:20220321T085418Z
UID:3843-1662663600-1662663600@michaeldamore.com
SUMMARY:Cape Cabaret
DESCRIPTION:Call For Reservations\n$10.00 Entertainment Cover Charge
URL:https://michaeldamore.com/event/cape-cabaret-35/
LOCATION:Cape Cabaret\, 4725 Vincennes Blvd\, Cape Coral\, Fl\, 33904\, United States
CATEGORIES:One Man Show
END:VEVENT
BEGIN:VEVENT
DTSTART;TZID=America/New_York:20220912T173000
DTEND;TZID=America/New_York:20220912T173000
DTSTAMP:20260423T175127
CREATED:20220622T180440Z
LAST-MODIFIED:20220622T180440Z
UID:4176-1663003800-1663003800@michaeldamore.com
SUMMARY:Island View Restaurant
DESCRIPTION:A show with a view.   You don’t want to miss the sunset.\nDon’t wait to make your reservations.\n  \nCall (239) 463-5550 for your reservations
URL:https://michaeldamore.com/event/island-view-restaurant-50/
LOCATION:Lani Kai Island Resort\, 1400 Estero Blvd.\, Fort Myers Beach\, Fl\, 33931
CATEGORIES:One Man Show
ATTACH;FMTTYPE=image/png:https://michaeldamore.com/wp-content/uploads/2021/06/Island-View-Restaurant-Logo.png
END:VEVENT
BEGIN:VEVENT
DTSTART;TZID=America/New_York:20220913T173000
DTEND;TZID=America/New_York:20220913T173000
DTSTAMP:20260423T175127
CREATED:20220622T180522Z
LAST-MODIFIED:20220622T180522Z
UID:4178-1663090200-1663090200@michaeldamore.com
SUMMARY:Island View Restaurant
DESCRIPTION:A show with a view.   You don’t want to miss the sunset.\nDon’t wait to make your reservations.\n  \nCall (239) 463-5550 for your reservations
URL:https://michaeldamore.com/event/island-view-restaurant-51/
LOCATION:Lani Kai Island Resort\, 1400 Estero Blvd.\, Fort Myers Beach\, Fl\, 33931
CATEGORIES:One Man Show
ATTACH;FMTTYPE=image/png:https://michaeldamore.com/wp-content/uploads/2021/06/Island-View-Restaurant-Logo.png
END:VEVENT
END:VCALENDAR