BEGIN:VCALENDAR
VERSION:2.0
PRODID:-//Michael D&#039;Amore - ECPv6.15.20//NONSGML v1.0//EN
CALSCALE:GREGORIAN
METHOD:PUBLISH
X-ORIGINAL-URL:https://michaeldamore.com
X-WR-CALDESC:Events for Michael D&#039;Amore
REFRESH-INTERVAL;VALUE=DURATION:PT1H
X-Robots-Tag:noindex
X-PUBLISHED-TTL:PT1H
BEGIN:VTIMEZONE
TZID:America/New_York
BEGIN:DAYLIGHT
TZOFFSETFROM:-0500
TZOFFSETTO:-0400
TZNAME:EDT
DTSTART:20210314T070000
END:DAYLIGHT
BEGIN:STANDARD
TZOFFSETFROM:-0400
TZOFFSETTO:-0500
TZNAME:EST
DTSTART:20211107T060000
END:STANDARD
BEGIN:DAYLIGHT
TZOFFSETFROM:-0500
TZOFFSETTO:-0400
TZNAME:EDT
DTSTART:20220313T070000
END:DAYLIGHT
BEGIN:STANDARD
TZOFFSETFROM:-0400
TZOFFSETTO:-0500
TZNAME:EST
DTSTART:20221106T060000
END:STANDARD
BEGIN:DAYLIGHT
TZOFFSETFROM:-0500
TZOFFSETTO:-0400
TZNAME:EDT
DTSTART:20230312T070000
END:DAYLIGHT
BEGIN:STANDARD
TZOFFSETFROM:-0400
TZOFFSETTO:-0500
TZNAME:EST
DTSTART:20231105T060000
END:STANDARD
END:VTIMEZONE
BEGIN:VTIMEZONE
TZID:UTC
BEGIN:STANDARD
TZOFFSETFROM:+0000
TZOFFSETTO:+0000
TZNAME:UTC
DTSTART:20210101T000000
END:STANDARD
END:VTIMEZONE
BEGIN:VEVENT
DTSTART;TZID=America/New_York:20221114T133000
DTEND;TZID=America/New_York:20221119T170000
DTSTAMP:20260423T141707
CREATED:20220603T162546Z
LAST-MODIFIED:20220812T231653Z
UID:3968-1668432600-1668877200@michaeldamore.com
SUMMARY:Cruisin' With Michael D'Amore Aboard The Celebrity Summit
DESCRIPTION:We are so excited to be sailing on The Celebrity Summit\n\nWe will be departing out of Miami Florida and cruising to some amazing ports.  I can’t wait to entertain everyone and have fun with everybody in the group.\nDon’t forget these prices include everything…  Prepaid Tax and Gratuities\, The Beverage Package\, Wi-Fi amongst other things!!!\n\nDon’t wait to call….\nYou can reach Melissa at 908-418-7062.\nCall to ask any and all of your questions and get booked for a fun filled week.\n 
URL:https://michaeldamore.com/event/cruisin-with-michael-damore-the-summit/
LOCATION:Melissa D’Amore – Expedia Cruises Land Air and Sea
CATEGORIES:Cruisin' With Michael D'Amore,One Man Show
END:VEVENT
BEGIN:VEVENT
DTSTART;TZID=UTC:20221123T183000
DTEND;TZID=UTC:20221123T183000
DTSTAMP:20260423T141707
CREATED:20220811T195502Z
LAST-MODIFIED:20220811T195502Z
UID:4329-1669228200-1669228200@michaeldamore.com
SUMMARY:Dogtooth Sports & Music Bar
DESCRIPTION:Reservations are strongly recommended!!! \n  \nI look forward to seeing you there. \n 
URL:https://michaeldamore.com/event/dogtooth-sports-music-bar-52/
LOCATION:Dogtooth Sports and Music Bar\, 5310 Shirley St.\, Naples\, FL\, 34109\, United States
CATEGORIES:One Man Show
ATTACH;FMTTYPE=image/jpeg:https://michaeldamore.com/wp-content/uploads/2019/08/Dogtooth-Logo-3.jpg
END:VEVENT
BEGIN:VEVENT
DTSTART;TZID=UTC:20221130T190000
DTEND;TZID=UTC:20221130T190000
DTSTAMP:20260423T141707
CREATED:20220622T173550Z
LAST-MODIFIED:20220622T173550Z
UID:4155-1669834800-1669834800@michaeldamore.com
SUMMARY:Cape Cabaret
DESCRIPTION:Call For Reservations\n$10.00 Entertainment Cover Charge
URL:https://michaeldamore.com/event/cape-cabaret-37/
LOCATION:Cape Cabaret\, 4725 Vincennes Blvd\, Cape Coral\, Fl\, 33904\, United States
CATEGORIES:One Man Show
END:VEVENT
END:VCALENDAR