BEGIN:VCALENDAR
VERSION:2.0
PRODID:-//Michael D&#039;Amore - ECPv6.15.20//NONSGML v1.0//EN
CALSCALE:GREGORIAN
METHOD:PUBLISH
X-ORIGINAL-URL:https://michaeldamore.com
X-WR-CALDESC:Events for Michael D&#039;Amore
REFRESH-INTERVAL;VALUE=DURATION:PT1H
X-Robots-Tag:noindex
X-PUBLISHED-TTL:PT1H
BEGIN:VTIMEZONE
TZID:UTC
BEGIN:STANDARD
TZOFFSETFROM:+0000
TZOFFSETTO:+0000
TZNAME:UTC
DTSTART:20220101T000000
END:STANDARD
END:VTIMEZONE
BEGIN:VTIMEZONE
TZID:America/New_York
BEGIN:DAYLIGHT
TZOFFSETFROM:-0500
TZOFFSETTO:-0400
TZNAME:EDT
DTSTART:20220313T070000
END:DAYLIGHT
BEGIN:STANDARD
TZOFFSETFROM:-0400
TZOFFSETTO:-0500
TZNAME:EST
DTSTART:20221106T060000
END:STANDARD
BEGIN:DAYLIGHT
TZOFFSETFROM:-0500
TZOFFSETTO:-0400
TZNAME:EDT
DTSTART:20230312T070000
END:DAYLIGHT
BEGIN:STANDARD
TZOFFSETFROM:-0400
TZOFFSETTO:-0500
TZNAME:EST
DTSTART:20231105T060000
END:STANDARD
BEGIN:DAYLIGHT
TZOFFSETFROM:-0500
TZOFFSETTO:-0400
TZNAME:EDT
DTSTART:20240310T070000
END:DAYLIGHT
BEGIN:STANDARD
TZOFFSETFROM:-0400
TZOFFSETTO:-0500
TZNAME:EST
DTSTART:20241103T060000
END:STANDARD
END:VTIMEZONE
BEGIN:VEVENT
DTSTART;TZID=UTC:20230604T140000
DTEND;TZID=UTC:20230604T170000
DTSTAMP:20260423T021310
CREATED:20230417T134845Z
LAST-MODIFIED:20230417T135131Z
UID:4783-1685887200-1685898000@michaeldamore.com
SUMMARY:Cass Cay
DESCRIPTION:Please note that we are changing the start time to 2:00 PM.\nI can’t wait to see everyone.
URL:https://michaeldamore.com/event/cass-cay-58/
LOCATION:Cass Cay\, 3200 Marcumbe Key Road\, Punta Gorda\, FL\, 33955\, United States
CATEGORIES:One Man Show
ATTACH;FMTTYPE=image/jpeg:https://michaeldamore.com/wp-content/uploads/2015/10/CassCayRestaurant.jpg
END:VEVENT
BEGIN:VEVENT
DTSTART;TZID=UTC:20230607T183000
DTEND;TZID=UTC:20230607T183000
DTSTAMP:20260423T021310
CREATED:20230329T213337Z
LAST-MODIFIED:20230329T213337Z
UID:4709-1686162600-1686162600@michaeldamore.com
SUMMARY:Dogtooth Sports & Music Bar
DESCRIPTION:Reservations are strongly recommended!!! \n  \nI look forward to seeing you there. \n 
URL:https://michaeldamore.com/event/dogtooth-sports-music-bar-62/
LOCATION:Dogtooth Sports and Music Bar\, 5310 Shirley St.\, Naples\, FL\, 34109\, United States
CATEGORIES:One Man Show
ATTACH;FMTTYPE=image/jpeg:https://michaeldamore.com/wp-content/uploads/2019/08/Dogtooth-Logo-3.jpg
END:VEVENT
BEGIN:VEVENT
DTSTART;TZID=UTC:20230612T180000
DTEND;TZID=UTC:20230612T180000
DTSTAMP:20260423T021310
CREATED:20230421T033801Z
LAST-MODIFIED:20230421T033817Z
UID:4820-1686592800-1686592800@michaeldamore.com
SUMMARY:Ristorante Limoncello
DESCRIPTION:  \n  \n  \nCall For Reservations (239) 260-7478
URL:https://michaeldamore.com/event/ristorante-limoncello-12/
LOCATION:Limoncello\, 13800 Tamiami Trail\, North Naples\, FL\, 34110\, United States
CATEGORIES:One Man Show
ATTACH;FMTTYPE=image/jpeg:https://michaeldamore.com/wp-content/uploads/2023/04/Limoncello-Logo-copy.jpg
END:VEVENT
BEGIN:VEVENT
DTSTART;TZID=UTC:20230621T190000
DTEND;TZID=UTC:20230621T190000
DTSTAMP:20260423T021310
CREATED:20230329T213655Z
LAST-MODIFIED:20230329T213655Z
UID:4717-1687374000-1687374000@michaeldamore.com
SUMMARY:Cape Cabaret
DESCRIPTION:Call For Reservations\n$10.00 Entertainment Cover Charge
URL:https://michaeldamore.com/event/cape-cabaret-44/
LOCATION:Cape Cabaret\, 4725 Vincennes Blvd\, Cape Coral\, Fl\, 33904\, United States
CATEGORIES:One Man Show
END:VEVENT
BEGIN:VEVENT
DTSTART;TZID=America/New_York:20230622T180000
DTEND;TZID=America/New_York:20230622T180000
DTSTAMP:20260423T021310
CREATED:20230516T023954Z
LAST-MODIFIED:20230606T164916Z
UID:4841-1687456800-1687456800@michaeldamore.com
SUMMARY:Giuseppe and the Lion
DESCRIPTION:
URL:https://michaeldamore.com/event/giuseppe-and-the-lion/
LOCATION:Giuseppe and the Lion\, 1585 Pine Ridge Rd\, Naples\, FL\, 34109
CATEGORIES:One Man Show
ATTACH;FMTTYPE=image/webp:https://michaeldamore.com/wp-content/uploads/2023/05/giuseppe-and-the-lion-logo-dark.webp
END:VEVENT
BEGIN:VEVENT
DTSTART;TZID=UTC:20230625T140000
DTEND;TZID=UTC:20230625T170000
DTSTAMP:20260423T021310
CREATED:20230419T162230Z
LAST-MODIFIED:20230606T133709Z
UID:4788-1687701600-1687712400@michaeldamore.com
SUMMARY:Cass Cay
DESCRIPTION:Please note that we are changing the start time to 2:00 PM.\nI can’t wait to see everyone.
URL:https://michaeldamore.com/event/cass-cay-59/
LOCATION:Cass Cay\, 3200 Marcumbe Key Road\, Punta Gorda\, FL\, 33955\, United States
CATEGORIES:One Man Show
ATTACH;FMTTYPE=image/jpeg:https://michaeldamore.com/wp-content/uploads/2015/10/CassCayRestaurant.jpg
END:VEVENT
BEGIN:VEVENT
DTSTART;TZID=UTC:20230626T180000
DTEND;TZID=UTC:20230626T180000
DTSTAMP:20260423T021310
CREATED:20230421T033859Z
LAST-MODIFIED:20230421T033859Z
UID:4822-1687802400-1687802400@michaeldamore.com
SUMMARY:Ristorante Limoncello
DESCRIPTION:  \n  \n  \nCall For Reservations (239) 260-7478
URL:https://michaeldamore.com/event/ristorante-limoncello-13/
LOCATION:Limoncello\, 13800 Tamiami Trail\, North Naples\, FL\, 34110\, United States
CATEGORIES:One Man Show
ATTACH;FMTTYPE=image/jpeg:https://michaeldamore.com/wp-content/uploads/2023/04/Limoncello-Logo-copy.jpg
END:VEVENT
BEGIN:VEVENT
DTSTART;TZID=UTC:20230628T183000
DTEND;TZID=UTC:20230628T183000
DTSTAMP:20260423T021310
CREATED:20230329T213415Z
LAST-MODIFIED:20230329T213415Z
UID:4711-1687977000-1687977000@michaeldamore.com
SUMMARY:Dogtooth Sports & Music Bar
DESCRIPTION:Reservations are strongly recommended!!! \n  \nI look forward to seeing you there. \n 
URL:https://michaeldamore.com/event/dogtooth-sports-music-bar-63/
LOCATION:Dogtooth Sports and Music Bar\, 5310 Shirley St.\, Naples\, FL\, 34109\, United States
CATEGORIES:One Man Show
ATTACH;FMTTYPE=image/jpeg:https://michaeldamore.com/wp-content/uploads/2019/08/Dogtooth-Logo-3.jpg
END:VEVENT
END:VCALENDAR