BEGIN:VCALENDAR
VERSION:2.0
PRODID:-//Michael D&#039;Amore - ECPv6.15.20//NONSGML v1.0//EN
CALSCALE:GREGORIAN
METHOD:PUBLISH
X-WR-CALNAME:Michael D&#039;Amore
X-ORIGINAL-URL:https://michaeldamore.com
X-WR-CALDESC:Events for Michael D&#039;Amore
REFRESH-INTERVAL;VALUE=DURATION:PT1H
X-Robots-Tag:noindex
X-PUBLISHED-TTL:PT1H
BEGIN:VTIMEZONE
TZID:America/New_York
BEGIN:DAYLIGHT
TZOFFSETFROM:-0500
TZOFFSETTO:-0400
TZNAME:EDT
DTSTART:20220313T070000
END:DAYLIGHT
BEGIN:STANDARD
TZOFFSETFROM:-0400
TZOFFSETTO:-0500
TZNAME:EST
DTSTART:20221106T060000
END:STANDARD
BEGIN:DAYLIGHT
TZOFFSETFROM:-0500
TZOFFSETTO:-0400
TZNAME:EDT
DTSTART:20230312T070000
END:DAYLIGHT
BEGIN:STANDARD
TZOFFSETFROM:-0400
TZOFFSETTO:-0500
TZNAME:EST
DTSTART:20231105T060000
END:STANDARD
BEGIN:DAYLIGHT
TZOFFSETFROM:-0500
TZOFFSETTO:-0400
TZNAME:EDT
DTSTART:20240310T070000
END:DAYLIGHT
BEGIN:STANDARD
TZOFFSETFROM:-0400
TZOFFSETTO:-0500
TZNAME:EST
DTSTART:20241103T060000
END:STANDARD
END:VTIMEZONE
BEGIN:VTIMEZONE
TZID:UTC
BEGIN:STANDARD
TZOFFSETFROM:+0000
TZOFFSETTO:+0000
TZNAME:UTC
DTSTART:20220101T000000
END:STANDARD
END:VTIMEZONE
BEGIN:VEVENT
DTSTART;TZID=America/New_York:20231005T200000
DTEND;TZID=America/New_York:20231005T200000
DTSTAMP:20260422T185049
CREATED:20230322T185503Z
LAST-MODIFIED:20230322T185503Z
UID:4702-1696536000-1696536000@michaeldamore.com
SUMMARY:Michael D'Amore returns to Boca Raton
DESCRIPTION:After the last show\, we had so many people request a return to Boca Raton\nWe made it happen!!!\nWe have an intimate evening planned at The Boca Black Box\nDon’t wait to get your tickets\nCall The Box Office at 561-483-9036
URL:https://michaeldamore.com/event/michael-damore-returns-to-boca-raton/
LOCATION:Boca Black Box\, 8221 Glades Road\, Boca Raton\, FL\, 33434
CATEGORIES:One Man Show
ATTACH;FMTTYPE=image/jpeg:https://michaeldamore.com/wp-content/uploads/2023/03/Flyer-Michael-DAmore-Boca-Black-Box-10-5-23-copy.jpg
END:VEVENT
BEGIN:VEVENT
DTSTART;TZID=America/New_York:20231008T150000
DTEND;TZID=America/New_York:20231008T183000
DTSTAMP:20260422T185049
CREATED:20230908T155909Z
LAST-MODIFIED:20230908T155909Z
UID:4970-1696777200-1696789800@michaeldamore.com
SUMMARY:The Capris come to The Stafford Township Arts Center
DESCRIPTION:On stage this night will be\nThe Capris\nThe Dubs\nKid Kyle\nFrank Pizarro
URL:https://michaeldamore.com/event/the-capris-come-to-the-stafford-township-arts-center/
LOCATION:Stafford Township Arts Center\, 1000 McKinley Ave\, Manahawkin\, NJ\, 08050
CATEGORIES:One Man Show,The Capris
END:VEVENT
BEGIN:VEVENT
DTSTART;TZID=America/New_York:20231010T180000
DTEND;TZID=America/New_York:20231010T180000
DTSTAMP:20260422T185049
CREATED:20230908T160724Z
LAST-MODIFIED:20230908T160724Z
UID:4972-1696960800-1696960800@michaeldamore.com
SUMMARY:Giuseppe and the Lion
DESCRIPTION:
URL:https://michaeldamore.com/event/giuseppe-and-the-lion-4/
LOCATION:Giuseppe and the Lion\, 1585 Pine Ridge Rd\, Naples\, FL\, 34109
CATEGORIES:One Man Show
ATTACH;FMTTYPE=image/jpeg:https://michaeldamore.com/wp-content/uploads/2023/09/Giuseppe-Flyer-Aug-thru-April-2024-copy-e1746273659710.jpg
END:VEVENT
BEGIN:VEVENT
DTSTART;TZID=UTC:20231011T183000
DTEND;TZID=UTC:20231011T183000
DTSTAMP:20260422T185049
CREATED:20230706T200539Z
LAST-MODIFIED:20230706T200539Z
UID:4900-1697049000-1697049000@michaeldamore.com
SUMMARY:Dogtooth Sports & Music Bar
DESCRIPTION:Reservations are strongly recommended!!! \n  \nI look forward to seeing you there. \n 
URL:https://michaeldamore.com/event/dogtooth-sports-music-bar-67/
LOCATION:Dogtooth Sports and Music Bar\, 5310 Shirley St.\, Naples\, FL\, 34109\, United States
CATEGORIES:One Man Show
ATTACH;FMTTYPE=image/jpeg:https://michaeldamore.com/wp-content/uploads/2019/08/Dogtooth-Logo-3.jpg
END:VEVENT
BEGIN:VEVENT
DTSTART;TZID=UTC:20231015T140000
DTEND;TZID=UTC:20231015T170000
DTSTAMP:20260422T185049
CREATED:20230419T162457Z
LAST-MODIFIED:20230419T162457Z
UID:4796-1697378400-1697389200@michaeldamore.com
SUMMARY:Cass Cay
DESCRIPTION:Please note that we are changing the start time to 2:00 PM.\nI can’t wait to see everyone.
URL:https://michaeldamore.com/event/cass-cay-63/
LOCATION:Cass Cay\, 3200 Marcumbe Key Road\, Punta Gorda\, FL\, 33955\, United States
CATEGORIES:One Man Show
ATTACH;FMTTYPE=image/jpeg:https://michaeldamore.com/wp-content/uploads/2015/10/CassCayRestaurant.jpg
END:VEVENT
BEGIN:VEVENT
DTSTART;TZID=UTC:20231018T190000
DTEND;TZID=UTC:20231018T190000
DTSTAMP:20260422T185049
CREATED:20230329T213928Z
LAST-MODIFIED:20230329T213928Z
UID:4725-1697655600-1697655600@michaeldamore.com
SUMMARY:Cape Cabaret
DESCRIPTION:Call For Reservations\n$10.00 Entertainment Cover Charge
URL:https://michaeldamore.com/event/cape-cabaret-48/
LOCATION:Cape Cabaret\, 4725 Vincennes Blvd\, Cape Coral\, Fl\, 33904\, United States
CATEGORIES:One Man Show
END:VEVENT
BEGIN:VEVENT
DTSTART;TZID=America/New_York:20231019T190000
DTEND;TZID=America/New_York:20231019T190000
DTSTAMP:20260422T185049
CREATED:20230423T232558Z
LAST-MODIFIED:20230423T232558Z
UID:4836-1697742000-1697742000@michaeldamore.com
SUMMARY:Sneaky Pete's
DESCRIPTION:
URL:https://michaeldamore.com/event/sneaky-petes-15/
LOCATION:Sneaky Pete’s\, 3465 Bonita Beach Rd\, Bonita Springs\, FL\, 34134
CATEGORIES:One Man Show
END:VEVENT
BEGIN:VEVENT
DTSTART;TZID=UTC:20231021T190000
DTEND;TZID=UTC:20231021T190000
DTSTAMP:20260422T185049
CREATED:20230908T164406Z
LAST-MODIFIED:20230908T164406Z
UID:4989-1697914800-1697914800@michaeldamore.com
SUMMARY:The Capris in Easton PA
DESCRIPTION:LAR ENTERPRISES PRESENTS\nOH WHAT A NIGHT OF ROCK N’ ROLL\nStarring \n The Capris – “There’s A Moon Out Tonight”\nJay Siegals Tokens – “Lion Sleeps Tonight”\nBrian Hyland – “Sealed With A Kiss”\nChris Montez – “Let’s Dance”\nClassic Sounds\n\nHosted by COOL BOBBY B Sirius Radio 50’s on 5\n\n\nYou can purchase tickets at the link above or call (610) 252-3132
URL:https://michaeldamore.com/event/the-capris-in-easton-pa-5/
LOCATION:State Theatre Center for the Arts\, 453 Northampton Street\, Easton\, PA\, 18042\, United States
CATEGORIES:One Man Show,The Capris
ATTACH;FMTTYPE=image/jpeg:https://michaeldamore.com/wp-content/uploads/2023/09/Capris-Promo-Photo-10-w-name-copy-scaled.jpg
END:VEVENT
END:VCALENDAR