BEGIN:VCALENDAR
VERSION:2.0
PRODID:-//Michael D&#039;Amore - ECPv6.15.20//NONSGML v1.0//EN
CALSCALE:GREGORIAN
METHOD:PUBLISH
X-ORIGINAL-URL:https://michaeldamore.com
X-WR-CALDESC:Events for Michael D&#039;Amore
REFRESH-INTERVAL;VALUE=DURATION:PT1H
X-Robots-Tag:noindex
X-PUBLISHED-TTL:PT1H
BEGIN:VTIMEZONE
TZID:UTC
BEGIN:STANDARD
TZOFFSETFROM:+0000
TZOFFSETTO:+0000
TZNAME:UTC
DTSTART:20230101T000000
END:STANDARD
END:VTIMEZONE
BEGIN:VTIMEZONE
TZID:America/New_York
BEGIN:DAYLIGHT
TZOFFSETFROM:-0500
TZOFFSETTO:-0400
TZNAME:EDT
DTSTART:20230312T070000
END:DAYLIGHT
BEGIN:STANDARD
TZOFFSETFROM:-0400
TZOFFSETTO:-0500
TZNAME:EST
DTSTART:20231105T060000
END:STANDARD
BEGIN:DAYLIGHT
TZOFFSETFROM:-0500
TZOFFSETTO:-0400
TZNAME:EDT
DTSTART:20240310T070000
END:DAYLIGHT
BEGIN:STANDARD
TZOFFSETFROM:-0400
TZOFFSETTO:-0500
TZNAME:EST
DTSTART:20241103T060000
END:STANDARD
BEGIN:DAYLIGHT
TZOFFSETFROM:-0500
TZOFFSETTO:-0400
TZNAME:EDT
DTSTART:20250309T070000
END:DAYLIGHT
BEGIN:STANDARD
TZOFFSETFROM:-0400
TZOFFSETTO:-0500
TZNAME:EST
DTSTART:20251102T060000
END:STANDARD
END:VTIMEZONE
BEGIN:VEVENT
DTSTART;TZID=UTC:20240103T183000
DTEND;TZID=UTC:20240103T183000
DTSTAMP:20260422T133534
CREATED:20230908T191552Z
LAST-MODIFIED:20230908T191552Z
UID:5021-1704306600-1704306600@michaeldamore.com
SUMMARY:Dogtooth Sports & Music Bar
DESCRIPTION:Reservations are strongly recommended!!! \n  \nI look forward to seeing you there. \n 
URL:https://michaeldamore.com/event/dogtooth-sports-music-bar-71/
LOCATION:Dogtooth Sports and Music Bar\, 5310 Shirley St.\, Naples\, FL\, 34109\, United States
CATEGORIES:One Man Show
ATTACH;FMTTYPE=image/jpeg:https://michaeldamore.com/wp-content/uploads/2019/08/Dogtooth-Logo-3.jpg
END:VEVENT
BEGIN:VEVENT
DTSTART;TZID=America/New_York:20240104T200000
DTEND;TZID=America/New_York:20240104T200000
DTSTAMP:20260422T133534
CREATED:20231007T164949Z
LAST-MODIFIED:20231010T000521Z
UID:5104-1704398400-1704398400@michaeldamore.com
SUMMARY:Michael D'Amore returns to Boca Raton
DESCRIPTION:After the last show\, we had so many people request a return to Boca Raton\nWe made it happen!!!\nWe have an intimate evening planned at The Boca Black Box\nDon’t wait to get your tickets\nCall The Box Office at 561-483-9036
URL:https://michaeldamore.com/event/michael-damore-returns-to-boca-raton-2/
LOCATION:Boca Black Box\, 8221 Glades Road\, Boca Raton\, FL\, 33434
CATEGORIES:One Man Show
ATTACH;FMTTYPE=image/jpeg:https://michaeldamore.com/wp-content/uploads/2023/10/Flyer-Michael-DAmore-Boca-Black-Box-1-4-24-small-copy-1.jpg
END:VEVENT
BEGIN:VEVENT
DTSTART;TZID=UTC:20240107T160000
DTEND;TZID=UTC:20240107T160000
DTSTAMP:20260422T133534
CREATED:20230928T155012Z
LAST-MODIFIED:20230928T155012Z
UID:5076-1704643200-1704643200@michaeldamore.com
SUMMARY:Cass Cay
DESCRIPTION:
URL:https://michaeldamore.com/event/cass-cay-67/
LOCATION:Cass Cay\, 3200 Marcumbe Key Road\, Punta Gorda\, FL\, 33955\, United States
CATEGORIES:One Man Show
ATTACH;FMTTYPE=image/jpeg:https://michaeldamore.com/wp-content/uploads/2015/10/CassCayRestaurant.jpg
END:VEVENT
BEGIN:VEVENT
DTSTART;TZID=America/New_York:20240110T183000
DTEND;TZID=America/New_York:20240110T183000
DTSTAMP:20260422T133534
CREATED:20230908T171227Z
LAST-MODIFIED:20230908T171227Z
UID:5008-1704911400-1704911400@michaeldamore.com
SUMMARY:Michael D'Amore comes to Mango Rita's Rhythm House
DESCRIPTION:
URL:https://michaeldamore.com/event/michael-damore-comes-to-mango-ritas-rhythm-house-9/
LOCATION:Mango Rita’s Rhythm House\, 16440 S. Tamiami Trail\, Fort Myers\, FL\, 33908\, United States
CATEGORIES:One Man Show
ATTACH;FMTTYPE=image/png:https://michaeldamore.com/wp-content/uploads/2023/09/website-home-page-logo-rythym-house-1.png
END:VEVENT
BEGIN:VEVENT
DTSTART;TZID=UTC:20240117T183000
DTEND;TZID=UTC:20240117T183000
DTSTAMP:20260422T133534
CREATED:20230908T191633Z
LAST-MODIFIED:20230908T191633Z
UID:5023-1705516200-1705516200@michaeldamore.com
SUMMARY:Dogtooth Sports & Music Bar
DESCRIPTION:Reservations are strongly recommended!!! \n  \nI look forward to seeing you there. \n 
URL:https://michaeldamore.com/event/dogtooth-sports-music-bar-72/
LOCATION:Dogtooth Sports and Music Bar\, 5310 Shirley St.\, Naples\, FL\, 34109\, United States
CATEGORIES:One Man Show
ATTACH;FMTTYPE=image/jpeg:https://michaeldamore.com/wp-content/uploads/2019/08/Dogtooth-Logo-3.jpg
END:VEVENT
BEGIN:VEVENT
DTSTART;TZID=America/New_York:20240118T183000
DTEND;TZID=America/New_York:20240118T183000
DTSTAMP:20260422T133534
CREATED:20231007T153921Z
LAST-MODIFIED:20231007T153921Z
UID:5090-1705602600-1705602600@michaeldamore.com
SUMMARY:Michael D'Amore returns to Austin's North Port
DESCRIPTION:Event Room Seating – $15.00 Per Person\nDinner Seating Beginning at 5:00 PM\nBar Seating – $10.00 Per Person (limited visibility)\nShowtime 6:30 PM\nCome on in or call for tickets\n(941) 426-1155\nSeating is limited – tickets will be sold on a first come first serve basis
URL:https://michaeldamore.com/event/michael-damore-returns-to-austins-north-port/
LOCATION:Austin’s North Port\, 14415 Tamiami Trail\, North Port\, FL\, 34287
CATEGORIES:One Man Show
ATTACH;FMTTYPE=image/jpeg:https://michaeldamore.com/wp-content/uploads/2023/10/Flyer-Austins-North-Port-11-2-thru-4-11-copy.jpg
END:VEVENT
BEGIN:VEVENT
DTSTART;TZID=UTC:20240121T160000
DTEND;TZID=UTC:20240121T160000
DTSTAMP:20260422T133534
CREATED:20230928T155050Z
LAST-MODIFIED:20230928T155050Z
UID:5078-1705852800-1705852800@michaeldamore.com
SUMMARY:Cass Cay
DESCRIPTION:
URL:https://michaeldamore.com/event/cass-cay-68/
LOCATION:Cass Cay\, 3200 Marcumbe Key Road\, Punta Gorda\, FL\, 33955\, United States
CATEGORIES:One Man Show
ATTACH;FMTTYPE=image/jpeg:https://michaeldamore.com/wp-content/uploads/2015/10/CassCayRestaurant.jpg
END:VEVENT
BEGIN:VEVENT
DTSTART;TZID=America/New_York:20240123T180000
DTEND;TZID=America/New_York:20240123T180000
DTSTAMP:20260422T133534
CREATED:20230908T160928Z
LAST-MODIFIED:20230908T160928Z
UID:4979-1706032800-1706032800@michaeldamore.com
SUMMARY:Giuseppe and the Lion
DESCRIPTION:
URL:https://michaeldamore.com/event/giuseppe-and-the-lion-7/
LOCATION:Giuseppe and the Lion\, 1585 Pine Ridge Rd\, Naples\, FL\, 34109
CATEGORIES:One Man Show
ATTACH;FMTTYPE=image/jpeg:https://michaeldamore.com/wp-content/uploads/2023/09/Giuseppe-Flyer-Aug-thru-April-2024-copy-e1746273659710.jpg
END:VEVENT
BEGIN:VEVENT
DTSTART;TZID=America/New_York:20240124T183000
DTEND;TZID=America/New_York:20240124T183000
DTSTAMP:20260422T133535
CREATED:20230908T171259Z
LAST-MODIFIED:20230908T171259Z
UID:5010-1706121000-1706121000@michaeldamore.com
SUMMARY:Michael D'Amore comes to Mango Rita's Rhythm House
DESCRIPTION:
URL:https://michaeldamore.com/event/michael-damore-comes-to-mango-ritas-rhythm-house-10/
LOCATION:Mango Rita’s Rhythm House\, 16440 S. Tamiami Trail\, Fort Myers\, FL\, 33908\, United States
CATEGORIES:One Man Show
ATTACH;FMTTYPE=image/png:https://michaeldamore.com/wp-content/uploads/2023/09/website-home-page-logo-rythym-house-1.png
END:VEVENT
BEGIN:VEVENT
DTSTART;TZID=America/New_York:20240129T180000
DTEND;TZID=America/New_York:20240129T180000
DTSTAMP:20260422T133535
CREATED:20231230T104644Z
LAST-MODIFIED:20231230T104644Z
UID:5157-1706551200-1706551200@michaeldamore.com
SUMMARY:Michael D'Amore comes to New York Pizza & Pasta
DESCRIPTION:Music and Laughter on Monday Nights in Naples Florida.\nCall 239-594-3500 to reserve your tables and let’s have some fun.
URL:https://michaeldamore.com/event/michael-damore-comes-to-new-york-pizza-pasta/
LOCATION:New York Pizza & Pasta\, 11140 Tamiami Trail N.\, Naples\, FL\, 34110
CATEGORIES:One Man Show
ATTACH;FMTTYPE=application/pdf:https://michaeldamore.com/wp-content/uploads/2023/12/NYPP-live-music-Flyer-PDF-Standard.pdf
END:VEVENT
BEGIN:VEVENT
DTSTART;TZID=UTC:20240131T183000
DTEND;TZID=UTC:20240131T183000
DTSTAMP:20260422T133535
CREATED:20230908T191715Z
LAST-MODIFIED:20230908T191715Z
UID:5025-1706725800-1706725800@michaeldamore.com
SUMMARY:Dogtooth Sports & Music Bar
DESCRIPTION:Reservations are strongly recommended!!! \n  \nI look forward to seeing you there. \n 
URL:https://michaeldamore.com/event/dogtooth-sports-music-bar-73/
LOCATION:Dogtooth Sports and Music Bar\, 5310 Shirley St.\, Naples\, FL\, 34109\, United States
CATEGORIES:One Man Show
ATTACH;FMTTYPE=image/jpeg:https://michaeldamore.com/wp-content/uploads/2019/08/Dogtooth-Logo-3.jpg
END:VEVENT
END:VCALENDAR