BEGIN:VCALENDAR
VERSION:2.0
PRODID:-//Michael D&#039;Amore - ECPv6.15.20//NONSGML v1.0//EN
CALSCALE:GREGORIAN
METHOD:PUBLISH
X-ORIGINAL-URL:https://michaeldamore.com
X-WR-CALDESC:Events for Michael D&#039;Amore
REFRESH-INTERVAL;VALUE=DURATION:PT1H
X-Robots-Tag:noindex
X-PUBLISHED-TTL:PT1H
BEGIN:VTIMEZONE
TZID:UTC
BEGIN:STANDARD
TZOFFSETFROM:+0000
TZOFFSETTO:+0000
TZNAME:UTC
DTSTART:20230101T000000
END:STANDARD
END:VTIMEZONE
BEGIN:VTIMEZONE
TZID:America/New_York
BEGIN:DAYLIGHT
TZOFFSETFROM:-0500
TZOFFSETTO:-0400
TZNAME:EDT
DTSTART:20230312T070000
END:DAYLIGHT
BEGIN:STANDARD
TZOFFSETFROM:-0400
TZOFFSETTO:-0500
TZNAME:EST
DTSTART:20231105T060000
END:STANDARD
BEGIN:DAYLIGHT
TZOFFSETFROM:-0500
TZOFFSETTO:-0400
TZNAME:EDT
DTSTART:20240310T070000
END:DAYLIGHT
BEGIN:STANDARD
TZOFFSETFROM:-0400
TZOFFSETTO:-0500
TZNAME:EST
DTSTART:20241103T060000
END:STANDARD
BEGIN:DAYLIGHT
TZOFFSETFROM:-0500
TZOFFSETTO:-0400
TZNAME:EDT
DTSTART:20250309T070000
END:DAYLIGHT
BEGIN:STANDARD
TZOFFSETFROM:-0400
TZOFFSETTO:-0500
TZNAME:EST
DTSTART:20251102T060000
END:STANDARD
END:VTIMEZONE
BEGIN:VEVENT
DTSTART;TZID=UTC:20240707T160000
DTEND;TZID=UTC:20240707T160000
DTSTAMP:20260422T021034
CREATED:20240429T141528Z
LAST-MODIFIED:20240429T141528Z
UID:5279-1720368000-1720368000@michaeldamore.com
SUMMARY:Cass Cay
DESCRIPTION:
URL:https://michaeldamore.com/event/cass-cay-75/
LOCATION:Cass Cay\, 3200 Marcumbe Key Road\, Punta Gorda\, FL\, 33955\, United States
CATEGORIES:One Man Show
ATTACH;FMTTYPE=image/jpeg:https://michaeldamore.com/wp-content/uploads/2015/10/CassCayRestaurant.jpg
END:VEVENT
BEGIN:VEVENT
DTSTART;TZID=America/New_York:20240709T180000
DTEND;TZID=America/New_York:20240709T180000
DTSTAMP:20260422T021034
CREATED:20240429T140318Z
LAST-MODIFIED:20240429T140318Z
UID:5253-1720548000-1720548000@michaeldamore.com
SUMMARY:Giuseppe and the Lion
DESCRIPTION:
URL:https://michaeldamore.com/event/giuseppe-and-the-lion-13/
LOCATION:Giuseppe and the Lion\, 1585 Pine Ridge Rd\, Naples\, FL\, 34109
CATEGORIES:One Man Show
ATTACH;FMTTYPE=image/jpeg:https://michaeldamore.com/wp-content/uploads/2024/04/Giuseppe-flyer-no-dates-scaled.jpg
END:VEVENT
BEGIN:VEVENT
DTSTART;TZID=America/New_York:20240710T183000
DTEND;TZID=America/New_York:20240710T183000
DTSTAMP:20260422T021034
CREATED:20240429T142725Z
LAST-MODIFIED:20240429T142725Z
UID:5295-1720636200-1720636200@michaeldamore.com
SUMMARY:Michael D'Amore comes to Mango Rita's Rhythm House
DESCRIPTION:
URL:https://michaeldamore.com/event/michael-damore-comes-to-mango-ritas-rhythm-house-12/
LOCATION:Mango Rita’s Rhythm House\, 16440 S. Tamiami Trail\, Fort Myers\, FL\, 33908\, United States
CATEGORIES:One Man Show
ATTACH;FMTTYPE=image/png:https://michaeldamore.com/wp-content/uploads/2023/09/website-home-page-logo-rythym-house-1.png
END:VEVENT
BEGIN:VEVENT
DTSTART;TZID=America/New_York:20240713T193000
DTEND;TZID=America/New_York:20240713T193000
DTSTAMP:20260422T021034
CREATED:20240411T033122Z
LAST-MODIFIED:20240411T033122Z
UID:5232-1720899000-1720899000@michaeldamore.com
SUMMARY:Michael D'Amore returns to Floral Lakes
DESCRIPTION:Floral Lakes Italian American Club Proudly Presents\nA Summer Interlude\nFeaturing Michael D’Amore\n$27.00 PP – Table Seating – BYOB – Coffee and Cake after the show\nCall Joe DeFelice for tickets\nDoors open at 6:45 – Showtime 7:30\n561-271-5084
URL:https://michaeldamore.com/event/michael-damore-returns-to-floral-lakes/
LOCATION:Floral Lakes Clubhouse\, 15301 Floral Club Road\, Delray Beach\, FL\, 33484
CATEGORIES:One Man Show
ATTACH;FMTTYPE=image/jpeg:https://michaeldamore.com/wp-content/uploads/2024/04/Floral-Lakes.jpg
END:VEVENT
BEGIN:VEVENT
DTSTART;TZID=UTC:20240714T183000
DTEND;TZID=UTC:20240714T183000
DTSTAMP:20260422T021034
CREATED:20240429T140643Z
LAST-MODIFIED:20240429T140643Z
UID:5263-1720981800-1720981800@michaeldamore.com
SUMMARY:Dogtooth Sports & Music Bar
DESCRIPTION:Reservations are strongly recommended!!! \n  \nI look forward to seeing you there. \n 
URL:https://michaeldamore.com/event/dogtooth-sports-music-bar-80/
LOCATION:Dogtooth Sports and Music Bar\, 5310 Shirley St.\, Naples\, FL\, 34109\, United States
CATEGORIES:One Man Show
ATTACH;FMTTYPE=image/jpeg:https://michaeldamore.com/wp-content/uploads/2019/08/Dogtooth-Logo-3.jpg
END:VEVENT
BEGIN:VEVENT
DTSTART;TZID=America/New_York:20240727T190000
DTEND;TZID=America/New_York:20240727T190000
DTSTAMP:20260422T021034
CREATED:20240717T221336Z
LAST-MODIFIED:20240717T221731Z
UID:5355-1722106800-1722106800@michaeldamore.com
SUMMARY:Michael D'Amore comes to Verona Walk Naples FL
DESCRIPTION:I’m happy to be performing at Verona Walk in Naples.\nThis event will be open to the public and I’m looking forward to seeing everyone.
URL:https://michaeldamore.com/event/michael-damore-comes-to-verona-walk-naples-fl/
LOCATION:Verona Walk\, 8090 Sorrento Lane\, Naples\, Fl\, 34114
CATEGORIES:One Man Show
ATTACH;FMTTYPE=image/jpeg:https://michaeldamore.com/wp-content/uploads/2024/07/Michael-DAmore-July-27-2024-Flyer.jpg
END:VEVENT
BEGIN:VEVENT
DTSTART;TZID=UTC:20240728T160000
DTEND;TZID=UTC:20240728T160000
DTSTAMP:20260422T021034
CREATED:20240429T141601Z
LAST-MODIFIED:20240429T141601Z
UID:5281-1722182400-1722182400@michaeldamore.com
SUMMARY:Cass Cay
DESCRIPTION:
URL:https://michaeldamore.com/event/cass-cay-76/
LOCATION:Cass Cay\, 3200 Marcumbe Key Road\, Punta Gorda\, FL\, 33955\, United States
CATEGORIES:One Man Show
ATTACH;FMTTYPE=image/jpeg:https://michaeldamore.com/wp-content/uploads/2015/10/CassCayRestaurant.jpg
END:VEVENT
BEGIN:VEVENT
DTSTART;TZID=UTC:20240729T180000
DTEND;TZID=UTC:20240729T180000
DTSTAMP:20260422T021034
CREATED:20240502T152041Z
LAST-MODIFIED:20240502T152041Z
UID:5322-1722276000-1722276000@michaeldamore.com
SUMMARY:Ristorante Limoncello
DESCRIPTION:  \n  \n  \nCall For Reservations (239) 260-7478
URL:https://michaeldamore.com/event/ristorante-limoncello-20/
LOCATION:Limoncello\, 13800 Tamiami Trail\, North Naples\, FL\, 34110\, United States
CATEGORIES:One Man Show
ATTACH;FMTTYPE=image/jpeg:https://michaeldamore.com/wp-content/uploads/2023/04/Limoncello-Logo-copy.jpg
END:VEVENT
BEGIN:VEVENT
DTSTART;TZID=UTC:20240731T190000
DTEND;TZID=UTC:20240731T190000
DTSTAMP:20260422T021034
CREATED:20240429T143102Z
LAST-MODIFIED:20240429T143102Z
UID:5307-1722452400-1722452400@michaeldamore.com
SUMMARY:Cape Cabaret
DESCRIPTION:Call For Reservations\n$10.00 Entertainment Cover Charge
URL:https://michaeldamore.com/event/cape-cabaret-52/
LOCATION:Cape Cabaret\, 4725 Vincennes Blvd\, Cape Coral\, Fl\, 33904\, United States
CATEGORIES:One Man Show
END:VEVENT
END:VCALENDAR