BEGIN:VCALENDAR
VERSION:2.0
PRODID:-//Michael D&#039;Amore - ECPv6.15.20//NONSGML v1.0//EN
CALSCALE:GREGORIAN
METHOD:PUBLISH
X-ORIGINAL-URL:https://michaeldamore.com
X-WR-CALDESC:Events for Michael D&#039;Amore
REFRESH-INTERVAL;VALUE=DURATION:PT1H
X-Robots-Tag:noindex
X-PUBLISHED-TTL:PT1H
BEGIN:VTIMEZONE
TZID:America/New_York
BEGIN:DAYLIGHT
TZOFFSETFROM:-0500
TZOFFSETTO:-0400
TZNAME:EDT
DTSTART:20230312T070000
END:DAYLIGHT
BEGIN:STANDARD
TZOFFSETFROM:-0400
TZOFFSETTO:-0500
TZNAME:EST
DTSTART:20231105T060000
END:STANDARD
BEGIN:DAYLIGHT
TZOFFSETFROM:-0500
TZOFFSETTO:-0400
TZNAME:EDT
DTSTART:20240310T070000
END:DAYLIGHT
BEGIN:STANDARD
TZOFFSETFROM:-0400
TZOFFSETTO:-0500
TZNAME:EST
DTSTART:20241103T060000
END:STANDARD
BEGIN:DAYLIGHT
TZOFFSETFROM:-0500
TZOFFSETTO:-0400
TZNAME:EDT
DTSTART:20250309T070000
END:DAYLIGHT
BEGIN:STANDARD
TZOFFSETFROM:-0400
TZOFFSETTO:-0500
TZNAME:EST
DTSTART:20251102T060000
END:STANDARD
END:VTIMEZONE
BEGIN:VTIMEZONE
TZID:UTC
BEGIN:STANDARD
TZOFFSETFROM:+0000
TZOFFSETTO:+0000
TZNAME:UTC
DTSTART:20230101T000000
END:STANDARD
END:VTIMEZONE
BEGIN:VEVENT
DTSTART;TZID=America/New_York:20240813T180000
DTEND;TZID=America/New_York:20240813T180000
DTSTAMP:20260422T002629
CREATED:20240429T140346Z
LAST-MODIFIED:20240429T140346Z
UID:5255-1723572000-1723572000@michaeldamore.com
SUMMARY:Giuseppe and the Lion
DESCRIPTION:
URL:https://michaeldamore.com/event/giuseppe-and-the-lion-14/
LOCATION:Giuseppe and the Lion\, 1585 Pine Ridge Rd\, Naples\, FL\, 34109
CATEGORIES:One Man Show
ATTACH;FMTTYPE=image/jpeg:https://michaeldamore.com/wp-content/uploads/2024/04/Giuseppe-flyer-no-dates-scaled.jpg
END:VEVENT
BEGIN:VEVENT
DTSTART;TZID=America/New_York:20240814T183000
DTEND;TZID=America/New_York:20240814T183000
DTSTAMP:20260422T002629
CREATED:20240429T142807Z
LAST-MODIFIED:20240429T142807Z
UID:5297-1723660200-1723660200@michaeldamore.com
SUMMARY:Michael D'Amore comes to Mango Rita's Rhythm House
DESCRIPTION:
URL:https://michaeldamore.com/event/michael-damore-comes-to-mango-ritas-rhythm-house-13/
LOCATION:Mango Rita’s Rhythm House\, 16440 S. Tamiami Trail\, Fort Myers\, FL\, 33908\, United States
CATEGORIES:One Man Show
ATTACH;FMTTYPE=image/png:https://michaeldamore.com/wp-content/uploads/2023/09/website-home-page-logo-rythym-house-1.png
END:VEVENT
BEGIN:VEVENT
DTSTART;TZID=UTC:20240818T183000
DTEND;TZID=UTC:20240818T183000
DTSTAMP:20260422T002629
CREATED:20240429T140717Z
LAST-MODIFIED:20240429T140717Z
UID:5265-1724005800-1724005800@michaeldamore.com
SUMMARY:Dogtooth Sports & Music Bar
DESCRIPTION:Reservations are strongly recommended!!! \n  \nI look forward to seeing you there. \n 
URL:https://michaeldamore.com/event/dogtooth-sports-music-bar-81/
LOCATION:Dogtooth Sports and Music Bar\, 5310 Shirley St.\, Naples\, FL\, 34109\, United States
CATEGORIES:One Man Show
ATTACH;FMTTYPE=image/jpeg:https://michaeldamore.com/wp-content/uploads/2019/08/Dogtooth-Logo-3.jpg
END:VEVENT
BEGIN:VEVENT
DTSTART;TZID=UTC:20240826T180000
DTEND;TZID=UTC:20240826T180000
DTSTAMP:20260422T002629
CREATED:20240502T152115Z
LAST-MODIFIED:20240502T152115Z
UID:5324-1724695200-1724695200@michaeldamore.com
SUMMARY:Ristorante Limoncello
DESCRIPTION:  \n  \n  \nCall For Reservations (239) 260-7478
URL:https://michaeldamore.com/event/ristorante-limoncello-21/
LOCATION:Limoncello\, 13800 Tamiami Trail\, North Naples\, FL\, 34110\, United States
CATEGORIES:One Man Show
ATTACH;FMTTYPE=image/jpeg:https://michaeldamore.com/wp-content/uploads/2023/04/Limoncello-Logo-copy.jpg
END:VEVENT
BEGIN:VEVENT
DTSTART;TZID=America/New_York:20240828T120000
DTEND;TZID=America/New_York:20240828T120000
DTSTAMP:20260422T002629
CREATED:20240618T154438Z
LAST-MODIFIED:20240618T154438Z
UID:5334-1724846400-1724846400@michaeldamore.com
SUMMARY:Michael D'Amore comes to Eisenhower Park
DESCRIPTION:Nassau County Executive Bruce Blakeman Presents\nNoontime Free Park Concert Series\nEisenhower Park  East Meadow Long Island\nBring a blanket – Bring a chair\nProduced by Steve Dassa
URL:https://michaeldamore.com/event/michael-damore-comes-to-eisenhower-park-2/
LOCATION:Eisenhower Park\, Parking Field 1 Merrick Ave\, East Meadow\, NY
CATEGORIES:One Man Show
ATTACH;FMTTYPE=image/jpeg:https://michaeldamore.com/wp-content/uploads/2024/06/Flyer-Eisenhower-Park-8-28-24-copy.jpg
END:VEVENT
BEGIN:VEVENT
DTSTART;TZID=America/New_York:20240828T180000
DTEND;TZID=America/New_York:20240828T180000
DTSTAMP:20260422T002629
CREATED:20240618T154147Z
LAST-MODIFIED:20240618T154147Z
UID:5331-1724868000-1724868000@michaeldamore.com
SUMMARY:Michael D'Amore returns to La Focaccia in Levittown NY
DESCRIPTION:I’m returning to Long Island N.Y.
URL:https://michaeldamore.com/event/michael-damore-returns-to-la-focaccia-in-levittown-ny-2/
LOCATION:La Focaccia\, 70 East Village Green\, Levittown\, NY\, 11756
CATEGORIES:One Man Show
ATTACH;FMTTYPE=image/jpeg:https://michaeldamore.com/wp-content/uploads/2024/06/Flyer-La-Focaccia-8-28-24-copy-scaled.jpg
END:VEVENT
BEGIN:VEVENT
DTSTART;TZID=America/New_York:20240830T200000
DTEND;TZID=America/New_York:20240830T200000
DTSTAMP:20260422T002629
CREATED:20240708T145731Z
LAST-MODIFIED:20240820T161544Z
UID:5342-1725048000-1725048000@michaeldamore.com
SUMMARY:Lead East 2024
DESCRIPTION:Lead East 2024\nFriday Night Dance Party\n\nDancing The Night Away\nMichael D’Amore\nMichael Zandman\n  \n 
URL:https://michaeldamore.com/event/lead-east-2024/
LOCATION:Lead East – Parsippany Hilton Hotel\, 1 Hilton Ct\,\, Parsippany\, NJ\, 07054
CATEGORIES:One Man Show
ATTACH;FMTTYPE=image/jpeg:https://michaeldamore.com/wp-content/uploads/2024/07/Flyer-lead-east-2024-with-sale-copy-3.jpg
END:VEVENT
END:VCALENDAR