BEGIN:VCALENDAR
VERSION:2.0
PRODID:-//Michael D&#039;Amore - ECPv6.15.20//NONSGML v1.0//EN
CALSCALE:GREGORIAN
METHOD:PUBLISH
X-WR-CALNAME:Michael D&#039;Amore
X-ORIGINAL-URL:https://michaeldamore.com
X-WR-CALDESC:Events for Michael D&#039;Amore
REFRESH-INTERVAL;VALUE=DURATION:PT1H
X-Robots-Tag:noindex
X-PUBLISHED-TTL:PT1H
BEGIN:VTIMEZONE
TZID:UTC
BEGIN:STANDARD
TZOFFSETFROM:+0000
TZOFFSETTO:+0000
TZNAME:UTC
DTSTART:20230101T000000
END:STANDARD
END:VTIMEZONE
BEGIN:VTIMEZONE
TZID:America/New_York
BEGIN:DAYLIGHT
TZOFFSETFROM:-0500
TZOFFSETTO:-0400
TZNAME:EDT
DTSTART:20230312T070000
END:DAYLIGHT
BEGIN:STANDARD
TZOFFSETFROM:-0400
TZOFFSETTO:-0500
TZNAME:EST
DTSTART:20231105T060000
END:STANDARD
BEGIN:DAYLIGHT
TZOFFSETFROM:-0500
TZOFFSETTO:-0400
TZNAME:EDT
DTSTART:20240310T070000
END:DAYLIGHT
BEGIN:STANDARD
TZOFFSETFROM:-0400
TZOFFSETTO:-0500
TZNAME:EST
DTSTART:20241103T060000
END:STANDARD
BEGIN:DAYLIGHT
TZOFFSETFROM:-0500
TZOFFSETTO:-0400
TZNAME:EDT
DTSTART:20250309T070000
END:DAYLIGHT
BEGIN:STANDARD
TZOFFSETFROM:-0400
TZOFFSETTO:-0500
TZNAME:EST
DTSTART:20251102T060000
END:STANDARD
END:VTIMEZONE
BEGIN:VEVENT
DTSTART;TZID=UTC:20241006T160000
DTEND;TZID=UTC:20241006T160000
DTSTAMP:20260421T204129
CREATED:20240429T141737Z
LAST-MODIFIED:20240429T141737Z
UID:5287-1728230400-1728230400@michaeldamore.com
SUMMARY:Cass Cay
DESCRIPTION:
URL:https://michaeldamore.com/event/cass-cay-79/
LOCATION:Cass Cay\, 3200 Marcumbe Key Road\, Punta Gorda\, FL\, 33955\, United States
CATEGORIES:One Man Show
ATTACH;FMTTYPE=image/jpeg:https://michaeldamore.com/wp-content/uploads/2015/10/CassCayRestaurant.jpg
END:VEVENT
BEGIN:VEVENT
DTSTART;TZID=America/New_York:20241008T180000
DTEND;TZID=America/New_York:20241008T180000
DTSTAMP:20260421T204129
CREATED:20240429T140429Z
LAST-MODIFIED:20240429T140429Z
UID:5257-1728410400-1728410400@michaeldamore.com
SUMMARY:Giuseppe and the Lion
DESCRIPTION:
URL:https://michaeldamore.com/event/giuseppe-and-the-lion-15/
LOCATION:Giuseppe and the Lion\, 1585 Pine Ridge Rd\, Naples\, FL\, 34109
CATEGORIES:One Man Show
ATTACH;FMTTYPE=image/jpeg:https://michaeldamore.com/wp-content/uploads/2024/04/Giuseppe-flyer-no-dates-scaled.jpg
END:VEVENT
BEGIN:VEVENT
DTSTART;TZID=UTC:20241013T183000
DTEND;TZID=UTC:20241013T183000
DTSTAMP:20260421T204129
CREATED:20240429T140843Z
LAST-MODIFIED:20240429T140843Z
UID:5269-1728844200-1728844200@michaeldamore.com
SUMMARY:Dogtooth Sports & Music Bar
DESCRIPTION:Reservations are strongly recommended!!! \n  \nI look forward to seeing you there. \n 
URL:https://michaeldamore.com/event/dogtooth-sports-music-bar-83/
LOCATION:Dogtooth Sports and Music Bar\, 5310 Shirley St.\, Naples\, FL\, 34109\, United States
CATEGORIES:One Man Show
ATTACH;FMTTYPE=image/jpeg:https://michaeldamore.com/wp-content/uploads/2019/08/Dogtooth-Logo-3.jpg
END:VEVENT
BEGIN:VEVENT
DTSTART;TZID=America/New_York:20241015T180000
DTEND;TZID=America/New_York:20241015T180000
DTSTAMP:20260421T204129
CREATED:20240917T130314Z
LAST-MODIFIED:20240917T130314Z
UID:5373-1729015200-1729015200@michaeldamore.com
SUMMARY:Michael D'Amore returns to The Englewood Elks
DESCRIPTION:
URL:https://michaeldamore.com/event/michael-damore-returns-to-the-englewood-elks-5-2/
LOCATION:Englewood Elks  Lodge 2378\, 401 North Indiana Avenue\, Englewood\, FL\, 34223
CATEGORIES:One Man Show
ATTACH;FMTTYPE=image/jpeg:https://michaeldamore.com/wp-content/uploads/2024/09/Flyer-Englewood-Elks-Oct-thru-April-2025-copy-2.jpg
END:VEVENT
BEGIN:VEVENT
DTSTART;TZID=America/New_York:20241016T180000
DTEND;TZID=America/New_York:20241016T180000
DTSTAMP:20260421T204129
CREATED:20240429T142903Z
LAST-MODIFIED:20241005T161956Z
UID:5301-1729101600-1729101600@michaeldamore.com
SUMMARY:Michael D'Amore comes to Mango Rita's Rhythm House
DESCRIPTION:
URL:https://michaeldamore.com/event/michael-damore-comes-to-mango-ritas-rhythm-house-15/
LOCATION:Mango Rita’s Rhythm House\, 16440 S. Tamiami Trail\, Fort Myers\, FL\, 33908\, United States
CATEGORIES:One Man Show
ATTACH;FMTTYPE=image/png:https://michaeldamore.com/wp-content/uploads/2023/09/website-home-page-logo-rythym-house-1.png
END:VEVENT
BEGIN:VEVENT
DTSTART;TZID=America/New_York:20241017T190000
DTEND;TZID=America/New_York:20241017T190000
DTSTAMP:20260421T204129
CREATED:20240821T203852Z
LAST-MODIFIED:20240821T203853Z
UID:5369-1729191600-1729191600@michaeldamore.com
SUMMARY:Wreaths Across America Benefit
DESCRIPTION:I am proud to be supporting a wonderful cause for our Veterans this October.\nPlease join me and the amazing team that works so hard to put this together.\nCall Pat at 941-661-2206 and join us in Punta Gorda for a night of music and dancing while raising money for a great cause.  Pre-sale ticket price is $35.00 per person.
URL:https://michaeldamore.com/event/wreaths-across-america-benefit/
LOCATION:Ventura Lakes Clubhouse\, 27110 Jones Loop Rd.\, Punta Gorda\, Fl\, 33982
CATEGORIES:One Man Show
ATTACH;FMTTYPE=image/jpeg:https://michaeldamore.com/wp-content/uploads/2024/08/WAA-Benefit-2024-Poster-Final-with-Benefit-Add_240821_155658.jpg
END:VEVENT
BEGIN:VEVENT
DTSTART;TZID=America/New_York:20241025T190000
DTEND;TZID=America/New_York:20241025T190000
DTSTAMP:20260421T204129
CREATED:20240429T145309Z
LAST-MODIFIED:20240708T123317Z
UID:5315-1729882800-1729882800@michaeldamore.com
SUMMARY:Michael D'Amore comes to Barbara B Mann
DESCRIPTION:Use Promo Code “Michael” for a discount on all tickets.  I’ll see you at the show.\nTicket are available online at bbmannpah.com or by phone at 239-481-4849\n\n60’s Rock & Roll Revival\nstarring\nThe Brooklyn Bridge\nThe Duprees\nThe Happenings\nBrian Hyland\nMichael D’Amore
URL:https://michaeldamore.com/event/michael-damore-comes-to-barbara-b-mann/
LOCATION:Barbara B Mann\, 13350 FSW Pkwy\,\, Fort Myers\, FL\, 33919
CATEGORIES:One Man Show
ATTACH;FMTTYPE=image/jpeg:https://michaeldamore.com/wp-content/uploads/2024/04/Barbara-B-Mann-10-25-24-with-promo-code-v2-copy-scaled.jpg
END:VEVENT
BEGIN:VEVENT
DTSTART;TZID=UTC:20241027T160000
DTEND;TZID=UTC:20241027T160000
DTSTAMP:20260421T204129
CREATED:20240922T171348Z
LAST-MODIFIED:20240922T171348Z
UID:5453-1730044800-1730044800@michaeldamore.com
SUMMARY:Cass Cay
DESCRIPTION:
URL:https://michaeldamore.com/event/cass-cay-77/
LOCATION:Cass Cay\, 3200 Marcumbe Key Road\, Punta Gorda\, FL\, 33955\, United States
CATEGORIES:One Man Show
ATTACH;FMTTYPE=image/jpeg:https://michaeldamore.com/wp-content/uploads/2015/10/CassCayRestaurant.jpg
END:VEVENT
END:VCALENDAR