BEGIN:VCALENDAR
VERSION:2.0
PRODID:-//Michael D&#039;Amore - ECPv6.15.20//NONSGML v1.0//EN
CALSCALE:GREGORIAN
METHOD:PUBLISH
X-ORIGINAL-URL:https://michaeldamore.com
X-WR-CALDESC:Events for Michael D&#039;Amore
REFRESH-INTERVAL;VALUE=DURATION:PT1H
X-Robots-Tag:noindex
X-PUBLISHED-TTL:PT1H
BEGIN:VTIMEZONE
TZID:UTC
BEGIN:STANDARD
TZOFFSETFROM:+0000
TZOFFSETTO:+0000
TZNAME:UTC
DTSTART:20230101T000000
END:STANDARD
END:VTIMEZONE
BEGIN:VTIMEZONE
TZID:America/New_York
BEGIN:DAYLIGHT
TZOFFSETFROM:-0500
TZOFFSETTO:-0400
TZNAME:EDT
DTSTART:20230312T070000
END:DAYLIGHT
BEGIN:STANDARD
TZOFFSETFROM:-0400
TZOFFSETTO:-0500
TZNAME:EST
DTSTART:20231105T060000
END:STANDARD
BEGIN:DAYLIGHT
TZOFFSETFROM:-0500
TZOFFSETTO:-0400
TZNAME:EDT
DTSTART:20240310T070000
END:DAYLIGHT
BEGIN:STANDARD
TZOFFSETFROM:-0400
TZOFFSETTO:-0500
TZNAME:EST
DTSTART:20241103T060000
END:STANDARD
BEGIN:DAYLIGHT
TZOFFSETFROM:-0500
TZOFFSETTO:-0400
TZNAME:EDT
DTSTART:20250309T070000
END:DAYLIGHT
BEGIN:STANDARD
TZOFFSETFROM:-0400
TZOFFSETTO:-0500
TZNAME:EST
DTSTART:20251102T060000
END:STANDARD
END:VTIMEZONE
BEGIN:VEVENT
DTSTART;TZID=UTC:20241110T183000
DTEND;TZID=UTC:20241110T183000
DTSTAMP:20260421T184325
CREATED:20240429T140929Z
LAST-MODIFIED:20240429T140929Z
UID:5271-1731263400-1731263400@michaeldamore.com
SUMMARY:Dogtooth Sports & Music Bar
DESCRIPTION:Reservations are strongly recommended!!! \n  \nI look forward to seeing you there. \n 
URL:https://michaeldamore.com/event/dogtooth-sports-music-bar-84/
LOCATION:Dogtooth Sports and Music Bar\, 5310 Shirley St.\, Naples\, FL\, 34109\, United States
CATEGORIES:One Man Show
ATTACH;FMTTYPE=image/jpeg:https://michaeldamore.com/wp-content/uploads/2019/08/Dogtooth-Logo-3.jpg
END:VEVENT
BEGIN:VEVENT
DTSTART;TZID=America/New_York:20241112T180000
DTEND;TZID=America/New_York:20241112T180000
DTSTAMP:20260421T184325
CREATED:20240429T140458Z
LAST-MODIFIED:20240429T140458Z
UID:5259-1731434400-1731434400@michaeldamore.com
SUMMARY:Giuseppe and the Lion
DESCRIPTION:
URL:https://michaeldamore.com/event/giuseppe-and-the-lion-16/
LOCATION:Giuseppe and the Lion\, 1585 Pine Ridge Rd\, Naples\, FL\, 34109
CATEGORIES:One Man Show
ATTACH;FMTTYPE=image/jpeg:https://michaeldamore.com/wp-content/uploads/2024/04/Giuseppe-flyer-no-dates-scaled.jpg
END:VEVENT
BEGIN:VEVENT
DTSTART;TZID=America/New_York:20241118T180000
DTEND;TZID=America/New_York:20241118T180000
DTSTAMP:20260421T184325
CREATED:20240919T142132Z
LAST-MODIFIED:20241017T123637Z
UID:5391-1731952800-1731952800@michaeldamore.com
SUMMARY:Michael D'Amore comes to New York Pizza & Pasta
DESCRIPTION:You all made these events at NYPP so much fun and so successful last season we are going to do it again\nTickets are selling so don’t wait.\n\nMusic and Laughter on Monday Nights in Naples Florida.\nCall 239-594-3500 to reserve your tables and let’s have some fun.
URL:https://michaeldamore.com/event/michael-damore-comes-to-new-york-pizza-pasta-7/
LOCATION:New York Pizza & Pasta\, 11140 Tamiami Trail N.\, Naples\, FL\, 34110
CATEGORIES:One Man Show
ATTACH;FMTTYPE=image/jpeg:https://michaeldamore.com/wp-content/uploads/2024/09/Screenshot_20241017_081831_Samsung-Notes.jpg
END:VEVENT
BEGIN:VEVENT
DTSTART;TZID=America/New_York:20241119T180000
DTEND;TZID=America/New_York:20241119T180000
DTSTAMP:20260421T184325
CREATED:20240917T131556Z
LAST-MODIFIED:20240917T131556Z
UID:5377-1732039200-1732039200@michaeldamore.com
SUMMARY:Michael D'Amore returns to The Englewood Elks
DESCRIPTION:
URL:https://michaeldamore.com/event/michael-damore-returns-to-the-englewood-elks-4/
LOCATION:Englewood Elks  Lodge 2378\, 401 North Indiana Avenue\, Englewood\, FL\, 34223
CATEGORIES:One Man Show
ATTACH;FMTTYPE=image/jpeg:https://michaeldamore.com/wp-content/uploads/2024/09/Flyer-Englewood-Elks-Oct-thru-April-2025-copy-2.jpg
END:VEVENT
BEGIN:VEVENT
DTSTART;TZID=America/New_York:20241121T190000
DTEND;TZID=America/New_York:20241121T190000
DTSTAMP:20260421T184325
CREATED:20240429T150045Z
LAST-MODIFIED:20240429T150045Z
UID:5319-1732215600-1732215600@michaeldamore.com
SUMMARY:Michael D'Amore returns to Boca Raton
DESCRIPTION:You asked and we listened. I can’t wait to get back to Boca.\nWe have an intimate evening planned at The Boca Black Box\nDon’t wait to get your tickets\nCall The Box Office at 561-483-9036
URL:https://michaeldamore.com/event/michael-damore-returns-to-boca-raton-4/
LOCATION:Boca Black Box\, 8221 Glades Road\, Boca Raton\, FL\, 33434
CATEGORIES:One Man Show
ATTACH;FMTTYPE=image/jpeg:https://michaeldamore.com/wp-content/uploads/2024/04/Flyer-Michael-DAmore-Boca-Black-Box-11-21-24-copy.jpg
END:VEVENT
END:VCALENDAR