BEGIN:VCALENDAR
VERSION:2.0
PRODID:-//Michael D&#039;Amore - ECPv6.15.20//NONSGML v1.0//EN
CALSCALE:GREGORIAN
METHOD:PUBLISH
X-ORIGINAL-URL:https://michaeldamore.com
X-WR-CALDESC:Events for Michael D&#039;Amore
REFRESH-INTERVAL;VALUE=DURATION:PT1H
X-Robots-Tag:noindex
X-PUBLISHED-TTL:PT1H
BEGIN:VTIMEZONE
TZID:UTC
BEGIN:STANDARD
TZOFFSETFROM:+0000
TZOFFSETTO:+0000
TZNAME:UTC
DTSTART:20240101T000000
END:STANDARD
END:VTIMEZONE
BEGIN:VTIMEZONE
TZID:America/New_York
BEGIN:DAYLIGHT
TZOFFSETFROM:-0500
TZOFFSETTO:-0400
TZNAME:EDT
DTSTART:20240310T070000
END:DAYLIGHT
BEGIN:STANDARD
TZOFFSETFROM:-0400
TZOFFSETTO:-0500
TZNAME:EST
DTSTART:20241103T060000
END:STANDARD
BEGIN:DAYLIGHT
TZOFFSETFROM:-0500
TZOFFSETTO:-0400
TZNAME:EDT
DTSTART:20250309T070000
END:DAYLIGHT
BEGIN:STANDARD
TZOFFSETFROM:-0400
TZOFFSETTO:-0500
TZNAME:EST
DTSTART:20251102T060000
END:STANDARD
BEGIN:DAYLIGHT
TZOFFSETFROM:-0500
TZOFFSETTO:-0400
TZNAME:EDT
DTSTART:20260308T070000
END:DAYLIGHT
BEGIN:STANDARD
TZOFFSETFROM:-0400
TZOFFSETTO:-0500
TZNAME:EST
DTSTART:20261101T060000
END:STANDARD
END:VTIMEZONE
BEGIN:VEVENT
DTSTART;TZID=UTC:20250105T183000
DTEND;TZID=UTC:20250105T183000
DTSTAMP:20260421T151611
CREATED:20240920T141835Z
LAST-MODIFIED:20240920T141835Z
UID:5420-1736101800-1736101800@michaeldamore.com
SUMMARY:Dogtooth Sports & Music Bar
DESCRIPTION:Reservations are strongly recommended!!! \n  \nI look forward to seeing you there. \n 
URL:https://michaeldamore.com/event/dogtooth-sports-music-bar-86/
LOCATION:Dogtooth Sports and Music Bar\, 5310 Shirley St.\, Naples\, FL\, 34109\, United States
CATEGORIES:One Man Show
ATTACH;FMTTYPE=image/jpeg:https://michaeldamore.com/wp-content/uploads/2019/08/Dogtooth-Logo-3.jpg
END:VEVENT
BEGIN:VEVENT
DTSTART;TZID=America/New_York:20250107T180000
DTEND;TZID=America/New_York:20250107T180000
DTSTAMP:20260421T151611
CREATED:20240917T131630Z
LAST-MODIFIED:20240917T131702Z
UID:5379-1736272800-1736272800@michaeldamore.com
SUMMARY:Michael D'Amore returns to The Englewood Elks
DESCRIPTION:
URL:https://michaeldamore.com/event/michael-damore-returns-to-the-englewood-elks-6/
LOCATION:Englewood Elks  Lodge 2378\, 401 North Indiana Avenue\, Englewood\, FL\, 34223
CATEGORIES:One Man Show
ATTACH;FMTTYPE=image/jpeg:https://michaeldamore.com/wp-content/uploads/2024/09/Flyer-Englewood-Elks-Oct-thru-April-2025-copy-2.jpg
END:VEVENT
BEGIN:VEVENT
DTSTART;TZID=America/New_York:20250108T180000
DTEND;TZID=America/New_York:20250108T180000
DTSTAMP:20260421T151611
CREATED:20240920T142249Z
LAST-MODIFIED:20240920T142249Z
UID:5432-1736359200-1736359200@michaeldamore.com
SUMMARY:Michael D'Amore comes to Mango Rita's Rhythm House
DESCRIPTION:
URL:https://michaeldamore.com/event/michael-damore-comes-to-mango-ritas-rhythm-house-16/
LOCATION:Mango Rita’s Rhythm House\, 16440 S. Tamiami Trail\, Fort Myers\, FL\, 33908\, United States
CATEGORIES:One Man Show
ATTACH;FMTTYPE=image/png:https://michaeldamore.com/wp-content/uploads/2023/09/website-home-page-logo-rythym-house-1.png
END:VEVENT
BEGIN:VEVENT
DTSTART;TZID=America/New_York:20250109T180000
DTEND;TZID=America/New_York:20250109T180000
DTSTAMP:20260421T151611
CREATED:20240919T142651Z
LAST-MODIFIED:20240919T142651Z
UID:5395-1736445600-1736445600@michaeldamore.com
SUMMARY:Giuseppe and the Lion
DESCRIPTION:
URL:https://michaeldamore.com/event/giuseppe-and-the-lion-18/
LOCATION:Giuseppe and the Lion\, 1585 Pine Ridge Rd\, Naples\, FL\, 34109
CATEGORIES:One Man Show
ATTACH;FMTTYPE=image/jpeg:https://michaeldamore.com/wp-content/uploads/2024/04/Giuseppe-flyer-no-dates-scaled.jpg
END:VEVENT
BEGIN:VEVENT
DTSTART;TZID=America/New_York:20250113T180000
DTEND;TZID=America/New_York:20250113T180000
DTSTAMP:20260421T151611
CREATED:20240919T143512Z
LAST-MODIFIED:20241017T123509Z
UID:5406-1736791200-1736791200@michaeldamore.com
SUMMARY:Michael D'Amore comes to New York Pizza & Pasta
DESCRIPTION:You all made these events at NYPP so much fun and so successful last season we are going to do it again\nTickets are selling so don’t wait.\n\nMusic and Laughter on Monday Nights in Naples Florida.\nCall 239-594-3500 to reserve your tables and let’s have some fun.
URL:https://michaeldamore.com/event/michael-damore-comes-to-new-york-pizza-pasta-9/
LOCATION:New York Pizza & Pasta\, 11140 Tamiami Trail N.\, Naples\, FL\, 34110
CATEGORIES:One Man Show
ATTACH;FMTTYPE=image/jpeg:https://michaeldamore.com/wp-content/uploads/2024/09/Screenshot_20241017_081831_Samsung-Notes.jpg
END:VEVENT
BEGIN:VEVENT
DTSTART;TZID=UTC:20250115T180000
DTEND;TZID=UTC:20250115T180000
DTSTAMP:20260421T151611
CREATED:20240922T171548Z
LAST-MODIFIED:20240922T171548Z
UID:5457-1736964000-1736964000@michaeldamore.com
SUMMARY:Cass Cay
DESCRIPTION:
URL:https://michaeldamore.com/event/cass-cay-81/
LOCATION:Cass Cay\, 3200 Marcumbe Key Road\, Punta Gorda\, FL\, 33955\, United States
CATEGORIES:One Man Show
ATTACH;FMTTYPE=image/jpeg:https://michaeldamore.com/wp-content/uploads/2015/10/CassCayRestaurant.jpg
END:VEVENT
BEGIN:VEVENT
DTSTART;TZID=America/New_York:20250119T110000
DTEND;TZID=America/New_York:20250126T110000
DTSTAMP:20260421T151611
CREATED:20240919T144924Z
LAST-MODIFIED:20240919T145017Z
UID:5416-1737284400-1737889200@michaeldamore.com
SUMMARY:Cruisin' With Michael D'Amore Aboard The Celebrity Reflection
DESCRIPTION:We are so excited to be sailing on The Celebrity Constellation\n\nWe will be departing out of Tampa Florida.  I can’t wait to entertain everyone and have fun with everybody in the group.\nDon’t forget these prices include The Beverage Package & Wi-Fi amongst other things!!!\n\nDon’t wait to call….\nYou can reach Melissa at 908-418-7062.\nCall to ask any and all of your questions and get booked for a fun filled week.\n 
URL:https://michaeldamore.com/event/cruisin-with-michael-damore-aboard-the-celebrity-reflection-2/
LOCATION:Melissa D’Amore – Expedia Cruises Land Air and Sea
CATEGORIES:Cruisin' With Michael D'Amore,One Man Show
ATTACH;FMTTYPE=image/jpeg:https://michaeldamore.com/wp-content/uploads/2023/12/MOST-CURRENT-Jan-2025-Michael-DAmore-Celebrity-Constellation-copy-scaled.jpg
END:VEVENT
BEGIN:VEVENT
DTSTART;TZID=America/New_York:20250130T180000
DTEND;TZID=America/New_York:20250130T180000
DTSTAMP:20260421T151611
CREATED:20240919T142813Z
LAST-MODIFIED:20240919T142813Z
UID:5398-1738260000-1738260000@michaeldamore.com
SUMMARY:Giuseppe and the Lion
DESCRIPTION:
URL:https://michaeldamore.com/event/giuseppe-and-the-lion-19/
LOCATION:Giuseppe and the Lion\, 1585 Pine Ridge Rd\, Naples\, FL\, 34109
CATEGORIES:One Man Show
ATTACH;FMTTYPE=image/jpeg:https://michaeldamore.com/wp-content/uploads/2024/04/Giuseppe-flyer-no-dates-scaled.jpg
END:VEVENT
END:VCALENDAR