BEGIN:VCALENDAR
VERSION:2.0
PRODID:-//Michael D&#039;Amore - ECPv6.15.20//NONSGML v1.0//EN
CALSCALE:GREGORIAN
METHOD:PUBLISH
X-ORIGINAL-URL:https://michaeldamore.com
X-WR-CALDESC:Events for Michael D&#039;Amore
REFRESH-INTERVAL;VALUE=DURATION:PT1H
X-Robots-Tag:noindex
X-PUBLISHED-TTL:PT1H
BEGIN:VTIMEZONE
TZID:America/New_York
BEGIN:DAYLIGHT
TZOFFSETFROM:-0500
TZOFFSETTO:-0400
TZNAME:EDT
DTSTART:20240310T070000
END:DAYLIGHT
BEGIN:STANDARD
TZOFFSETFROM:-0400
TZOFFSETTO:-0500
TZNAME:EST
DTSTART:20241103T060000
END:STANDARD
BEGIN:DAYLIGHT
TZOFFSETFROM:-0500
TZOFFSETTO:-0400
TZNAME:EDT
DTSTART:20250309T070000
END:DAYLIGHT
BEGIN:STANDARD
TZOFFSETFROM:-0400
TZOFFSETTO:-0500
TZNAME:EST
DTSTART:20251102T060000
END:STANDARD
BEGIN:DAYLIGHT
TZOFFSETFROM:-0500
TZOFFSETTO:-0400
TZNAME:EDT
DTSTART:20260308T070000
END:DAYLIGHT
BEGIN:STANDARD
TZOFFSETFROM:-0400
TZOFFSETTO:-0500
TZNAME:EST
DTSTART:20261101T060000
END:STANDARD
END:VTIMEZONE
BEGIN:VTIMEZONE
TZID:UTC
BEGIN:STANDARD
TZOFFSETFROM:+0000
TZOFFSETTO:+0000
TZNAME:UTC
DTSTART:20240101T000000
END:STANDARD
END:VTIMEZONE
BEGIN:VEVENT
DTSTART;TZID=America/New_York:20250303T180000
DTEND;TZID=America/New_York:20250303T180000
DTSTAMP:20260421T115149
CREATED:20240919T143602Z
LAST-MODIFIED:20241017T123352Z
UID:5410-1741024800-1741024800@michaeldamore.com
SUMMARY:Michael D'Amore comes to New York Pizza & Pasta
DESCRIPTION:You all made these events at NYPP so much fun and so successful last season we are going to do it again\nTickets are selling so don’t wait.\n\nMusic and Laughter on Monday Nights in Naples Florida.\nCall 239-594-3500 to reserve your tables and let’s have some fun.
URL:https://michaeldamore.com/event/michael-damore-comes-to-new-york-pizza-pasta-11/
LOCATION:New York Pizza & Pasta\, 11140 Tamiami Trail N.\, Naples\, FL\, 34110
CATEGORIES:One Man Show
ATTACH;FMTTYPE=image/jpeg:https://michaeldamore.com/wp-content/uploads/2024/09/Screenshot_20241017_081831_Samsung-Notes.jpg
END:VEVENT
BEGIN:VEVENT
DTSTART;TZID=America/New_York:20250304T180000
DTEND;TZID=America/New_York:20250304T180000
DTSTAMP:20260421T115149
CREATED:20240917T131840Z
LAST-MODIFIED:20240917T131840Z
UID:5385-1741111200-1741111200@michaeldamore.com
SUMMARY:Michael D'Amore returns to The Englewood Elks
DESCRIPTION:
URL:https://michaeldamore.com/event/michael-damore-returns-to-the-englewood-elks-9/
LOCATION:Englewood Elks  Lodge 2378\, 401 North Indiana Avenue\, Englewood\, FL\, 34223
CATEGORIES:One Man Show
ATTACH;FMTTYPE=image/jpeg:https://michaeldamore.com/wp-content/uploads/2024/09/Flyer-Englewood-Elks-Oct-thru-April-2025-copy-2.jpg
END:VEVENT
BEGIN:VEVENT
DTSTART;TZID=America/New_York:20250306T180000
DTEND;TZID=America/New_York:20250306T180000
DTSTAMP:20260421T115149
CREATED:20240920T150400Z
LAST-MODIFIED:20240920T150400Z
UID:5446-1741284000-1741284000@michaeldamore.com
SUMMARY:Michael D'Amore come to The Nauti Parrot Oasis
DESCRIPTION:
URL:https://michaeldamore.com/event/michael-damore-come-to-the-nauti-parrot-oasis/
LOCATION:Nauti Parrot Oasis\, 17200 S Tamiami Trail\, Fort Myers\, FL\, 33908
CATEGORIES:One Man Show
ATTACH;FMTTYPE=image/png:https://michaeldamore.com/wp-content/uploads/2024/09/images-2.png
END:VEVENT
BEGIN:VEVENT
DTSTART;TZID=UTC:20250309T183000
DTEND;TZID=UTC:20250309T183000
DTSTAMP:20260421T115149
CREATED:20240920T141942Z
LAST-MODIFIED:20240920T141942Z
UID:5424-1741545000-1741545000@michaeldamore.com
SUMMARY:Dogtooth Sports & Music Bar
DESCRIPTION:Reservations are strongly recommended!!! \n  \nI look forward to seeing you there. \n 
URL:https://michaeldamore.com/event/dogtooth-sports-music-bar-88/
LOCATION:Dogtooth Sports and Music Bar\, 5310 Shirley St.\, Naples\, FL\, 34109\, United States
CATEGORIES:One Man Show
ATTACH;FMTTYPE=image/jpeg:https://michaeldamore.com/wp-content/uploads/2019/08/Dogtooth-Logo-3.jpg
END:VEVENT
BEGIN:VEVENT
DTSTART;TZID=America/New_York:20250312T180000
DTEND;TZID=America/New_York:20250312T180000
DTSTAMP:20260421T115149
CREATED:20240920T142415Z
LAST-MODIFIED:20240920T142415Z
UID:5436-1741802400-1741802400@michaeldamore.com
SUMMARY:Michael D'Amore comes to Mango Rita's Rhythm House
DESCRIPTION:
URL:https://michaeldamore.com/event/michael-damore-comes-to-mango-ritas-rhythm-house-19/
LOCATION:Mango Rita’s Rhythm House\, 16440 S. Tamiami Trail\, Fort Myers\, FL\, 33908\, United States
CATEGORIES:One Man Show
ATTACH;FMTTYPE=image/png:https://michaeldamore.com/wp-content/uploads/2023/09/website-home-page-logo-rythym-house-1.png
END:VEVENT
BEGIN:VEVENT
DTSTART;TZID=America/New_York:20250313T180000
DTEND;TZID=America/New_York:20250313T180000
DTSTAMP:20260421T115149
CREATED:20240919T142914Z
LAST-MODIFIED:20240919T142914Z
UID:5402-1741888800-1741888800@michaeldamore.com
SUMMARY:Giuseppe and the Lion
DESCRIPTION:
URL:https://michaeldamore.com/event/giuseppe-and-the-lion-21/
LOCATION:Giuseppe and the Lion\, 1585 Pine Ridge Rd\, Naples\, FL\, 34109
CATEGORIES:One Man Show
ATTACH;FMTTYPE=image/jpeg:https://michaeldamore.com/wp-content/uploads/2024/04/Giuseppe-flyer-no-dates-scaled.jpg
END:VEVENT
BEGIN:VEVENT
DTSTART;TZID=America/New_York:20250315T183000
DTEND;TZID=America/New_York:20250315T183000
DTSTAMP:20260421T115149
CREATED:20250131T175759Z
LAST-MODIFIED:20250131T180045Z
UID:5791-1742063400-1742063400@michaeldamore.com
SUMMARY:Michael D'Amore is coming to The Villages at The Everglades Rec Center
DESCRIPTION:I’m proud to be part of\nRichie Lanna’s Sounds of the Legends show\nTickets are $15.00 per person and are available to Villages residents and guests with valid I.D.\nYou can purchase your tickets by clicking below
URL:https://michaeldamore.com/event/michael-damore-is-coming-to-the-villages-at-the-everglades-rec-center/
LOCATION:Everglades Recreation Center Ballroom\, 5497 Marsh Bend Trl\, Wildwood\, FL\, 34785
CATEGORIES:One Man Show
ATTACH;FMTTYPE=image/jpeg:https://michaeldamore.com/wp-content/uploads/2025/01/Sounds-of-the-Legends-Villages-show-3-15-25.jpg
END:VEVENT
BEGIN:VEVENT
DTSTART;TZID=UTC:20250319T180000
DTEND;TZID=UTC:20250319T180000
DTSTAMP:20260421T115149
CREATED:20240922T171659Z
LAST-MODIFIED:20240922T171659Z
UID:5461-1742407200-1742407200@michaeldamore.com
SUMMARY:Cass Cay
DESCRIPTION:
URL:https://michaeldamore.com/event/cass-cay-83/
LOCATION:Cass Cay\, 3200 Marcumbe Key Road\, Punta Gorda\, FL\, 33955\, United States
CATEGORIES:One Man Show
ATTACH;FMTTYPE=image/jpeg:https://michaeldamore.com/wp-content/uploads/2015/10/CassCayRestaurant.jpg
END:VEVENT
BEGIN:VEVENT
DTSTART;TZID=America/New_York:20250324T180000
DTEND;TZID=America/New_York:20250324T180000
DTSTAMP:20260421T115149
CREATED:20240919T143636Z
LAST-MODIFIED:20241017T123254Z
UID:5412-1742839200-1742839200@michaeldamore.com
SUMMARY:Michael D'Amore comes to New York Pizza & Pasta
DESCRIPTION:You all made these events at NYPP so much fun and so successful last season we are going to do it again\nTickets are selling so don’t wait.\n\nMusic and Laughter on Monday Nights in Naples Florida.\nCall 239-594-3500 to reserve your tables and let’s have some fun.
URL:https://michaeldamore.com/event/michael-damore-comes-to-new-york-pizza-pasta-12/
LOCATION:New York Pizza & Pasta\, 11140 Tamiami Trail N.\, Naples\, FL\, 34110
CATEGORIES:One Man Show
ATTACH;FMTTYPE=image/jpeg:https://michaeldamore.com/wp-content/uploads/2024/09/Screenshot_20241017_081831_Samsung-Notes.jpg
END:VEVENT
BEGIN:VEVENT
DTSTART;TZID=America/New_York:20250327T190000
DTEND;TZID=America/New_York:20250327T190000
DTSTAMP:20260421T115149
CREATED:20241204T151038Z
LAST-MODIFIED:20241204T151513Z
UID:5776-1743102000-1743102000@michaeldamore.com
SUMMARY:Michael D'Amore returns to Boca Raton
DESCRIPTION:We Always have so much fun at The Boca Black Box and\nI can’t wait to get back to see everyone.\nClick below to grab your seats.\nCall The Box Office at 561-483-9036
URL:https://michaeldamore.com/event/michael-damore-returns-to-boca-raton-5/
LOCATION:Boca Black Box\, 8221 Glades Road\, Boca Raton\, FL\, 33434
CATEGORIES:One Man Show
ATTACH;FMTTYPE=image/jpeg:https://michaeldamore.com/wp-content/uploads/2024/12/Flyer-Michael-DAmore-Boca-Black-Box-3-27-25-small-copy.jpg
END:VEVENT
BEGIN:VEVENT
DTSTART;TZID=America/New_York:20250329T190000
DTEND;TZID=America/New_York:20250329T190000
DTSTAMP:20260421T115149
CREATED:20250304T141352Z
LAST-MODIFIED:20250304T141352Z
UID:5807-1743274800-1743274800@michaeldamore.com
SUMMARY:The Capris come to The Keswick Theater
DESCRIPTION:The Best of Doo Wop Vol. 7\n\nStarring\n\nThe Capris \nThe Tokens \nJimmy Clanton \nJimmy Gallagher & The Passions\n\nBrian Hyland\nThe Dubs\nThe Demensions\nThe Fireflies\n\nHosted by Cool Bobby B of Sirius Radio 50’s on 5\nFor Tickets Call (215) 572-7650 or\nhttps://www.keswicktheatre.com/events/all
URL:https://michaeldamore.com/event/the-capris-come-to-the-keswick-theater/
LOCATION:Keswick Theater\, 291 N Keswick Ave.\, Glenside\, Pennsylvania\, 19038
CATEGORIES:One Man Show,The Capris
ATTACH;FMTTYPE=image/jpeg:https://michaeldamore.com/wp-content/uploads/2025/03/Keswick-3-29-25.jpg
END:VEVENT
END:VCALENDAR