BEGIN:VCALENDAR
VERSION:2.0
PRODID:-//Michael D&#039;Amore - ECPv6.15.20//NONSGML v1.0//EN
CALSCALE:GREGORIAN
METHOD:PUBLISH
X-WR-CALNAME:Michael D&#039;Amore
X-ORIGINAL-URL:https://michaeldamore.com
X-WR-CALDESC:Events for Michael D&#039;Amore
REFRESH-INTERVAL;VALUE=DURATION:PT1H
X-Robots-Tag:noindex
X-PUBLISHED-TTL:PT1H
BEGIN:VTIMEZONE
TZID:America/New_York
BEGIN:DAYLIGHT
TZOFFSETFROM:-0500
TZOFFSETTO:-0400
TZNAME:EDT
DTSTART:20240310T070000
END:DAYLIGHT
BEGIN:STANDARD
TZOFFSETFROM:-0400
TZOFFSETTO:-0500
TZNAME:EST
DTSTART:20241103T060000
END:STANDARD
BEGIN:DAYLIGHT
TZOFFSETFROM:-0500
TZOFFSETTO:-0400
TZNAME:EDT
DTSTART:20250309T070000
END:DAYLIGHT
BEGIN:STANDARD
TZOFFSETFROM:-0400
TZOFFSETTO:-0500
TZNAME:EST
DTSTART:20251102T060000
END:STANDARD
BEGIN:DAYLIGHT
TZOFFSETFROM:-0500
TZOFFSETTO:-0400
TZNAME:EDT
DTSTART:20260308T070000
END:DAYLIGHT
BEGIN:STANDARD
TZOFFSETFROM:-0400
TZOFFSETTO:-0500
TZNAME:EST
DTSTART:20261101T060000
END:STANDARD
END:VTIMEZONE
BEGIN:VTIMEZONE
TZID:UTC
BEGIN:STANDARD
TZOFFSETFROM:+0000
TZOFFSETTO:+0000
TZNAME:UTC
DTSTART:20240101T000000
END:STANDARD
END:VTIMEZONE
BEGIN:VEVENT
DTSTART;TZID=America/New_York:20250405T180000
DTEND;TZID=America/New_York:20250405T180000
DTSTAMP:20260421T101705
CREATED:20240919T142958Z
LAST-MODIFIED:20250403T152321Z
UID:5404-1743876000-1743876000@michaeldamore.com
SUMMARY:Giuseppe and the Lion
DESCRIPTION:Michael D’Amore Live\nIt isn’t often that I get to play with the band and it is open to the public.\nI am excited to have this public apearence with The Ryan Chapman Orchestra.\n  \nFor tickets call 239-592-0050 or click below\n \n 
URL:https://michaeldamore.com/event/giuseppe-and-the-lion-22/
LOCATION:Giuseppe and the Lion\, 1585 Pine Ridge Rd\, Naples\, FL\, 34109
CATEGORIES:One Man Show
ATTACH;FMTTYPE=image/png:https://michaeldamore.com/wp-content/uploads/2024/09/Giuseppe-Flyer-Ryan-Chapman-4-5-25.png
END:VEVENT
BEGIN:VEVENT
DTSTART;TZID=UTC:20250406T183000
DTEND;TZID=UTC:20250406T183000
DTSTAMP:20260421T101705
CREATED:20240920T142008Z
LAST-MODIFIED:20240920T142008Z
UID:5426-1743964200-1743964200@michaeldamore.com
SUMMARY:Dogtooth Sports & Music Bar
DESCRIPTION:Reservations are strongly recommended!!! \n  \nI look forward to seeing you there. \n 
URL:https://michaeldamore.com/event/dogtooth-sports-music-bar-89/
LOCATION:Dogtooth Sports and Music Bar\, 5310 Shirley St.\, Naples\, FL\, 34109\, United States
CATEGORIES:One Man Show
ATTACH;FMTTYPE=image/jpeg:https://michaeldamore.com/wp-content/uploads/2019/08/Dogtooth-Logo-3.jpg
END:VEVENT
BEGIN:VEVENT
DTSTART;TZID=America/New_York:20250408T180000
DTEND;TZID=America/New_York:20250408T180000
DTSTAMP:20260421T101705
CREATED:20240917T131907Z
LAST-MODIFIED:20240917T131907Z
UID:5387-1744135200-1744135200@michaeldamore.com
SUMMARY:Michael D'Amore returns to The Englewood Elks
DESCRIPTION:
URL:https://michaeldamore.com/event/michael-damore-returns-to-the-englewood-elks-10/
LOCATION:Englewood Elks  Lodge 2378\, 401 North Indiana Avenue\, Englewood\, FL\, 34223
CATEGORIES:One Man Show
ATTACH;FMTTYPE=image/jpeg:https://michaeldamore.com/wp-content/uploads/2024/09/Flyer-Englewood-Elks-Oct-thru-April-2025-copy-2.jpg
END:VEVENT
BEGIN:VEVENT
DTSTART;TZID=America/New_York:20250415T180000
DTEND;TZID=America/New_York:20250415T180000
DTSTAMP:20260421T101705
CREATED:20240919T144512Z
LAST-MODIFIED:20241017T123201Z
UID:5414-1744740000-1744740000@michaeldamore.com
SUMMARY:Michael D'Amore comes to New York Pizza & Pasta
DESCRIPTION:You all made these events at NYPP so much fun and so successful last season we are going to do it again\n\nTickets are selling so don’t wait.\n\nMusic and Laughter on Monday Night in Naples Florida.\nCall 239-594-3500 to reserve your tables and let’s have some fun.
URL:https://michaeldamore.com/event/michael-damore-comes-to-new-york-pizza-pasta-13/
LOCATION:New York Pizza & Pasta\, 11140 Tamiami Trail N.\, Naples\, FL\, 34110
CATEGORIES:One Man Show
ATTACH;FMTTYPE=image/jpeg:https://michaeldamore.com/wp-content/uploads/2024/09/Screenshot_20241017_081831_Samsung-Notes.jpg
END:VEVENT
BEGIN:VEVENT
DTSTART;TZID=UTC:20250416T180000
DTEND;TZID=UTC:20250416T180000
DTSTAMP:20260421T101705
CREATED:20240922T171726Z
LAST-MODIFIED:20240922T171726Z
UID:5463-1744826400-1744826400@michaeldamore.com
SUMMARY:Cass Cay
DESCRIPTION:
URL:https://michaeldamore.com/event/cass-cay-84/
LOCATION:Cass Cay\, 3200 Marcumbe Key Road\, Punta Gorda\, FL\, 33955\, United States
CATEGORIES:One Man Show
ATTACH;FMTTYPE=image/jpeg:https://michaeldamore.com/wp-content/uploads/2015/10/CassCayRestaurant.jpg
END:VEVENT
BEGIN:VEVENT
DTSTART;TZID=America/New_York:20250419T190000
DTEND;TZID=America/New_York:20250419T190000
DTSTAMP:20260421T101705
CREATED:20250304T142103Z
LAST-MODIFIED:20250304T142103Z
UID:5811-1745089200-1745089200@michaeldamore.com
SUMMARY:The Capris return to Mohegan Sun
DESCRIPTION:Oh What a Night of Doo Wop & Rock and Roll\nStarring \nKenny Vance & The Planotones\nThe Capris\nJimmy Gallagher & the Passions\nThe Dubs\nJoey Dee\nfeaturing Tom Schizzano & The Lar Enterprises Band\nHosted by Cool Bobby B
URL:https://michaeldamore.com/event/the-capris-return-to-mohegan-sun/
LOCATION:Mohegan Sun\, 1 Mohegan Sun Blvd\, Uncasville\, CT\, 06382
CATEGORIES:One Man Show,The Capris
ATTACH;FMTTYPE=image/jpeg:https://michaeldamore.com/wp-content/uploads/2025/03/Mohegan-Flyer-4-19-25.jpg
END:VEVENT
BEGIN:VEVENT
DTSTART;TZID=America/New_York:20250423T180000
DTEND;TZID=America/New_York:20250423T180000
DTSTAMP:20260421T101705
CREATED:20240920T142500Z
LAST-MODIFIED:20240920T142500Z
UID:5438-1745431200-1745431200@michaeldamore.com
SUMMARY:Michael D'Amore comes to Mango Rita's Rhythm House
DESCRIPTION:
URL:https://michaeldamore.com/event/michael-damore-comes-to-mango-ritas-rhythm-house-20/
LOCATION:Mango Rita’s Rhythm House\, 16440 S. Tamiami Trail\, Fort Myers\, FL\, 33908\, United States
CATEGORIES:One Man Show
ATTACH;FMTTYPE=image/png:https://michaeldamore.com/wp-content/uploads/2023/09/website-home-page-logo-rythym-house-1.png
END:VEVENT
BEGIN:VEVENT
DTSTART;TZID=America/New_York:20250429T180000
DTEND;TZID=America/New_York:20250429T180000
DTSTAMP:20260421T101705
CREATED:20240917T131930Z
LAST-MODIFIED:20240917T131930Z
UID:5389-1745949600-1745949600@michaeldamore.com
SUMMARY:Michael D'Amore returns to The Englewood Elks
DESCRIPTION:
URL:https://michaeldamore.com/event/michael-damore-returns-to-the-englewood-elks-11/
LOCATION:Englewood Elks  Lodge 2378\, 401 North Indiana Avenue\, Englewood\, FL\, 34223
CATEGORIES:One Man Show
ATTACH;FMTTYPE=image/jpeg:https://michaeldamore.com/wp-content/uploads/2024/09/Flyer-Englewood-Elks-Oct-thru-April-2025-copy-2.jpg
END:VEVENT
END:VCALENDAR