BEGIN:VCALENDAR
VERSION:2.0
PRODID:-//Michael D&#039;Amore - ECPv6.15.20//NONSGML v1.0//EN
CALSCALE:GREGORIAN
METHOD:PUBLISH
X-WR-CALNAME:Michael D&#039;Amore
X-ORIGINAL-URL:https://michaeldamore.com
X-WR-CALDESC:Events for Michael D&#039;Amore
REFRESH-INTERVAL;VALUE=DURATION:PT1H
X-Robots-Tag:noindex
X-PUBLISHED-TTL:PT1H
BEGIN:VTIMEZONE
TZID:America/New_York
BEGIN:DAYLIGHT
TZOFFSETFROM:-0500
TZOFFSETTO:-0400
TZNAME:EDT
DTSTART:20240310T070000
END:DAYLIGHT
BEGIN:STANDARD
TZOFFSETFROM:-0400
TZOFFSETTO:-0500
TZNAME:EST
DTSTART:20241103T060000
END:STANDARD
BEGIN:DAYLIGHT
TZOFFSETFROM:-0500
TZOFFSETTO:-0400
TZNAME:EDT
DTSTART:20250309T070000
END:DAYLIGHT
BEGIN:STANDARD
TZOFFSETFROM:-0400
TZOFFSETTO:-0500
TZNAME:EST
DTSTART:20251102T060000
END:STANDARD
BEGIN:DAYLIGHT
TZOFFSETFROM:-0500
TZOFFSETTO:-0400
TZNAME:EDT
DTSTART:20260308T070000
END:DAYLIGHT
BEGIN:STANDARD
TZOFFSETFROM:-0400
TZOFFSETTO:-0500
TZNAME:EST
DTSTART:20261101T060000
END:STANDARD
END:VTIMEZONE
BEGIN:VTIMEZONE
TZID:UTC
BEGIN:STANDARD
TZOFFSETFROM:+0000
TZOFFSETTO:+0000
TZNAME:UTC
DTSTART:20240101T000000
END:STANDARD
END:VTIMEZONE
BEGIN:VEVENT
DTSTART;TZID=America/New_York:20251008T180000
DTEND;TZID=America/New_York:20251008T180000
DTSTAMP:20260421T001035
CREATED:20250503T120657Z
LAST-MODIFIED:20250503T120657Z
UID:5844-1759946400-1759946400@michaeldamore.com
SUMMARY:Michael D'Amore comes to Mango Rita's Rhythm House
DESCRIPTION:
URL:https://michaeldamore.com/event/michael-damore-comes-to-mango-ritas-rhythm-house-26/
LOCATION:Mango Rita’s Rhythm House\, 16440 S. Tamiami Trail\, Fort Myers\, FL\, 33908\, United States
CATEGORIES:One Man Show
ATTACH;FMTTYPE=image/png:https://michaeldamore.com/wp-content/uploads/2023/09/website-home-page-logo-rythym-house-1.png
END:VEVENT
BEGIN:VEVENT
DTSTART;TZID=America/New_York:20251016T190000
DTEND;TZID=America/New_York:20251016T190000
DTSTAMP:20260421T001035
CREATED:20250503T121413Z
LAST-MODIFIED:20250928T002502Z
UID:5868-1760641200-1760641200@michaeldamore.com
SUMMARY:Giuseppe and the Lion
DESCRIPTION:
URL:https://michaeldamore.com/event/giuseppe-and-the-lion-28/
LOCATION:Giuseppe and the Lion\, 1585 Pine Ridge Rd\, Naples\, FL\, 34109
CATEGORIES:One Man Show
ATTACH;FMTTYPE=image/jpeg:https://michaeldamore.com/wp-content/uploads/2023/09/Giuseppe-Flyer-Aug-thru-April-2024-copy-e1746273659710.jpg
END:VEVENT
BEGIN:VEVENT
DTSTART;TZID=UTC:20251019T183000
DTEND;TZID=UTC:20251019T183000
DTSTAMP:20260421T001035
CREATED:20250503T122953Z
LAST-MODIFIED:20250503T122953Z
UID:5885-1760898600-1760898600@michaeldamore.com
SUMMARY:Dogtooth Sports & Music Bar
DESCRIPTION:Reservations are strongly recommended!!! \n  \nI look forward to seeing you there. \n 
URL:https://michaeldamore.com/event/dogtooth-sports-music-bar-94/
LOCATION:Dogtooth Sports and Music Bar\, 5310 Shirley St.\, Naples\, FL\, 34109\, United States
CATEGORIES:One Man Show
ATTACH;FMTTYPE=image/jpeg:https://michaeldamore.com/wp-content/uploads/2019/08/Dogtooth-Logo-3.jpg
END:VEVENT
BEGIN:VEVENT
DTSTART;TZID=America/New_York:20251020T180000
DTEND;TZID=America/New_York:20251020T180000
DTSTAMP:20260421T001035
CREATED:20250819T031908Z
LAST-MODIFIED:20250819T031908Z
UID:5996-1760983200-1760983200@michaeldamore.com
SUMMARY:Michael D'Amore comes to New York Pizza & Pasta
DESCRIPTION:You all made these events at NYPP so much fun and so successful the last few years we are going to do it again\n\nTickets are selling so don’t wait.\n\nMusic and Laughter on Monday Night in Naples Florida.\nCall 239-594-3500 to reserve your tables and let’s have some fun.
URL:https://michaeldamore.com/event/michael-damore-comes-to-new-york-pizza-pasta-15/
LOCATION:New York Pizza & Pasta\, 11140 Tamiami Trail N.\, Naples\, FL\, 34110
CATEGORIES:One Man Show
ATTACH;FMTTYPE=image/jpeg:https://michaeldamore.com/wp-content/uploads/2025/08/Flyer-NYPP-10-20-25-scaled.jpg
END:VEVENT
BEGIN:VEVENT
DTSTART;TZID=America/New_York:20251021T180000
DTEND;TZID=America/New_York:20251021T180000
DTSTAMP:20260421T001035
CREATED:20250503T120734Z
LAST-MODIFIED:20250503T120734Z
UID:5846-1761069600-1761069600@michaeldamore.com
SUMMARY:Michael D'Amore comes to Mango Rita's Rhythm House
DESCRIPTION:
URL:https://michaeldamore.com/event/michael-damore-comes-to-mango-ritas-rhythm-house-27/
LOCATION:Mango Rita’s Rhythm House\, 16440 S. Tamiami Trail\, Fort Myers\, FL\, 33908\, United States
CATEGORIES:One Man Show
ATTACH;FMTTYPE=image/png:https://michaeldamore.com/wp-content/uploads/2023/09/website-home-page-logo-rythym-house-1.png
END:VEVENT
BEGIN:VEVENT
DTSTART;TZID=UTC:20251022T170000
DTEND;TZID=UTC:20251022T170000
DTSTAMP:20260421T001035
CREATED:20250925T160755Z
LAST-MODIFIED:20250925T160755Z
UID:6049-1761152400-1761152400@michaeldamore.com
SUMMARY:Cass Cay
DESCRIPTION:
URL:https://michaeldamore.com/event/cass-cay-90/
LOCATION:Cass Cay\, 3200 Marcumbe Key Road\, Punta Gorda\, FL\, 33955\, United States
CATEGORIES:One Man Show
ATTACH;FMTTYPE=image/jpeg:https://michaeldamore.com/wp-content/uploads/2015/10/CassCayRestaurant.jpg
END:VEVENT
BEGIN:VEVENT
DTSTART;TZID=America/New_York:20251026T180000
DTEND;TZID=America/New_York:20251026T180000
DTSTAMP:20260421T001035
CREATED:20250802T182244Z
LAST-MODIFIED:20250825T005155Z
UID:5952-1761501600-1761501600@michaeldamore.com
SUMMARY:Michael D'Amore comes to Mare Terra
DESCRIPTION:I’m looking forward to coming to Bonita Springs and seeing everyone \nThis is a special dinner show \n$50.00 ++ per person – includes a 3 course meal with choice of entree (A La Carte menu will be available) \nCall 239-317-2161 to book you tables and I’ll see you there. \n 
URL:https://michaeldamore.com/event/michael-damore-comes-to-mare-terra/
LOCATION:Mare Terra\, 28340 Trails Edge Blvd.\, Bonita Springs\, FL\, 34134
CATEGORIES:One Man Show
ATTACH;FMTTYPE=image/jpeg:https://michaeldamore.com/wp-content/uploads/2025/08/Flyer-Mare-Terra-10-26-25-copy-scaled.jpg
END:VEVENT
END:VCALENDAR