BEGIN:VCALENDAR
VERSION:2.0
PRODID:-//Michael D&#039;Amore - ECPv6.15.20//NONSGML v1.0//EN
CALSCALE:GREGORIAN
METHOD:PUBLISH
X-WR-CALNAME:Michael D&#039;Amore
X-ORIGINAL-URL:https://michaeldamore.com
X-WR-CALDESC:Events for Michael D&#039;Amore
REFRESH-INTERVAL;VALUE=DURATION:PT1H
X-Robots-Tag:noindex
X-PUBLISHED-TTL:PT1H
BEGIN:VTIMEZONE
TZID:America/New_York
BEGIN:DAYLIGHT
TZOFFSETFROM:-0500
TZOFFSETTO:-0400
TZNAME:EDT
DTSTART:20240310T070000
END:DAYLIGHT
BEGIN:STANDARD
TZOFFSETFROM:-0400
TZOFFSETTO:-0500
TZNAME:EST
DTSTART:20241103T060000
END:STANDARD
BEGIN:DAYLIGHT
TZOFFSETFROM:-0500
TZOFFSETTO:-0400
TZNAME:EDT
DTSTART:20250309T070000
END:DAYLIGHT
BEGIN:STANDARD
TZOFFSETFROM:-0400
TZOFFSETTO:-0500
TZNAME:EST
DTSTART:20251102T060000
END:STANDARD
BEGIN:DAYLIGHT
TZOFFSETFROM:-0500
TZOFFSETTO:-0400
TZNAME:EDT
DTSTART:20260308T070000
END:DAYLIGHT
BEGIN:STANDARD
TZOFFSETFROM:-0400
TZOFFSETTO:-0500
TZNAME:EST
DTSTART:20261101T060000
END:STANDARD
END:VTIMEZONE
BEGIN:VTIMEZONE
TZID:UTC
BEGIN:STANDARD
TZOFFSETFROM:+0000
TZOFFSETTO:+0000
TZNAME:UTC
DTSTART:20240101T000000
END:STANDARD
END:VTIMEZONE
BEGIN:VEVENT
DTSTART;TZID=America/New_York:20251202T180000
DTEND;TZID=America/New_York:20251202T180000
DTSTAMP:20260420T203759
CREATED:20250802T192012Z
LAST-MODIFIED:20250925T154717Z
UID:5972-1764698400-1764698400@michaeldamore.com
SUMMARY:Michael D'Amore comes to Mango Rita's Rhythm House
DESCRIPTION:
URL:https://michaeldamore.com/event/michael-damore-comes-to-mango-ritas-rhythm-house-28/
LOCATION:Mango Rita’s Rhythm House\, 16440 S. Tamiami Trail\, Fort Myers\, FL\, 33908\, United States
CATEGORIES:One Man Show
ATTACH;FMTTYPE=image/png:https://michaeldamore.com/wp-content/uploads/2023/09/website-home-page-logo-rythym-house-1.png
END:VEVENT
BEGIN:VEVENT
DTSTART;TZID=America/New_York:20251203T190000
DTEND;TZID=America/New_York:20251203T190000
DTSTAMP:20260420T203759
CREATED:20250503T125915Z
LAST-MODIFIED:20250918T151417Z
UID:5891-1764788400-1764788400@michaeldamore.com
SUMMARY:Michael D'Amore returns to Boca Raton
DESCRIPTION:We always have so much fun at The Boca Black Box and\nI can’t wait to get back to for a special evening of holiday cheer.\nThis night will be filled with the music we love\, a few holiday favorites and a bunch of laughs\nClick below to grab your seats.\nCall The Box Office at 561-483-9036
URL:https://michaeldamore.com/event/michael-damore-returns-to-boca-raton-6/
LOCATION:Boca Black Box\, 8221 Glades Road\, Boca Raton\, FL\, 33434
CATEGORIES:One Man Show
ATTACH;FMTTYPE=image/jpeg:https://michaeldamore.com/wp-content/uploads/2025/05/Flyer-Michael-DAmore-Boca-Black-Box-12-3-25-copy.jpg
END:VEVENT
BEGIN:VEVENT
DTSTART;TZID=America/New_York:20251207T180000
DTEND;TZID=America/New_York:20251207T180000
DTSTAMP:20260420T203759
CREATED:20251031T002055Z
LAST-MODIFIED:20251031T002055Z
UID:6098-1765130400-1765130400@michaeldamore.com
SUMMARY:Michael D'Amore comes to Mare Terra
DESCRIPTION:I’m looking forward to coming back to Bonita Springs and seeing everyone\n\nThis is a special dinner show \n$50.00 ++ per person – includes a 3 course meal with choice of entree (A La Carte menu will be available) \nCall 239-317-2161 to book you tables and I’ll see you there. \n 
URL:https://michaeldamore.com/event/michael-damore-comes-to-mare-terra-2/
LOCATION:Mare Terra\, 28340 Trails Edge Blvd.\, Bonita Springs\, FL\, 34134
CATEGORIES:One Man Show
ATTACH;FMTTYPE=image/jpeg:https://michaeldamore.com/wp-content/uploads/2025/10/Flyer-Mare-Terra-12-7-25-copy-2-scaled.jpg
END:VEVENT
BEGIN:VEVENT
DTSTART;TZID=UTC:20251210T170000
DTEND;TZID=UTC:20251210T170000
DTSTAMP:20260420T203759
CREATED:20250925T160907Z
LAST-MODIFIED:20250925T160907Z
UID:6051-1765386000-1765386000@michaeldamore.com
SUMMARY:Cass Cay
DESCRIPTION:
URL:https://michaeldamore.com/event/cass-cay-91/
LOCATION:Cass Cay\, 3200 Marcumbe Key Road\, Punta Gorda\, FL\, 33955\, United States
CATEGORIES:One Man Show
ATTACH;FMTTYPE=image/jpeg:https://michaeldamore.com/wp-content/uploads/2015/10/CassCayRestaurant.jpg
END:VEVENT
BEGIN:VEVENT
DTSTART;TZID=America/New_York:20251215T180000
DTEND;TZID=America/New_York:20251215T180000
DTSTAMP:20260420T203759
CREATED:20250925T213739Z
LAST-MODIFIED:20250925T213739Z
UID:6068-1765821600-1765821600@michaeldamore.com
SUMMARY:Michael D'Amore comes to New York Pizza & Pasta
DESCRIPTION:You all made these events at NYPP so much fun and so successful the last few years we are going to do it again\n\nTickets are selling so don’t wait.\n\nMusic and Laughter on Monday Night in Naples Florida.\nCall 239-594-3500 to reserve your tables and let’s have some fun.
URL:https://michaeldamore.com/event/michael-damore-comes-to-new-york-pizza-pasta-17/
LOCATION:New York Pizza & Pasta\, 11140 Tamiami Trail N.\, Naples\, FL\, 34110
CATEGORIES:One Man Show
ATTACH;FMTTYPE=image/jpeg:https://michaeldamore.com/wp-content/uploads/2025/09/NYPP-25-26.jpg
END:VEVENT
BEGIN:VEVENT
DTSTART;TZID=America/New_York:20251217T180000
DTEND;TZID=America/New_York:20251217T180000
DTSTAMP:20260420T203759
CREATED:20250503T120829Z
LAST-MODIFIED:20250503T120829Z
UID:5850-1765994400-1765994400@michaeldamore.com
SUMMARY:Michael D'Amore comes to Mango Rita's Rhythm House
DESCRIPTION:
URL:https://michaeldamore.com/event/michael-damore-comes-to-mango-ritas-rhythm-house-29/
LOCATION:Mango Rita’s Rhythm House\, 16440 S. Tamiami Trail\, Fort Myers\, FL\, 33908\, United States
CATEGORIES:One Man Show
ATTACH;FMTTYPE=image/png:https://michaeldamore.com/wp-content/uploads/2023/09/website-home-page-logo-rythym-house-1.png
END:VEVENT
BEGIN:VEVENT
DTSTART;TZID=UTC:20251218T190000
DTEND;TZID=UTC:20251218T190000
DTSTAMP:20260420T203759
CREATED:20250503T132153Z
LAST-MODIFIED:20250804T161428Z
UID:5895-1766084400-1766084400@michaeldamore.com
SUMMARY:7th Annual Michael D'Amore Christmas Show at The Cultural Park Theater
DESCRIPTION:One Night Only\nI’m really looking forward to an intimate night of song and cheer.  I’ll be performing not only holiday music but favorites from the past few years.  Join us for some laughs sing-alongs and a cheerful good time.\nThis will be the only Christmas show open to the public on the west coast of Florida this season\nand my family and I can’t wait to share our Christmas with you\n7:00 PM Showtime\nClick below to purchase tickets\n \nBox Office: 239-772-5862\nTickets on sale now
URL:https://michaeldamore.com/event/7th-annual-michael-damore-christmas-show-at-the-cultural-park-theater/
LOCATION:Cultural Park Theater\, 528 Cultural Park Blvd.\, Cape Coral\, 33990\, United States
CATEGORIES:One Man Show
ATTACH;FMTTYPE=image/jpeg:https://michaeldamore.com/wp-content/uploads/2025/05/Flyer-Christmas-Show-2025-Cultural-Park-12-18-25-copy-1-scaled.jpg
END:VEVENT
BEGIN:VEVENT
DTSTART;TZID=America/New_York:20251220T190000
DTEND;TZID=America/New_York:20251220T190000
DTSTAMP:20260420T203759
CREATED:20250503T122355Z
LAST-MODIFIED:20251215T021846Z
UID:5873-1766257200-1766257200@michaeldamore.com
SUMMARY:Giuseppe and the Lion
DESCRIPTION:Michael D’Amore Live\nIt isn’t often that I get to play with the band and it is open to the public.\nI am excited to have this public appearance with The Ryan Chapman Orchestra.\n  \nFor tickets call 239-592-0050 or click below\n \n 
URL:https://michaeldamore.com/event/giuseppe-and-the-lion-30/
LOCATION:Giuseppe and the Lion\, 1585 Pine Ridge Rd\, Naples\, FL\, 34109
CATEGORIES:One Man Show
ATTACH;FMTTYPE=image/jpeg:https://michaeldamore.com/wp-content/uploads/2025/05/Giuseppe-Flyer-Ryan-Chapman-12-20-25-copy.jpg
END:VEVENT
BEGIN:VEVENT
DTSTART;TZID=UTC:20251221T183000
DTEND;TZID=UTC:20251221T183000
DTSTAMP:20260420T203759
CREATED:20250503T123049Z
LAST-MODIFIED:20250503T123049Z
UID:5889-1766341800-1766341800@michaeldamore.com
SUMMARY:Dogtooth Sports & Music Bar
DESCRIPTION:Reservations are strongly recommended!!! \n  \nI look forward to seeing you there. \n 
URL:https://michaeldamore.com/event/dogtooth-sports-music-bar-96/
LOCATION:Dogtooth Sports and Music Bar\, 5310 Shirley St.\, Naples\, FL\, 34109\, United States
CATEGORIES:One Man Show
ATTACH;FMTTYPE=image/jpeg:https://michaeldamore.com/wp-content/uploads/2019/08/Dogtooth-Logo-3.jpg
END:VEVENT
END:VCALENDAR