BEGIN:VCALENDAR
VERSION:2.0
PRODID:-//Michael D&#039;Amore - ECPv6.15.20//NONSGML v1.0//EN
CALSCALE:GREGORIAN
METHOD:PUBLISH
X-ORIGINAL-URL:https://michaeldamore.com
X-WR-CALDESC:Events for Michael D&#039;Amore
REFRESH-INTERVAL;VALUE=DURATION:PT1H
X-Robots-Tag:noindex
X-PUBLISHED-TTL:PT1H
BEGIN:VTIMEZONE
TZID:UTC
BEGIN:STANDARD
TZOFFSETFROM:+0000
TZOFFSETTO:+0000
TZNAME:UTC
DTSTART:20250101T000000
END:STANDARD
END:VTIMEZONE
BEGIN:VTIMEZONE
TZID:America/New_York
BEGIN:DAYLIGHT
TZOFFSETFROM:-0500
TZOFFSETTO:-0400
TZNAME:EDT
DTSTART:20250309T070000
END:DAYLIGHT
BEGIN:STANDARD
TZOFFSETFROM:-0400
TZOFFSETTO:-0500
TZNAME:EST
DTSTART:20251102T060000
END:STANDARD
BEGIN:DAYLIGHT
TZOFFSETFROM:-0500
TZOFFSETTO:-0400
TZNAME:EDT
DTSTART:20260308T070000
END:DAYLIGHT
BEGIN:STANDARD
TZOFFSETFROM:-0400
TZOFFSETTO:-0500
TZNAME:EST
DTSTART:20261101T060000
END:STANDARD
BEGIN:DAYLIGHT
TZOFFSETFROM:-0500
TZOFFSETTO:-0400
TZNAME:EDT
DTSTART:20270314T070000
END:DAYLIGHT
BEGIN:STANDARD
TZOFFSETFROM:-0400
TZOFFSETTO:-0500
TZNAME:EST
DTSTART:20271107T060000
END:STANDARD
END:VTIMEZONE
BEGIN:VEVENT
DTSTART;TZID=UTC:20260104T183000
DTEND;TZID=UTC:20260104T183000
DTSTAMP:20260420T185211
CREATED:20251001T154235Z
LAST-MODIFIED:20251001T154235Z
UID:6087-1767551400-1767551400@michaeldamore.com
SUMMARY:Dogtooth Sports & Music Bar
DESCRIPTION:Reservations are strongly recommended!!! \n  \nI look forward to seeing you there. \n 
URL:https://michaeldamore.com/event/dogtooth-sports-music-bar-97/
LOCATION:Dogtooth Sports and Music Bar\, 5310 Shirley St.\, Naples\, FL\, 34109\, United States
CATEGORIES:One Man Show
ATTACH;FMTTYPE=image/jpeg:https://michaeldamore.com/wp-content/uploads/2019/08/Dogtooth-Logo-3.jpg
END:VEVENT
BEGIN:VEVENT
DTSTART;TZID=America/New_York:20260107T180000
DTEND;TZID=America/New_York:20260107T180000
DTSTAMP:20260420T185211
CREATED:20250925T154834Z
LAST-MODIFIED:20250925T155445Z
UID:6036-1767808800-1767808800@michaeldamore.com
SUMMARY:Michael D'Amore comes to Mango Rita's Rhythm House
DESCRIPTION:
URL:https://michaeldamore.com/event/michael-damore-comes-to-mango-ritas-rhythm-house-31/
LOCATION:Mango Rita’s Rhythm House\, 16440 S. Tamiami Trail\, Fort Myers\, FL\, 33908\, United States
CATEGORIES:One Man Show
ATTACH;FMTTYPE=image/png:https://michaeldamore.com/wp-content/uploads/2023/09/website-home-page-logo-rythym-house-1.png
END:VEVENT
BEGIN:VEVENT
DTSTART;TZID=America/New_York:20260112T180000
DTEND;TZID=America/New_York:20260112T180000
DTSTAMP:20260420T185211
CREATED:20250925T213837Z
LAST-MODIFIED:20250925T213837Z
UID:6070-1768240800-1768240800@michaeldamore.com
SUMMARY:Michael D'Amore comes to New York Pizza & Pasta
DESCRIPTION:You all made these events at NYPP so much fun and so successful the last few years we are going to do it again\n\nTickets are selling so don’t wait.\n\nMusic and Laughter on Monday Night in Naples Florida.\nCall 239-594-3500 to reserve your tables and let’s have some fun.
URL:https://michaeldamore.com/event/michael-damore-comes-to-new-york-pizza-pasta-18/
LOCATION:New York Pizza & Pasta\, 11140 Tamiami Trail N.\, Naples\, FL\, 34110
CATEGORIES:One Man Show
ATTACH;FMTTYPE=image/jpeg:https://michaeldamore.com/wp-content/uploads/2025/09/NYPP-25-26.jpg
END:VEVENT
BEGIN:VEVENT
DTSTART;TZID=America/New_York:20260117T190000
DTEND;TZID=America/New_York:20260117T190000
DTSTAMP:20260420T185211
CREATED:20251215T021400Z
LAST-MODIFIED:20260109T191627Z
UID:6111-1768676400-1768676400@michaeldamore.com
SUMMARY:Giuseppe and the Lion
DESCRIPTION:Michael D’Amore Live\nIt isn’t often that I get to play with the band and it is open to the public.\nI am excited to have this public appearance with The Ryan Chapman Orchestra.\n  \nFor tickets call 239-592-0050\nor click the ticket below\n \n 
URL:https://michaeldamore.com/event/giuseppe-and-the-lion-31/
LOCATION:Giuseppe and the Lion\, 1585 Pine Ridge Rd\, Naples\, FL\, 34109
CATEGORIES:One Man Show
ATTACH;FMTTYPE=image/jpeg:https://michaeldamore.com/wp-content/uploads/2025/12/Giuseppe-Flyer-Ryan-Chapman-1-17-26.jpg
END:VEVENT
BEGIN:VEVENT
DTSTART;TZID=America/New_York:20260118T180000
DTEND;TZID=America/New_York:20260118T180000
DTSTAMP:20260420T185211
CREATED:20251215T012507Z
LAST-MODIFIED:20251215T012507Z
UID:6108-1768759200-1768759200@michaeldamore.com
SUMMARY:Michael D'Amore comes to Mare Terra
DESCRIPTION:I’m looking forward to coming back to Bonita Springs and seeing everyone \nThis is a special dinner show \n$50.00 ++ per person – includes a 3 course meal with choice of entree (A La Carte menu will be available) \nCall 239-317-2161 to book you tables and I’ll see you there. \n 
URL:https://michaeldamore.com/event/michael-damore-comes-to-mare-terra-3/
LOCATION:Mare Terra\, 28340 Trails Edge Blvd.\, Bonita Springs\, FL\, 34134
CATEGORIES:One Man Show
ATTACH;FMTTYPE=image/jpeg:https://michaeldamore.com/wp-content/uploads/2025/12/Flyer-Mare-Terra-1-18-26-black-copy-scaled.jpg
END:VEVENT
BEGIN:VEVENT
DTSTART;TZID=UTC:20260121T170000
DTEND;TZID=UTC:20260121T170000
DTSTAMP:20260420T185211
CREATED:20250925T161001Z
LAST-MODIFIED:20250925T161001Z
UID:6053-1769014800-1769014800@michaeldamore.com
SUMMARY:Cass Cay
DESCRIPTION:
URL:https://michaeldamore.com/event/cass-cay-92/
LOCATION:Cass Cay\, 3200 Marcumbe Key Road\, Punta Gorda\, FL\, 33955\, United States
CATEGORIES:One Man Show
ATTACH;FMTTYPE=image/jpeg:https://michaeldamore.com/wp-content/uploads/2015/10/CassCayRestaurant.jpg
END:VEVENT
BEGIN:VEVENT
DTSTART;TZID=America/New_York:20260122T200000
DTEND;TZID=America/New_York:20260122T200000
DTSTAMP:20260420T185211
CREATED:20251220T005256Z
LAST-MODIFIED:20260107T174802Z
UID:6129-1769112000-1769112000@michaeldamore.com
SUMMARY:Michael D'Amore comes to Emerald Pointe in Delray Beach
DESCRIPTION:It is a pleasure to be coming to Emerald Pointe in Delray Beach\nFor tickets please email Rosie at\nRose4847@aol.com\nShe will get back to you and get you your tickets
URL:https://michaeldamore.com/event/michael-damore-comes-to-emerald-pointe-in-delray-beach/
LOCATION:Emerlad Pointe\, 7648 Emerald Pointe Blvd.\, Delray Beach\, FL\, 33446
CATEGORIES:One Man Show
ATTACH;FMTTYPE=image/jpeg:https://michaeldamore.com/wp-content/uploads/2025/12/Flyer-Emerald-Pointe-Delray-1-22-26-copy-1170x15141-1.jpg
END:VEVENT
END:VCALENDAR