BEGIN:VCALENDAR
VERSION:2.0
PRODID:-//Michael D&#039;Amore - ECPv6.15.20//NONSGML v1.0//EN
CALSCALE:GREGORIAN
METHOD:PUBLISH
X-ORIGINAL-URL:https://michaeldamore.com
X-WR-CALDESC:Events for Michael D&#039;Amore
REFRESH-INTERVAL;VALUE=DURATION:PT1H
X-Robots-Tag:noindex
X-PUBLISHED-TTL:PT1H
BEGIN:VTIMEZONE
TZID:UTC
BEGIN:STANDARD
TZOFFSETFROM:+0000
TZOFFSETTO:+0000
TZNAME:UTC
DTSTART:20250101T000000
END:STANDARD
END:VTIMEZONE
BEGIN:VTIMEZONE
TZID:America/New_York
BEGIN:DAYLIGHT
TZOFFSETFROM:-0500
TZOFFSETTO:-0400
TZNAME:EDT
DTSTART:20250309T070000
END:DAYLIGHT
BEGIN:STANDARD
TZOFFSETFROM:-0400
TZOFFSETTO:-0500
TZNAME:EST
DTSTART:20251102T060000
END:STANDARD
BEGIN:DAYLIGHT
TZOFFSETFROM:-0500
TZOFFSETTO:-0400
TZNAME:EDT
DTSTART:20260308T070000
END:DAYLIGHT
BEGIN:STANDARD
TZOFFSETFROM:-0400
TZOFFSETTO:-0500
TZNAME:EST
DTSTART:20261101T060000
END:STANDARD
BEGIN:DAYLIGHT
TZOFFSETFROM:-0500
TZOFFSETTO:-0400
TZNAME:EDT
DTSTART:20270314T070000
END:DAYLIGHT
BEGIN:STANDARD
TZOFFSETFROM:-0400
TZOFFSETTO:-0500
TZNAME:EST
DTSTART:20271107T060000
END:STANDARD
END:VTIMEZONE
BEGIN:VEVENT
DTSTART;TZID=UTC:20260301T183000
DTEND;TZID=UTC:20260301T183000
DTSTAMP:20260420T152204
CREATED:20251001T154540Z
LAST-MODIFIED:20251001T154540Z
UID:6091-1772389800-1772389800@michaeldamore.com
SUMMARY:Dogtooth Sports & Music Bar
DESCRIPTION:Reservations are strongly recommended!!! \n  \nI look forward to seeing you there. \n 
URL:https://michaeldamore.com/event/dogtooth-sports-music-bar-99/
LOCATION:Dogtooth Sports and Music Bar\, 5310 Shirley St.\, Naples\, FL\, 34109\, United States
CATEGORIES:One Man Show
ATTACH;FMTTYPE=image/jpeg:https://michaeldamore.com/wp-content/uploads/2019/08/Dogtooth-Logo-3.jpg
END:VEVENT
BEGIN:VEVENT
DTSTART;TZID=America/New_York:20260310T180000
DTEND;TZID=America/New_York:20260310T180000
DTSTAMP:20260420T152204
CREATED:20220718T100753Z
LAST-MODIFIED:20260224T230231Z
UID:4238-1773165600-1773165600@michaeldamore.com
SUMMARY:Michael D'Amore returns to The Lani Kai
DESCRIPTION:You don’t want to miss the sunset.  That alone is worth the trip.\nDon’t wait to make your reservations.\n  \nCall (239) 463-3111 for your reservations\n 
URL:https://michaeldamore.com/event/lanikai/
LOCATION:Lani Kai Island Resort\, 1400 Estero Blvd.\, Fort Myers Beach\, Fl\, 33931
CATEGORIES:One Man Show
ATTACH;FMTTYPE=image/jpeg:https://michaeldamore.com/wp-content/uploads/2022/07/IMG_3252.jpg
END:VEVENT
BEGIN:VEVENT
DTSTART;TZID=America/New_York:20260311T180000
DTEND;TZID=America/New_York:20260311T180000
DTSTAMP:20260420T152204
CREATED:20250925T155128Z
LAST-MODIFIED:20250925T155128Z
UID:6043-1773252000-1773252000@michaeldamore.com
SUMMARY:Michael D'Amore comes to Mango Rita's Rhythm House
DESCRIPTION:
URL:https://michaeldamore.com/event/michael-damore-comes-to-mango-ritas-rhythm-house-33/
LOCATION:Mango Rita’s Rhythm House\, 16440 S. Tamiami Trail\, Fort Myers\, FL\, 33908\, United States
CATEGORIES:One Man Show
ATTACH;FMTTYPE=image/png:https://michaeldamore.com/wp-content/uploads/2023/09/website-home-page-logo-rythym-house-1.png
END:VEVENT
BEGIN:VEVENT
DTSTART;TZID=UTC:20260312T180000
DTEND;TZID=UTC:20260312T180000
DTSTAMP:20260420T152204
CREATED:20200127T230000Z
LAST-MODIFIED:20260212T180617Z
UID:2165-1773338400-1773338400@michaeldamore.com
SUMMARY:Michael D'Amore returns to Artichoke & Company
DESCRIPTION:I am happy to be returning to Artichoke & Company for a\nOne Night Only Special Event this season.\nI look forward to seeing everyone once again for this evening of music and laughter.\nCall 239-263-6979 to reserve your seats and let’s have some fun.
URL:https://michaeldamore.com/event/artichoke-company/
LOCATION:Artichoke & Company\, 11920 Saradrienne Lane\, Bonita Springs\, FL\, 34135
CATEGORIES:Dinner Shows,One Man Show
ATTACH;FMTTYPE=image/jpeg:https://michaeldamore.com/wp-content/uploads/2020/01/Artichoke-flyer-1-scaled.jpg
END:VEVENT
BEGIN:VEVENT
DTSTART;TZID=America/New_York:20260313T173000
DTEND;TZID=America/New_York:20260313T173000
DTSTAMP:20260420T152204
CREATED:20260223T170720Z
LAST-MODIFIED:20260223T170720Z
UID:6192-1773423000-1773423000@michaeldamore.com
SUMMARY:The Naples Italian American Foundation present Michael D'Amore
DESCRIPTION:It is an honor to be performing for\nThe Naples Italian American Foundation\nClick below to get you tickets and I will see you in Naples Florida
URL:https://michaeldamore.com/event/the-naples-italian-american-foundation-present-michael-damore/
LOCATION:Naples Italian American Foundation\, 7035 Airport Pulling Road\, Naples\, FL\, 34109
CATEGORIES:One Man Show
ATTACH;FMTTYPE=image/jpeg:https://michaeldamore.com/wp-content/uploads/2026/02/Flyer-Naples-Italian-American-Foundation-3-13-26-copy.jpg
END:VEVENT
BEGIN:VEVENT
DTSTART;TZID=America/New_York:20260316T180000
DTEND;TZID=America/New_York:20260316T180000
DTSTAMP:20260420T152204
CREATED:20250925T214119Z
LAST-MODIFIED:20250925T214119Z
UID:6076-1773684000-1773684000@michaeldamore.com
SUMMARY:Michael D'Amore comes to New York Pizza & Pasta
DESCRIPTION:You all made these events at NYPP so much fun and so successful the last few years we are going to do it again\n\nTickets are selling so don’t wait.\n\nMusic and Laughter on Monday Night in Naples Florida.\nCall 239-594-3500 to reserve your tables and let’s have some fun.
URL:https://michaeldamore.com/event/michael-damore-comes-to-new-york-pizza-pasta-21/
LOCATION:New York Pizza & Pasta\, 11140 Tamiami Trail N.\, Naples\, FL\, 34110
CATEGORIES:One Man Show
ATTACH;FMTTYPE=image/jpeg:https://michaeldamore.com/wp-content/uploads/2025/09/NYPP-25-26.jpg
END:VEVENT
BEGIN:VEVENT
DTSTART;TZID=UTC:20260325T170000
DTEND;TZID=UTC:20260325T170000
DTSTAMP:20260420T152204
CREATED:20250925T161545Z
LAST-MODIFIED:20250925T161545Z
UID:6057-1774458000-1774458000@michaeldamore.com
SUMMARY:Cass Cay
DESCRIPTION:
URL:https://michaeldamore.com/event/cass-cay-94/
LOCATION:Cass Cay\, 3200 Marcumbe Key Road\, Punta Gorda\, FL\, 33955\, United States
CATEGORIES:One Man Show
ATTACH;FMTTYPE=image/jpeg:https://michaeldamore.com/wp-content/uploads/2015/10/CassCayRestaurant.jpg
END:VEVENT
BEGIN:VEVENT
DTSTART;TZID=America/New_York:20260327T190000
DTEND;TZID=America/New_York:20260327T190000
DTSTAMP:20260420T152204
CREATED:20251215T021604Z
LAST-MODIFIED:20251215T021604Z
UID:6119-1774638000-1774638000@michaeldamore.com
SUMMARY:Giuseppe and the Lion
DESCRIPTION:Michael D’Amore Live\nIt isn’t often that I get to play with the band and it is open to the public.\nI am excited to have this public appearance with The Ryan Chapman Orchestra.\n  \nFor tickets call 239-592-0050\n 
URL:https://michaeldamore.com/event/giuseppe-and-the-lion-33/
LOCATION:Giuseppe and the Lion\, 1585 Pine Ridge Rd\, Naples\, FL\, 34109
CATEGORIES:One Man Show
ATTACH;FMTTYPE=image/jpeg:https://michaeldamore.com/wp-content/uploads/2025/12/Giuseppe-Flyer-Ryan-Chapman-3-27-26.jpg
END:VEVENT
BEGIN:VEVENT
DTSTART;TZID=UTC:20260329T183000
DTEND;TZID=UTC:20260329T183000
DTSTAMP:20260420T152204
CREATED:20251001T154629Z
LAST-MODIFIED:20251001T154629Z
UID:6093-1774809000-1774809000@michaeldamore.com
SUMMARY:Dogtooth Sports & Music Bar
DESCRIPTION:Reservations are strongly recommended!!! \n  \nI look forward to seeing you there. \n 
URL:https://michaeldamore.com/event/dogtooth-sports-music-bar-100/
LOCATION:Dogtooth Sports and Music Bar\, 5310 Shirley St.\, Naples\, FL\, 34109\, United States
CATEGORIES:One Man Show
ATTACH;FMTTYPE=image/jpeg:https://michaeldamore.com/wp-content/uploads/2019/08/Dogtooth-Logo-3.jpg
END:VEVENT
BEGIN:VEVENT
DTSTART;TZID=America/New_York:20260330T180000
DTEND;TZID=America/New_York:20260330T180000
DTSTAMP:20260420T152204
CREATED:20250925T214214Z
LAST-MODIFIED:20250925T214214Z
UID:6078-1774893600-1774893600@michaeldamore.com
SUMMARY:Michael D'Amore comes to New York Pizza & Pasta
DESCRIPTION:You all made these events at NYPP so much fun and so successful the last few years we are going to do it again\n\nTickets are selling so don’t wait.\n\nMusic and Laughter on Monday Night in Naples Florida.\nCall 239-594-3500 to reserve your tables and let’s have some fun.
URL:https://michaeldamore.com/event/michael-damore-comes-to-new-york-pizza-pasta-22/
LOCATION:New York Pizza & Pasta\, 11140 Tamiami Trail N.\, Naples\, FL\, 34110
CATEGORIES:One Man Show
ATTACH;FMTTYPE=image/jpeg:https://michaeldamore.com/wp-content/uploads/2025/09/NYPP-25-26.jpg
END:VEVENT
BEGIN:VEVENT
DTSTART;TZID=America/New_York:20260331T180000
DTEND;TZID=America/New_York:20260331T180000
DTSTAMP:20260420T152204
CREATED:20250925T155222Z
LAST-MODIFIED:20250925T155222Z
UID:6045-1774980000-1774980000@michaeldamore.com
SUMMARY:Michael D'Amore comes to Mango Rita's Rhythm House
DESCRIPTION:
URL:https://michaeldamore.com/event/michael-damore-comes-to-mango-ritas-rhythm-house-34/
LOCATION:Mango Rita’s Rhythm House\, 16440 S. Tamiami Trail\, Fort Myers\, FL\, 33908\, United States
CATEGORIES:One Man Show
ATTACH;FMTTYPE=image/png:https://michaeldamore.com/wp-content/uploads/2023/09/website-home-page-logo-rythym-house-1.png
END:VEVENT
END:VCALENDAR