BEGIN:VCALENDAR
VERSION:2.0
PRODID:-//Michael D&#039;Amore - ECPv6.15.20//NONSGML v1.0//EN
CALSCALE:GREGORIAN
METHOD:PUBLISH
X-WR-CALNAME:Michael D&#039;Amore
X-ORIGINAL-URL:https://michaeldamore.com
X-WR-CALDESC:Events for Michael D&#039;Amore
REFRESH-INTERVAL;VALUE=DURATION:PT1H
X-Robots-Tag:noindex
X-PUBLISHED-TTL:PT1H
BEGIN:VTIMEZONE
TZID:America/New_York
BEGIN:DAYLIGHT
TZOFFSETFROM:-0500
TZOFFSETTO:-0400
TZNAME:EDT
DTSTART:20210314T070000
END:DAYLIGHT
BEGIN:STANDARD
TZOFFSETFROM:-0400
TZOFFSETTO:-0500
TZNAME:EST
DTSTART:20211107T060000
END:STANDARD
BEGIN:DAYLIGHT
TZOFFSETFROM:-0500
TZOFFSETTO:-0400
TZNAME:EDT
DTSTART:20220313T070000
END:DAYLIGHT
BEGIN:STANDARD
TZOFFSETFROM:-0400
TZOFFSETTO:-0500
TZNAME:EST
DTSTART:20221106T060000
END:STANDARD
BEGIN:DAYLIGHT
TZOFFSETFROM:-0500
TZOFFSETTO:-0400
TZNAME:EDT
DTSTART:20230312T070000
END:DAYLIGHT
BEGIN:STANDARD
TZOFFSETFROM:-0400
TZOFFSETTO:-0500
TZNAME:EST
DTSTART:20231105T060000
END:STANDARD
END:VTIMEZONE
BEGIN:VEVENT
DTSTART;TZID=America/New_York:20220521T190000
DTEND;TZID=America/New_York:20220521T190000
DTSTAMP:20260424T030006
CREATED:20220206T233927Z
LAST-MODIFIED:20220206T234137Z
UID:3792-1653159600-1653159600@michaeldamore.com
SUMMARY:The Capris come to The Keswick Theater
DESCRIPTION:The Best of Doo Wop Vol. 6\n\nStarring\n\nThe Capris – “There’s A Moon Out Tonight”\nThe Duprees – “You Belong To Me”\nJimmy Gallagher Original Lead Singer of The Passions – “Just To Be With You”\n\nThe Demensions – “Over The Rainbow”\n\nJimmy Clanton – “Venus in Blue Jeans”\nLarry Chance & The Earls – “ I Believe”\nAcappela By Classic Sounds\n\nHosted by Cool Bobby B of Sirius Radio 50’s on 5\nFor Tickets Call (215) 572-7650 or\nhttps://www.keswicktheatre.com/events/all
URL:https://michaeldamore.com/event/the-capris-at-the-keswick-theater/
LOCATION:Keswick Theater\, 291 N Keswick Ave.\, Glenside\, Pennsylvania\, 19038
CATEGORIES:One Man Show,The Capris
ATTACH;FMTTYPE=image/jpeg:https://michaeldamore.com/wp-content/uploads/2016/07/The-Capris-209-scaled.jpg
END:VEVENT
END:VCALENDAR