BEGIN:VCALENDAR
VERSION:2.0
PRODID:-//Michael D&#039;Amore - ECPv6.15.20//NONSGML v1.0//EN
CALSCALE:GREGORIAN
METHOD:PUBLISH
X-WR-CALNAME:Michael D&#039;Amore
X-ORIGINAL-URL:https://michaeldamore.com
X-WR-CALDESC:Events for Michael D&#039;Amore
REFRESH-INTERVAL;VALUE=DURATION:PT1H
X-Robots-Tag:noindex
X-PUBLISHED-TTL:PT1H
BEGIN:VTIMEZONE
TZID:America/New_York
BEGIN:DAYLIGHT
TZOFFSETFROM:-0500
TZOFFSETTO:-0400
TZNAME:EDT
DTSTART:20210314T070000
END:DAYLIGHT
BEGIN:STANDARD
TZOFFSETFROM:-0400
TZOFFSETTO:-0500
TZNAME:EST
DTSTART:20211107T060000
END:STANDARD
BEGIN:DAYLIGHT
TZOFFSETFROM:-0500
TZOFFSETTO:-0400
TZNAME:EDT
DTSTART:20220313T070000
END:DAYLIGHT
BEGIN:STANDARD
TZOFFSETFROM:-0400
TZOFFSETTO:-0500
TZNAME:EST
DTSTART:20221106T060000
END:STANDARD
BEGIN:DAYLIGHT
TZOFFSETFROM:-0500
TZOFFSETTO:-0400
TZNAME:EDT
DTSTART:20230312T070000
END:DAYLIGHT
BEGIN:STANDARD
TZOFFSETFROM:-0400
TZOFFSETTO:-0500
TZNAME:EST
DTSTART:20231105T060000
END:STANDARD
END:VTIMEZONE
BEGIN:VEVENT
DTSTART;TZID=America/New_York:20221015T190000
DTEND;TZID=America/New_York:20221015T190000
DTSTAMP:20260423T175407
CREATED:20220513T154741Z
LAST-MODIFIED:20220622T173215Z
UID:3928-1665860400-1665860400@michaeldamore.com
SUMMARY:The Capris at Heinz Hall Pittsburgh PA
DESCRIPTION:LAR Enterprises presents \nThe Best of Doo Wop. VOL II \nThe Return of Kenny Vance \n  \nKenny Vance and The Planotones \nThe Capris \nPeggy March \nThe Dubs \nJimmy Galagher and the Passions \nThe Fireflies
URL:https://michaeldamore.com/event/the-capris-at-heinz-hall-pittsburgh-pa/
LOCATION:Heinz Hall for the Performing Arts\, 600 Penn Ave\, Pittsburgh\, PA\, 15222
CATEGORIES:One Man Show,The Capris
ATTACH;FMTTYPE=image/jpeg:https://michaeldamore.com/wp-content/uploads/2022/05/FB_IMG_1652456056789.jpg
END:VEVENT
END:VCALENDAR