BEGIN:VCALENDAR
VERSION:2.0
PRODID:-//Michael D&#039;Amore - ECPv6.15.20//NONSGML v1.0//EN
CALSCALE:GREGORIAN
METHOD:PUBLISH
X-WR-CALNAME:Michael D&#039;Amore
X-ORIGINAL-URL:https://michaeldamore.com
X-WR-CALDESC:Events for Michael D&#039;Amore
REFRESH-INTERVAL;VALUE=DURATION:PT1H
X-Robots-Tag:noindex
X-PUBLISHED-TTL:PT1H
BEGIN:VTIMEZONE
TZID:America/New_York
BEGIN:DAYLIGHT
TZOFFSETFROM:-0500
TZOFFSETTO:-0400
TZNAME:EDT
DTSTART:20220313T070000
END:DAYLIGHT
BEGIN:STANDARD
TZOFFSETFROM:-0400
TZOFFSETTO:-0500
TZNAME:EST
DTSTART:20221106T060000
END:STANDARD
BEGIN:DAYLIGHT
TZOFFSETFROM:-0500
TZOFFSETTO:-0400
TZNAME:EDT
DTSTART:20230312T070000
END:DAYLIGHT
BEGIN:STANDARD
TZOFFSETFROM:-0400
TZOFFSETTO:-0500
TZNAME:EST
DTSTART:20231105T060000
END:STANDARD
BEGIN:DAYLIGHT
TZOFFSETFROM:-0500
TZOFFSETTO:-0400
TZNAME:EDT
DTSTART:20240310T070000
END:DAYLIGHT
BEGIN:STANDARD
TZOFFSETFROM:-0400
TZOFFSETTO:-0500
TZNAME:EST
DTSTART:20241103T060000
END:STANDARD
END:VTIMEZONE
BEGIN:VEVENT
DTSTART;TZID=America/New_York:20231202T190000
DTEND;TZID=America/New_York:20231202T190000
DTSTAMP:20260422T170350
CREATED:20230908T170047Z
LAST-MODIFIED:20230908T170047Z
UID:4999-1701543600-1701543600@michaeldamore.com
SUMMARY:The Capris at Count Basie Theater
DESCRIPTION:LAR ENTERPRISES PRESENTS\nOh What A Night of Doo-wop\nStarring \nKenny Vance & The Planotones – Looking For an Echo\nThe Capris – There’s a Moon Out Tonight\nJay Siegel’s Tokens – The Lion Sleeps Tonight\nCleveland Still & The Dubs – Could This Be Magic\nJimmy Gallagher and The Passions – Just To Be With You\nHosted by COOL BOBBY B\nSirius Radio 50’s on 5\nBox Office Phone: (732) 842-9000\n  \n 
URL:https://michaeldamore.com/event/the-capris-at-count-basie-theater-3/
LOCATION:Count Basie Theater\, 99 Monmouth Street\, Red Bank\, NJ\, 07701
CATEGORIES:One Man Show,The Capris
ATTACH;FMTTYPE=image/jpeg:https://michaeldamore.com/wp-content/uploads/2023/09/Capris-Promo-Photo-10-w-name-copy-scaled.jpg
END:VEVENT
END:VCALENDAR