BEGIN:VCALENDAR
VERSION:2.0
PRODID:-//Michael D&#039;Amore - ECPv6.15.20//NONSGML v1.0//EN
CALSCALE:GREGORIAN
METHOD:PUBLISH
X-ORIGINAL-URL:https://michaeldamore.com
X-WR-CALDESC:Events for Michael D&#039;Amore
REFRESH-INTERVAL;VALUE=DURATION:PT1H
X-Robots-Tag:noindex
X-PUBLISHED-TTL:PT1H
BEGIN:VTIMEZONE
TZID:America/New_York
BEGIN:DAYLIGHT
TZOFFSETFROM:-0500
TZOFFSETTO:-0400
TZNAME:EDT
DTSTART:20220313T070000
END:DAYLIGHT
BEGIN:STANDARD
TZOFFSETFROM:-0400
TZOFFSETTO:-0500
TZNAME:EST
DTSTART:20221106T060000
END:STANDARD
BEGIN:DAYLIGHT
TZOFFSETFROM:-0500
TZOFFSETTO:-0400
TZNAME:EDT
DTSTART:20230312T070000
END:DAYLIGHT
BEGIN:STANDARD
TZOFFSETFROM:-0400
TZOFFSETTO:-0500
TZNAME:EST
DTSTART:20231105T060000
END:STANDARD
BEGIN:DAYLIGHT
TZOFFSETFROM:-0500
TZOFFSETTO:-0400
TZNAME:EDT
DTSTART:20240310T070000
END:DAYLIGHT
BEGIN:STANDARD
TZOFFSETFROM:-0400
TZOFFSETTO:-0500
TZNAME:EST
DTSTART:20241103T060000
END:STANDARD
END:VTIMEZONE
BEGIN:VEVENT
DTSTART;TZID=America/New_York:20231216T190000
DTEND;TZID=America/New_York:20231216T190000
DTSTAMP:20260422T170432
CREATED:20230908T170830Z
LAST-MODIFIED:20230908T170830Z
UID:5002-1702753200-1702753200@michaeldamore.com
SUMMARY:CAPRIS AT THE NYCB THEATRE AT WESTBURY
DESCRIPTION:LAR ENTERPRISES PRESENTS\nOH WHAT A NIGHT OF DOO-WOP & ROCK N’ ROLL\nAT THE NYCB THEATRE AT WESTBURY \nSTARRING\nKenny Vance & The Planotones – Looking For an Echo\nThe Capris – There’s A Moon Out Tonight\nThe Mystics – Hushabye\nNorman Fox – Tell Me Why\nThe Demensions – Over The Rainbow\nAccappella By Classic Sounds\nTom Schizzano & The LAR Enterprises Band \nHosted by Cool Bobby B of Sirius Radio – 50s on 5
URL:https://michaeldamore.com/event/capris-at-the-nycb-theatre-at-westbury/
LOCATION:NYCB Theater at Westbury\, 960 Brush Hollow Rd\,\, Westbury\, NY\, 11590
CATEGORIES:One Man Show,The Capris
ATTACH;FMTTYPE=image/jpeg:https://michaeldamore.com/wp-content/uploads/2023/09/Capris-Promo-Photo-10-w-name-copy-scaled.jpg
END:VEVENT
END:VCALENDAR