BEGIN:VCALENDAR
VERSION:2.0
PRODID:-//Michael D&#039;Amore - ECPv6.15.20//NONSGML v1.0//EN
CALSCALE:GREGORIAN
METHOD:PUBLISH
X-ORIGINAL-URL:https://michaeldamore.com
X-WR-CALDESC:Events for Michael D&#039;Amore
REFRESH-INTERVAL;VALUE=DURATION:PT1H
X-Robots-Tag:noindex
X-PUBLISHED-TTL:PT1H
BEGIN:VTIMEZONE
TZID:UTC
BEGIN:STANDARD
TZOFFSETFROM:+0000
TZOFFSETTO:+0000
TZNAME:UTC
DTSTART:20220101T000000
END:STANDARD
END:VTIMEZONE
BEGIN:VEVENT
DTSTART;TZID=UTC:20231221T190000
DTEND;TZID=UTC:20231221T190000
DTSTAMP:20260422T170400
CREATED:20230619T135036Z
LAST-MODIFIED:20230619T135036Z
UID:4879-1703185200-1703185200@michaeldamore.com
SUMMARY:5th Annual Michael D'Amore Christmas Show at The Cultural Park Theater
DESCRIPTION:One Night Only\nI’m really looking forward to an intimate night of song and cheer.  I’ll be performing not only holiday music but favorites from the past few years.  Join us for some laughs sing-alongs and a cheerful good time.\nThis will be the only Christmas show open to the public on the west coast of Florida this season\nand my family and I can’t wait to share our Christmas with you\n7:00 PM Showtime\nBox Office: 239-772-5862\nTickets on sale now
URL:https://michaeldamore.com/event/5th-annual-michael-damore-christmas-show-at-the-cultural-park-theater/
LOCATION:Cultural Park Theater\, 528 Cultural Park Blvd.\, Cape Coral\, 33990\, United States
CATEGORIES:One Man Show
ATTACH;FMTTYPE=image/jpeg:https://michaeldamore.com/wp-content/uploads/2023/06/Flyer-Christmas-Show-2023-Cultural-Park-copy-scaled.jpg
END:VEVENT
END:VCALENDAR