BEGIN:VCALENDAR
VERSION:2.0
PRODID:-//Michael D&#039;Amore - ECPv6.15.20//NONSGML v1.0//EN
CALSCALE:GREGORIAN
METHOD:PUBLISH
X-ORIGINAL-URL:https://michaeldamore.com
X-WR-CALDESC:Events for Michael D&#039;Amore
REFRESH-INTERVAL;VALUE=DURATION:PT1H
X-Robots-Tag:noindex
X-PUBLISHED-TTL:PT1H
BEGIN:VTIMEZONE
TZID:America/New_York
BEGIN:DAYLIGHT
TZOFFSETFROM:-0500
TZOFFSETTO:-0400
TZNAME:EDT
DTSTART:20230312T070000
END:DAYLIGHT
BEGIN:STANDARD
TZOFFSETFROM:-0400
TZOFFSETTO:-0500
TZNAME:EST
DTSTART:20231105T060000
END:STANDARD
BEGIN:DAYLIGHT
TZOFFSETFROM:-0500
TZOFFSETTO:-0400
TZNAME:EDT
DTSTART:20240310T070000
END:DAYLIGHT
BEGIN:STANDARD
TZOFFSETFROM:-0400
TZOFFSETTO:-0500
TZNAME:EST
DTSTART:20241103T060000
END:STANDARD
BEGIN:DAYLIGHT
TZOFFSETFROM:-0500
TZOFFSETTO:-0400
TZNAME:EDT
DTSTART:20250309T070000
END:DAYLIGHT
BEGIN:STANDARD
TZOFFSETFROM:-0400
TZOFFSETTO:-0500
TZNAME:EST
DTSTART:20251102T060000
END:STANDARD
END:VTIMEZONE
BEGIN:VEVENT
DTSTART;TZID=America/New_York:20240201T160000
DTEND;TZID=America/New_York:20240201T210000
DTSTAMP:20260422T133648
CREATED:20230908T194404Z
LAST-MODIFIED:20230908T194454Z
UID:5037-1706803200-1706821200@michaeldamore.com
SUMMARY:Michael D'Amore returns to The Grill at 1951
DESCRIPTION:I am so happy to be returning to The Grill at 1951\n\nI can’t wait to see everyone again.\n  \nCall to reserve tables for the 4:00 PM or 7:30 PM shows and I’ll see you there\n 
URL:https://michaeldamore.com/event/dinner-show-at-grill-at-1951-2-1-24/
LOCATION:Grill at 1951\, 1951 Tamiami Trail\, Port Charlotte\, Florida\, 33948
CATEGORIES:Dinner Shows,One Man Show
ATTACH;FMTTYPE=image/jpeg:https://michaeldamore.com/wp-content/uploads/2023/09/Flyer-Grill-1951-February-1-2024-copy.jpg
END:VEVENT
END:VCALENDAR