BEGIN:VCALENDAR
VERSION:2.0
PRODID:-//Michael D&#039;Amore - ECPv6.15.20//NONSGML v1.0//EN
CALSCALE:GREGORIAN
METHOD:PUBLISH
X-WR-CALNAME:Michael D&#039;Amore
X-ORIGINAL-URL:https://michaeldamore.com
X-WR-CALDESC:Events for Michael D&#039;Amore
REFRESH-INTERVAL;VALUE=DURATION:PT1H
X-Robots-Tag:noindex
X-PUBLISHED-TTL:PT1H
BEGIN:VTIMEZONE
TZID:America/New_York
BEGIN:DAYLIGHT
TZOFFSETFROM:-0500
TZOFFSETTO:-0400
TZNAME:EDT
DTSTART:20240310T070000
END:DAYLIGHT
BEGIN:STANDARD
TZOFFSETFROM:-0400
TZOFFSETTO:-0500
TZNAME:EST
DTSTART:20241103T060000
END:STANDARD
BEGIN:DAYLIGHT
TZOFFSETFROM:-0500
TZOFFSETTO:-0400
TZNAME:EDT
DTSTART:20250309T070000
END:DAYLIGHT
BEGIN:STANDARD
TZOFFSETFROM:-0400
TZOFFSETTO:-0500
TZNAME:EST
DTSTART:20251102T060000
END:STANDARD
BEGIN:DAYLIGHT
TZOFFSETFROM:-0500
TZOFFSETTO:-0400
TZNAME:EDT
DTSTART:20260308T070000
END:DAYLIGHT
BEGIN:STANDARD
TZOFFSETFROM:-0400
TZOFFSETTO:-0500
TZNAME:EST
DTSTART:20261101T060000
END:STANDARD
END:VTIMEZONE
BEGIN:VEVENT
DTSTART;TZID=America/New_York:20250829T193000
DTEND;TZID=America/New_York:20250829T193000
DTSTAMP:20260421T052406
CREATED:20250802T183658Z
LAST-MODIFIED:20250802T183658Z
UID:5958-1756495800-1756495800@michaeldamore.com
SUMMARY:Lead East 2025
DESCRIPTION:Lead East 2025\nI can’t wait to see everyone again.  This will be my last show in NJ this year.\nThe Friday night dance party continues this year with myself and Michael Zandman.\nGet your tickets by calling 908-876-9100 or get them in the lobby of the hotel when you get there.\n  \n  \n\n  \n 
URL:https://michaeldamore.com/event/lead-east-2025/
LOCATION:Lead East – Parsippany Hilton Hotel\, 1 Hilton Ct\,\, Parsippany\, NJ\, 07054
CATEGORIES:One Man Show
ATTACH;FMTTYPE=image/jpeg:https://michaeldamore.com/wp-content/uploads/2025/08/Lead-East-Flyer.jpg
END:VEVENT
END:VCALENDAR