BEGIN:VCALENDAR
VERSION:2.0
PRODID:-//Michael D&#039;Amore - ECPv6.15.20//NONSGML v1.0//EN
CALSCALE:GREGORIAN
METHOD:PUBLISH
X-ORIGINAL-URL:https://michaeldamore.com
X-WR-CALDESC:Events for Michael D&#039;Amore
REFRESH-INTERVAL;VALUE=DURATION:PT1H
X-Robots-Tag:noindex
X-PUBLISHED-TTL:PT1H
BEGIN:VTIMEZONE
TZID:UTC
BEGIN:STANDARD
TZOFFSETFROM:+0000
TZOFFSETTO:+0000
TZNAME:UTC
DTSTART:20250101T000000
END:STANDARD
END:VTIMEZONE
BEGIN:VEVENT
DTSTART;TZID=UTC:20260221T190000
DTEND;TZID=UTC:20260221T190000
DTSTAMP:20260420T185647
CREATED:20250925T171405Z
LAST-MODIFIED:20250925T171405Z
UID:6061-1771700400-1771700400@michaeldamore.com
SUMMARY:The Capris return to Cerritos California
DESCRIPTION:The Best of Doo-Wop Gold Edition\nFeaturing\nThe Capris – “There’s A Moon Out Tonight”\nThe Dubs – “Could This Be Magic”\nBrian Hyland – “Sealed with a Kiss”\nNorman Fox and the Robroys – “Tell Me Why”\nJimmy Gallagher’s Passions – “Just to Be With You”\nThe Dukes of Doo Wop\nThis Magic Moment pay tribute to The Drifters\n 
URL:https://michaeldamore.com/event/the-capris-in-cerritos-california-4/
LOCATION:Cerritos Center for the Performing Arts\, 18000 Park Plaza Drive\, Cerritos\, CA\, 90703\, United States
CATEGORIES:One Man Show,The Capris
ATTACH;FMTTYPE=image/jpeg:https://michaeldamore.com/wp-content/uploads/2025/09/Capris-Cerritos-PAC-February-21-2026.jpg
END:VEVENT
END:VCALENDAR