BEGIN:VCALENDAR
VERSION:2.0
PRODID:-//Michael D&#039;Amore - ECPv6.15.20//NONSGML v1.0//EN
CALSCALE:GREGORIAN
METHOD:PUBLISH
X-WR-CALNAME:Michael D&#039;Amore
X-ORIGINAL-URL:https://michaeldamore.com
X-WR-CALDESC:Events for Michael D&#039;Amore
REFRESH-INTERVAL;VALUE=DURATION:PT1H
X-Robots-Tag:noindex
X-PUBLISHED-TTL:PT1H
BEGIN:VTIMEZONE
TZID:UTC
BEGIN:STANDARD
TZOFFSETFROM:+0000
TZOFFSETTO:+0000
TZNAME:UTC
DTSTART:20250101T000000
END:STANDARD
END:VTIMEZONE
BEGIN:VEVENT
DTSTART;TZID=UTC:20260312T180000
DTEND;TZID=UTC:20260312T180000
DTSTAMP:20260420T171503
CREATED:20200127T230000Z
LAST-MODIFIED:20260212T180617Z
UID:2165-1773338400-1773338400@michaeldamore.com
SUMMARY:Michael D'Amore returns to Artichoke & Company
DESCRIPTION:I am happy to be returning to Artichoke & Company for a\nOne Night Only Special Event this season.\nI look forward to seeing everyone once again for this evening of music and laughter.\nCall 239-263-6979 to reserve your seats and let’s have some fun.
URL:https://michaeldamore.com/event/artichoke-company/
LOCATION:Artichoke & Company\, 11920 Saradrienne Lane\, Bonita Springs\, FL\, 34135
CATEGORIES:Dinner Shows,One Man Show
ATTACH;FMTTYPE=image/jpeg:https://michaeldamore.com/wp-content/uploads/2020/01/Artichoke-flyer-1-scaled.jpg
END:VEVENT
END:VCALENDAR