BEGIN:VCALENDAR
VERSION:2.0
PRODID:-//Michael D&#039;Amore - ECPv6.15.20//NONSGML v1.0//EN
CALSCALE:GREGORIAN
METHOD:PUBLISH
X-ORIGINAL-URL:https://michaeldamore.com
X-WR-CALDESC:Events for Michael D&#039;Amore
REFRESH-INTERVAL;VALUE=DURATION:PT1H
X-Robots-Tag:noindex
X-PUBLISHED-TTL:PT1H
BEGIN:VTIMEZONE
TZID:America/New_York
BEGIN:DAYLIGHT
TZOFFSETFROM:-0500
TZOFFSETTO:-0400
TZNAME:EDT
DTSTART:20230312T070000
END:DAYLIGHT
BEGIN:STANDARD
TZOFFSETFROM:-0400
TZOFFSETTO:-0500
TZNAME:EST
DTSTART:20231105T060000
END:STANDARD
BEGIN:DAYLIGHT
TZOFFSETFROM:-0500
TZOFFSETTO:-0400
TZNAME:EDT
DTSTART:20240310T070000
END:DAYLIGHT
BEGIN:STANDARD
TZOFFSETFROM:-0400
TZOFFSETTO:-0500
TZNAME:EST
DTSTART:20241103T060000
END:STANDARD
BEGIN:DAYLIGHT
TZOFFSETFROM:-0500
TZOFFSETTO:-0400
TZNAME:EDT
DTSTART:20250309T070000
END:DAYLIGHT
BEGIN:STANDARD
TZOFFSETFROM:-0400
TZOFFSETTO:-0500
TZNAME:EST
DTSTART:20251102T060000
END:STANDARD
END:VTIMEZONE
BEGIN:VTIMEZONE
TZID:UTC
BEGIN:STANDARD
TZOFFSETFROM:+0000
TZOFFSETTO:+0000
TZNAME:UTC
DTSTART:20230101T000000
END:STANDARD
END:VTIMEZONE
BEGIN:VEVENT
DTSTART;TZID=America/New_York:20240422T180000
DTEND;TZID=America/New_York:20240422T180000
DTSTAMP:20260421T073448
CREATED:20231230T105048Z
LAST-MODIFIED:20231230T105048Z
UID:5169-1713808800-1713808800@michaeldamore.com
SUMMARY:Michael D'Amore comes to New York Pizza & Pasta
DESCRIPTION:Music and Laughter on Monday Nights in Naples Florida.\nCall 239-594-3500 to reserve your tables and let’s have some fun.
URL:https://michaeldamore.com/event/michael-damore-comes-to-new-york-pizza-pasta-5/
LOCATION:New York Pizza & Pasta\, 11140 Tamiami Trail N.\, Naples\, FL\, 34110
CATEGORIES:One Man Show
ATTACH;FMTTYPE=application/pdf:https://michaeldamore.com/wp-content/uploads/2023/12/NYPP-live-music-Flyer-PDF-Standard.pdf
END:VEVENT
BEGIN:VEVENT
DTSTART;TZID=UTC:20240421T160000
DTEND;TZID=UTC:20240421T160000
DTSTAMP:20260421T073448
CREATED:20230928T160001Z
LAST-MODIFIED:20230928T160001Z
UID:5088-1713715200-1713715200@michaeldamore.com
SUMMARY:Cass Cay
DESCRIPTION:
URL:https://michaeldamore.com/event/cass-cay-73/
LOCATION:Cass Cay\, 3200 Marcumbe Key Road\, Punta Gorda\, FL\, 33955\, United States
CATEGORIES:One Man Show
ATTACH;FMTTYPE=image/jpeg:https://michaeldamore.com/wp-content/uploads/2015/10/CassCayRestaurant.jpg
END:VEVENT
BEGIN:VEVENT
DTSTART;TZID=America/New_York:20240420T173000
DTEND;TZID=America/New_York:20240420T173000
DTSTAMP:20260421T073448
CREATED:20240320T171104Z
LAST-MODIFIED:20240320T171104Z
UID:5224-1713634200-1713634200@michaeldamore.com
SUMMARY:Michael D'Amore performs at Taste of the World 2024
DESCRIPTION:I am pleased to be part of this amazing event.\nThe event begins at Noon and there will be entertainment all day. I will be performing at 5:30 PM\nTickets are on sale now.\n$7.50 General admission into the event. No coolers\, outside food or drink- bring a chair\n$40.00 VIP Experience includes entry into festival. Entry into VIP Area next to stage\, Covered Seating\, VIP Exclusive Bar\, VIP Restrooms\, Complimentary bottled water and soft drinks\nClick the link below to buy your tickets in advance\n  \nTaste of the World International Food & Music Festival Tickets\, Sat\, Apr 20\, 2024 at 12:00 PM | Eventbrite
URL:https://michaeldamore.com/event/michael-damore-performs-at-taste-of-the-world-2024/
LOCATION:Laishley Park\, 150 Laishley Ct\, Punta Gorda\, FL\, 33950
CATEGORIES:One Man Show
ATTACH;FMTTYPE=image/jpeg:https://michaeldamore.com/wp-content/uploads/2024/03/Flyer-Taste-of-the-World-2024-copy.jpg
END:VEVENT
BEGIN:VEVENT
DTSTART;TZID=America/New_York:20240416T180000
DTEND;TZID=America/New_York:20240416T180000
DTSTAMP:20260421T073448
CREATED:20230908T161139Z
LAST-MODIFIED:20240128T091436Z
UID:4987-1713290400-1713290400@michaeldamore.com
SUMMARY:Giuseppe and the Lion
DESCRIPTION:
URL:https://michaeldamore.com/event/giuseppe-and-the-lion-11/
LOCATION:Giuseppe and the Lion\, 1585 Pine Ridge Rd\, Naples\, FL\, 34109
CATEGORIES:One Man Show
ATTACH;FMTTYPE=image/jpeg:https://michaeldamore.com/wp-content/uploads/2023/09/Giuseppe-Flyer-Aug-thru-April-2024-copy-e1746273659710.jpg
END:VEVENT
BEGIN:VEVENT
DTSTART;TZID=UTC:20240415T180000
DTEND;TZID=UTC:20240415T180000
DTSTAMP:20260421T073448
CREATED:20231230T105434Z
LAST-MODIFIED:20231230T105434Z
UID:5173-1713204000-1713204000@michaeldamore.com
SUMMARY:Ristorante Limoncello
DESCRIPTION:  \n  \n  \nCall For Reservations (239) 260-7478
URL:https://michaeldamore.com/event/ristorante-limoncello-19/
LOCATION:Limoncello\, 13800 Tamiami Trail\, North Naples\, FL\, 34110\, United States
CATEGORIES:One Man Show
ATTACH;FMTTYPE=image/jpeg:https://michaeldamore.com/wp-content/uploads/2023/04/Limoncello-Logo-copy.jpg
END:VEVENT
BEGIN:VEVENT
DTSTART;TZID=America/New_York:20240413T190000
DTEND;TZID=America/New_York:20240413T190000
DTSTAMP:20260421T073448
CREATED:20231230T110857Z
LAST-MODIFIED:20231230T110857Z
UID:5175-1713034800-1713034800@michaeldamore.com
SUMMARY:The Capris return to Proctors Theater
DESCRIPTION:
URL:https://michaeldamore.com/event/the-capris-return-to-proctors-theater/
LOCATION:Proctors Theater\, 432 State Street\, Schenectady\, NY\, 12305
CATEGORIES:One Man Show,The Capris
ATTACH;FMTTYPE=image/jpeg:https://michaeldamore.com/wp-content/uploads/2023/12/FB_IMG_1700424950807.jpg
END:VEVENT
BEGIN:VEVENT
DTSTART;TZID=America/New_York:20240409T190000
DTEND;TZID=America/New_York:20240409T190000
DTSTAMP:20260421T073448
CREATED:20240106T154022Z
LAST-MODIFIED:20240106T154022Z
UID:5189-1712689200-1712689200@michaeldamore.com
SUMMARY:Michael D'Amore returns to Boca Raton
DESCRIPTION:You asked and we listened. I can’t wait to get back to Boca.\nWe have an intimate evening planned at The Boca Black Box\nDon’t wait to get your tickets\nCall The Box Office at 561-483-9036
URL:https://michaeldamore.com/event/michael-damore-returns-to-boca-raton-3/
LOCATION:Boca Black Box\, 8221 Glades Road\, Boca Raton\, FL\, 33434
CATEGORIES:One Man Show
ATTACH;FMTTYPE=image/jpeg:https://michaeldamore.com/wp-content/uploads/2024/01/Flyer-Michael-DAmore-Boca-Black-Box-4-9-24-small-copy.jpg
END:VEVENT
BEGIN:VEVENT
DTSTART;TZID=UTC:20240407T160000
DTEND;TZID=UTC:20240407T160000
DTSTAMP:20260421T073448
CREATED:20230928T155925Z
LAST-MODIFIED:20230928T155925Z
UID:5086-1712505600-1712505600@michaeldamore.com
SUMMARY:Cass Cay
DESCRIPTION:
URL:https://michaeldamore.com/event/cass-cay-72/
LOCATION:Cass Cay\, 3200 Marcumbe Key Road\, Punta Gorda\, FL\, 33955\, United States
CATEGORIES:One Man Show
ATTACH;FMTTYPE=image/jpeg:https://michaeldamore.com/wp-content/uploads/2015/10/CassCayRestaurant.jpg
END:VEVENT
BEGIN:VEVENT
DTSTART;TZID=America/New_York:20240406T180000
DTEND;TZID=America/New_York:20240406T180000
DTSTAMP:20260421T073448
CREATED:20231023T184150Z
LAST-MODIFIED:20240131T133548Z
UID:5119-1712426400-1712426400@michaeldamore.com
SUMMARY:Michael D'Amore at The Lake Kennedy Center
DESCRIPTION:I’m happy to be coming to\nThe Lake Kennedy Center\nfor an evening of fun and dancing\n  \nThis is a BYOB and Snacks event\nSeating is first come first serve and we hope to fill every seat\nTickets are $15.00 at the door (no credit cards please)\n6:00 PM Showtime  Doors open at 5:00 PM
URL:https://michaeldamore.com/event/michael-damore-at-the-lake-kennedy-center-2/
LOCATION:Lake Kennedy Center\, 400 Santa Barbara Blvd.\, Cape Coral\, FL\, 33991\, United States
CATEGORIES:One Man Show
ATTACH;FMTTYPE=image/jpeg:https://michaeldamore.com/wp-content/uploads/2023/10/Flyer-Lake-Kennedy-Center-2-18-and-4-6-copy-4-scaled.jpg
END:VEVENT
BEGIN:VEVENT
DTSTART;TZID=UTC:20240403T183000
DTEND;TZID=UTC:20240403T183000
DTSTAMP:20260421T073448
CREATED:20230908T192041Z
LAST-MODIFIED:20230908T192041Z
UID:5033-1712169000-1712169000@michaeldamore.com
SUMMARY:Dogtooth Sports & Music Bar
DESCRIPTION:Reservations are strongly recommended!!! \n  \nI look forward to seeing you there. \n 
URL:https://michaeldamore.com/event/dogtooth-sports-music-bar-77/
LOCATION:Dogtooth Sports and Music Bar\, 5310 Shirley St.\, Naples\, FL\, 34109\, United States
CATEGORIES:One Man Show
ATTACH;FMTTYPE=image/jpeg:https://michaeldamore.com/wp-content/uploads/2019/08/Dogtooth-Logo-3.jpg
END:VEVENT
BEGIN:VEVENT
DTSTART;TZID=America/New_York:20240402T190000
DTEND;TZID=America/New_York:20240402T190000
DTSTAMP:20260421T073448
CREATED:20240301T183217Z
LAST-MODIFIED:20240320T171723Z
UID:5208-1712084400-1712084400@michaeldamore.com
SUMMARY:Michael D'Amore comes to The Wildwood Community Center
DESCRIPTION:All my friends in Orlando\, The Villages\, Hernando\, Ocala\, Spring Hill\nI’m coming north\nLet’s have some fun\, some music and a few laughs together\nat The Wildwood Community Center\n$15 per person at the door – light refreshments will be served\n  \nClick the link below to purchase your tickets\nhttps://www.eventbrite.com/e/an-evening-of-music-laughter-featuring-michael-damore-of-the-capris-tickets-853838874057?aff=oddtdtcreator\n  \n  \n  \n  \n 
URL:https://michaeldamore.com/event/michael-damore-comes-to-the-wildwood-community-center/
LOCATION:Wildwood Community Center\, 6500 Powell Road\, Wildwood\, FL\, 34785
CATEGORIES:One Man Show
ATTACH;FMTTYPE=image/jpeg:https://michaeldamore.com/wp-content/uploads/2024/03/Flyer-Wildwood-Community-Center-4-2-24-4-300-DPI-copy-scaled.jpg
END:VEVENT
BEGIN:VEVENT
DTSTART;TZID=America/New_York:20240330T183000
DTEND;TZID=America/New_York:20240330T183000
DTSTAMP:20260421T073448
CREATED:20230908T152634Z
LAST-MODIFIED:20230908T171450Z
UID:4961-1711823400-1711823400@michaeldamore.com
SUMMARY:Michael D'Amore comes to Mango Rita's Rhythm House
DESCRIPTION:
URL:https://michaeldamore.com/event/michael-damore-comes-to-mango-ritas-rhythm-house-5/
LOCATION:Mango Rita’s Rhythm House\, 16440 S. Tamiami Trail\, Fort Myers\, FL\, 33908\, United States
CATEGORIES:One Man Show
ATTACH;FMTTYPE=image/png:https://michaeldamore.com/wp-content/uploads/2023/09/website-home-page-logo-rythym-house-1.png
END:VEVENT
BEGIN:VEVENT
DTSTART;TZID=America/New_York:20240325T180000
DTEND;TZID=America/New_York:20240325T180000
DTSTAMP:20260421T073448
CREATED:20231230T105017Z
LAST-MODIFIED:20231230T105017Z
UID:5167-1711389600-1711389600@michaeldamore.com
SUMMARY:Michael D'Amore comes to New York Pizza & Pasta
DESCRIPTION:Music and Laughter on Monday Nights in Naples Florida.\nCall 239-594-3500 to reserve your tables and let’s have some fun.
URL:https://michaeldamore.com/event/michael-damore-comes-to-new-york-pizza-pasta-4/
LOCATION:New York Pizza & Pasta\, 11140 Tamiami Trail N.\, Naples\, FL\, 34110
CATEGORIES:One Man Show
ATTACH;FMTTYPE=application/pdf:https://michaeldamore.com/wp-content/uploads/2023/12/NYPP-live-music-Flyer-PDF-Standard.pdf
END:VEVENT
BEGIN:VEVENT
DTSTART;TZID=UTC:20240324T160000
DTEND;TZID=UTC:20240324T160000
DTSTAMP:20260421T073448
CREATED:20230928T155849Z
LAST-MODIFIED:20230928T155849Z
UID:5083-1711296000-1711296000@michaeldamore.com
SUMMARY:Cass Cay
DESCRIPTION:
URL:https://michaeldamore.com/event/cass-cay-71/
LOCATION:Cass Cay\, 3200 Marcumbe Key Road\, Punta Gorda\, FL\, 33955\, United States
CATEGORIES:One Man Show
ATTACH;FMTTYPE=image/jpeg:https://michaeldamore.com/wp-content/uploads/2015/10/CassCayRestaurant.jpg
END:VEVENT
BEGIN:VEVENT
DTSTART;TZID=America/New_York:20240319T180000
DTEND;TZID=America/New_York:20240319T180000
DTSTAMP:20260421T073448
CREATED:20230908T161109Z
LAST-MODIFIED:20230908T161109Z
UID:4985-1710871200-1710871200@michaeldamore.com
SUMMARY:Giuseppe and the Lion
DESCRIPTION:
URL:https://michaeldamore.com/event/giuseppe-and-the-lion-10/
LOCATION:Giuseppe and the Lion\, 1585 Pine Ridge Rd\, Naples\, FL\, 34109
CATEGORIES:One Man Show
ATTACH;FMTTYPE=image/jpeg:https://michaeldamore.com/wp-content/uploads/2023/09/Giuseppe-Flyer-Aug-thru-April-2024-copy-e1746273659710.jpg
END:VEVENT
BEGIN:VEVENT
DTSTART;TZID=UTC:20240317T183000
DTEND;TZID=UTC:20240317T183000
DTSTAMP:20260421T073448
CREATED:20230908T192004Z
LAST-MODIFIED:20230908T192004Z
UID:5031-1710700200-1710700200@michaeldamore.com
SUMMARY:Dogtooth Sports & Music Bar
DESCRIPTION:Reservations are strongly recommended!!! \n  \nI look forward to seeing you there. \n 
URL:https://michaeldamore.com/event/dogtooth-sports-music-bar-76/
LOCATION:Dogtooth Sports and Music Bar\, 5310 Shirley St.\, Naples\, FL\, 34109\, United States
CATEGORIES:One Man Show
ATTACH;FMTTYPE=image/jpeg:https://michaeldamore.com/wp-content/uploads/2019/08/Dogtooth-Logo-3.jpg
END:VEVENT
BEGIN:VEVENT
DTSTART;TZID=America/New_York:20240312T180000
DTEND;TZID=America/New_York:20240312T180000
DTSTAMP:20260421T073448
CREATED:20230808T155628Z
LAST-MODIFIED:20230916T135144Z
UID:4942-1710266400-1710266400@michaeldamore.com
SUMMARY:Michael D'Amore returns to The Englewood Elks
DESCRIPTION:
URL:https://michaeldamore.com/event/michael-damore-returns-to-the-englewood-elks-5/
LOCATION:Englewood Elks  Lodge 2378\, 401 North Indiana Avenue\, Englewood\, FL\, 34223
CATEGORIES:One Man Show
ATTACH;FMTTYPE=image/jpeg:https://michaeldamore.com/wp-content/uploads/2023/08/Flyer-Englewood-Elks-Oct-thru-Mar-2024-2-1.jpg
END:VEVENT
BEGIN:VEVENT
DTSTART;TZID=America/New_York:20240311T180000
DTEND;TZID=America/New_York:20240311T180000
DTSTAMP:20260421T073448
CREATED:20231230T104903Z
LAST-MODIFIED:20231230T104903Z
UID:5165-1710180000-1710180000@michaeldamore.com
SUMMARY:Michael D'Amore comes to New York Pizza & Pasta
DESCRIPTION:Music and Laughter on Monday Nights in Naples Florida.\nCall 239-594-3500 to reserve your tables and let’s have some fun.
URL:https://michaeldamore.com/event/michael-damore-comes-to-new-york-pizza-pasta-3/
LOCATION:New York Pizza & Pasta\, 11140 Tamiami Trail N.\, Naples\, FL\, 34110
CATEGORIES:One Man Show
ATTACH;FMTTYPE=application/pdf:https://michaeldamore.com/wp-content/uploads/2023/12/NYPP-live-music-Flyer-PDF-Standard.pdf
END:VEVENT
BEGIN:VEVENT
DTSTART;TZID=America/New_York:20240302T093000
DTEND;TZID=America/New_York:20240309T140000
DTSTAMP:20260421T073448
CREATED:20231104T113000Z
LAST-MODIFIED:20231104T113000Z
UID:5145-1709371800-1709992800@michaeldamore.com
SUMMARY:Cruisin' With Michael D'Amore Aboard The Princess "Sky Princess"
DESCRIPTION:We are so excited to be sailing on The Sky Princess\n\nWe will be departing out of Fort Lauderdale Florida and cruising to some amazing ports.  I can’t wait to entertain everyone and have fun with everybody in the group.\nDon’t forget these prices include everything…  Prepaid Gratuities\, The Beverage Package\, Wi-Fi amongst other things!!!\n\nDon’t wait to call….\nYou can reach Melissa at 908-418-7062.\nCall to ask any and all of your questions and get booked for a fun filled week.\n 
URL:https://michaeldamore.com/event/cruisin-with-michael-damore-aboard-the-sky-princess/
LOCATION:Melissa D’Amore – Expedia Cruises Land Air and Sea
CATEGORIES:Cruisin' With Michael D'Amore,One Man Show
ATTACH;FMTTYPE=image/jpeg:https://michaeldamore.com/wp-content/uploads/2023/10/Sky-Princess-Cruise-Mar-2-2024-final-copy.jpg
END:VEVENT
BEGIN:VEVENT
DTSTART;TZID=America/New_York:20240228T183000
DTEND;TZID=America/New_York:20240228T183000
DTSTAMP:20260421T073448
CREATED:20230908T171331Z
LAST-MODIFIED:20230908T171331Z
UID:5012-1709145000-1709145000@michaeldamore.com
SUMMARY:Michael D'Amore comes to Mango Rita's Rhythm House
DESCRIPTION:
URL:https://michaeldamore.com/event/michael-damore-comes-to-mango-ritas-rhythm-house-11/
LOCATION:Mango Rita’s Rhythm House\, 16440 S. Tamiami Trail\, Fort Myers\, FL\, 33908\, United States
CATEGORIES:One Man Show
ATTACH;FMTTYPE=image/png:https://michaeldamore.com/wp-content/uploads/2023/09/website-home-page-logo-rythym-house-1.png
END:VEVENT
BEGIN:VEVENT
DTSTART;TZID=America/New_York:20240227T180000
DTEND;TZID=America/New_York:20240227T180000
DTSTAMP:20260421T073448
CREATED:20230908T161038Z
LAST-MODIFIED:20230908T161038Z
UID:4983-1709056800-1709056800@michaeldamore.com
SUMMARY:Giuseppe and the Lion
DESCRIPTION:
URL:https://michaeldamore.com/event/giuseppe-and-the-lion-9/
LOCATION:Giuseppe and the Lion\, 1585 Pine Ridge Rd\, Naples\, FL\, 34109
CATEGORIES:One Man Show
ATTACH;FMTTYPE=image/jpeg:https://michaeldamore.com/wp-content/uploads/2023/09/Giuseppe-Flyer-Aug-thru-April-2024-copy-e1746273659710.jpg
END:VEVENT
BEGIN:VEVENT
DTSTART;TZID=UTC:20240225T160000
DTEND;TZID=UTC:20240225T160000
DTSTAMP:20260421T073448
CREATED:20230928T155817Z
LAST-MODIFIED:20231025T144734Z
UID:5082-1708876800-1708876800@michaeldamore.com
SUMMARY:Cass Cay
DESCRIPTION:
URL:https://michaeldamore.com/event/cass-cay-70/
LOCATION:Cass Cay\, 3200 Marcumbe Key Road\, Punta Gorda\, FL\, 33955\, United States
CATEGORIES:One Man Show
ATTACH;FMTTYPE=image/jpeg:https://michaeldamore.com/wp-content/uploads/2015/10/CassCayRestaurant.jpg
END:VEVENT
BEGIN:VEVENT
DTSTART;TZID=UTC:20240221T183000
DTEND;TZID=UTC:20240221T183000
DTSTAMP:20260421T073448
CREATED:20230908T191804Z
LAST-MODIFIED:20230908T191804Z
UID:5027-1708540200-1708540200@michaeldamore.com
SUMMARY:Dogtooth Sports & Music Bar
DESCRIPTION:Reservations are strongly recommended!!! \n  \nI look forward to seeing you there. \n 
URL:https://michaeldamore.com/event/dogtooth-sports-music-bar-74/
LOCATION:Dogtooth Sports and Music Bar\, 5310 Shirley St.\, Naples\, FL\, 34109\, United States
CATEGORIES:One Man Show
ATTACH;FMTTYPE=image/jpeg:https://michaeldamore.com/wp-content/uploads/2019/08/Dogtooth-Logo-3.jpg
END:VEVENT
BEGIN:VEVENT
DTSTART;TZID=America/New_York:20240220T173000
DTEND;TZID=America/New_York:20240220T173000
DTSTAMP:20260421T073448
CREATED:20240127T170327Z
LAST-MODIFIED:20240127T170327Z
UID:5198-1708450200-1708450200@michaeldamore.com
SUMMARY:Disabled American Veterans Fundraiser
DESCRIPTION:Call Mary at 908-910-8022 for tickets\nThis will be a fun night for a good cause
URL:https://michaeldamore.com/event/disabled-american-veterans-fundraiser-3/
LOCATION:Landmark Naples\, 1620 Gulf Coast Drive\, Naples\, FL\, 34110
CATEGORIES:One Man Show
ATTACH;FMTTYPE=image/jpeg:https://michaeldamore.com/wp-content/uploads/2024/01/Screenshot_20240125_163253_Gallery.jpg
END:VEVENT
BEGIN:VEVENT
DTSTART;TZID=America/New_York:20240218T180000
DTEND;TZID=America/New_York:20240218T180000
DTSTAMP:20260421T073448
CREATED:20231023T184102Z
LAST-MODIFIED:20240131T133642Z
UID:5115-1708279200-1708279200@michaeldamore.com
SUMMARY:Michael D'Amore at The Lake Kennedy Center
DESCRIPTION:I’m happy to be coming to\nThe Lake Kennedy Center\nfor an evening of fun and dancing\n  \nThis is a BYOB and Snacks event\nSeating is first come first serve and we hope to fill every seat\nTickets are $15.00 at the door (no credit cards please)\n6:00 PM Showtime  Doors open at 5:00 PM
URL:https://michaeldamore.com/event/michael-damore-at-the-lake-kennedy-center/
LOCATION:Lake Kennedy Center\, 400 Santa Barbara Blvd.\, Cape Coral\, FL\, 33991\, United States
CATEGORIES:One Man Show
ATTACH;FMTTYPE=image/jpeg:https://michaeldamore.com/wp-content/uploads/2023/10/Flyer-Lake-Kennedy-Center-2-18-and-4-6-copy-4-scaled.jpg
END:VEVENT
BEGIN:VEVENT
DTSTART;TZID=America/New_York:20240215T183000
DTEND;TZID=America/New_York:20240215T183000
DTSTAMP:20260421T073448
CREATED:20231007T153958Z
LAST-MODIFIED:20240119T193653Z
UID:5093-1708021800-1708021800@michaeldamore.com
SUMMARY:Michael D'Amore returns to Austin's North Port
DESCRIPTION:Event Room Seating – $20.00 Per Person\nDinner Seating Beginning at 5:00 PM\nBar Seating – $10.00 Per Person (limited visibility)\nShowtime 6:30 PM\nCome on in or call for tickets\n(941) 426-1155\nSeating is limited – tickets will be sold on a first come first serve basis
URL:https://michaeldamore.com/event/michael-damore-returns-to-austins-north-port-2/
LOCATION:Austin’s North Port\, 14415 Tamiami Trail\, North Port\, FL\, 34287
CATEGORIES:One Man Show
ATTACH;FMTTYPE=image/jpeg:https://michaeldamore.com/wp-content/uploads/2023/10/Flyer-Austins-North-Port-Feb-Mar-Apr-2024-copy.jpg
END:VEVENT
BEGIN:VEVENT
DTSTART;TZID=America/New_York:20240212T180000
DTEND;TZID=America/New_York:20240212T180000
DTSTAMP:20260421T073448
CREATED:20231230T104823Z
LAST-MODIFIED:20231230T104823Z
UID:5163-1707760800-1707760800@michaeldamore.com
SUMMARY:Michael D'Amore comes to New York Pizza & Pasta
DESCRIPTION:Music and Laughter on Monday Nights in Naples Florida.\nCall 239-594-3500 to reserve your tables and let’s have some fun.
URL:https://michaeldamore.com/event/michael-damore-comes-to-new-york-pizza-pasta-2/
LOCATION:New York Pizza & Pasta\, 11140 Tamiami Trail N.\, Naples\, FL\, 34110
CATEGORIES:One Man Show
ATTACH;FMTTYPE=application/pdf:https://michaeldamore.com/wp-content/uploads/2023/12/NYPP-live-music-Flyer-PDF-Standard.pdf
END:VEVENT
BEGIN:VEVENT
DTSTART;TZID=UTC:20240211T150000
DTEND;TZID=UTC:20240211T150000
DTSTAMP:20260421T073448
CREATED:20230928T155640Z
LAST-MODIFIED:20230928T155640Z
UID:5080-1707663600-1707663600@michaeldamore.com
SUMMARY:Cass Cay
DESCRIPTION:Super Bowl Sunday Pre Game Event\nI will be playing from 3 to 6 so everyone can go watch the game
URL:https://michaeldamore.com/event/cass-cay-69/
LOCATION:Cass Cay\, 3200 Marcumbe Key Road\, Punta Gorda\, FL\, 33955\, United States
CATEGORIES:One Man Show
ATTACH;FMTTYPE=image/jpeg:https://michaeldamore.com/wp-content/uploads/2015/10/CassCayRestaurant.jpg
END:VEVENT
BEGIN:VEVENT
DTSTART;TZID=America/New_York:20240206T180000
DTEND;TZID=America/New_York:20240206T180000
DTSTAMP:20260421T073448
CREATED:20230908T160957Z
LAST-MODIFIED:20230908T161008Z
UID:4981-1707242400-1707242400@michaeldamore.com
SUMMARY:Giuseppe and the Lion
DESCRIPTION:
URL:https://michaeldamore.com/event/giuseppe-and-the-lion-8/
LOCATION:Giuseppe and the Lion\, 1585 Pine Ridge Rd\, Naples\, FL\, 34109
CATEGORIES:One Man Show
ATTACH;FMTTYPE=image/jpeg:https://michaeldamore.com/wp-content/uploads/2023/09/Giuseppe-Flyer-Aug-thru-April-2024-copy-e1746273659710.jpg
END:VEVENT
BEGIN:VEVENT
DTSTART;TZID=UTC:20240205T180000
DTEND;TZID=UTC:20240205T180000
DTSTAMP:20260421T073448
CREATED:20231230T105350Z
LAST-MODIFIED:20231230T105350Z
UID:5171-1707156000-1707156000@michaeldamore.com
SUMMARY:Ristorante Limoncello
DESCRIPTION:  \n  \n  \nCall For Reservations (239) 260-7478
URL:https://michaeldamore.com/event/ristorante-limoncello-18/
LOCATION:Limoncello\, 13800 Tamiami Trail\, North Naples\, FL\, 34110\, United States
CATEGORIES:One Man Show
ATTACH;FMTTYPE=image/jpeg:https://michaeldamore.com/wp-content/uploads/2023/04/Limoncello-Logo-copy.jpg
END:VEVENT
END:VCALENDAR