BEGIN:VCALENDAR
VERSION:2.0
PRODID:-//Michael D&#039;Amore - ECPv6.15.20//NONSGML v1.0//EN
CALSCALE:GREGORIAN
METHOD:PUBLISH
X-ORIGINAL-URL:https://michaeldamore.com
X-WR-CALDESC:Events for Michael D&#039;Amore
REFRESH-INTERVAL;VALUE=DURATION:PT1H
X-Robots-Tag:noindex
X-PUBLISHED-TTL:PT1H
BEGIN:VTIMEZONE
TZID:America/New_York
BEGIN:DAYLIGHT
TZOFFSETFROM:-0500
TZOFFSETTO:-0400
TZNAME:EDT
DTSTART:20250309T070000
END:DAYLIGHT
BEGIN:STANDARD
TZOFFSETFROM:-0400
TZOFFSETTO:-0500
TZNAME:EST
DTSTART:20251102T060000
END:STANDARD
BEGIN:DAYLIGHT
TZOFFSETFROM:-0500
TZOFFSETTO:-0400
TZNAME:EDT
DTSTART:20260308T070000
END:DAYLIGHT
BEGIN:STANDARD
TZOFFSETFROM:-0400
TZOFFSETTO:-0500
TZNAME:EST
DTSTART:20261101T060000
END:STANDARD
BEGIN:DAYLIGHT
TZOFFSETFROM:-0500
TZOFFSETTO:-0400
TZNAME:EDT
DTSTART:20270314T070000
END:DAYLIGHT
BEGIN:STANDARD
TZOFFSETFROM:-0400
TZOFFSETTO:-0500
TZNAME:EST
DTSTART:20271107T060000
END:STANDARD
END:VTIMEZONE
BEGIN:VTIMEZONE
TZID:UTC
BEGIN:STANDARD
TZOFFSETFROM:+0000
TZOFFSETTO:+0000
TZNAME:UTC
DTSTART:20250101T000000
END:STANDARD
END:VTIMEZONE
BEGIN:VEVENT
DTSTART;TZID=America/New_York:20260616T180000
DTEND;TZID=America/New_York:20260616T180000
DTSTAMP:20260420T191321
CREATED:20260224T143526Z
LAST-MODIFIED:20260224T143526Z
UID:6200-1781632800-1781632800@michaeldamore.com
SUMMARY:Michael D'Amore comes to Mango Rita's Rhythm House
DESCRIPTION:Don’t forget to call 239-466-8326 for your reservations and we’ll have some fun at the best place in Fort Myers\n 
URL:https://michaeldamore.com/event/michael-damore-comes-to-mango-ritas-rhythm-house-37/
LOCATION:Mango Rita’s Rhythm House\, 16440 S. Tamiami Trail\, Fort Myers\, FL\, 33908\, United States
CATEGORIES:One Man Show
ATTACH;FMTTYPE=image/png:https://michaeldamore.com/wp-content/uploads/2023/09/website-home-page-logo-rythym-house-1.png
END:VEVENT
BEGIN:VEVENT
DTSTART;TZID=America/New_York:20260617T180000
DTEND;TZID=America/New_York:20260617T180000
DTSTAMP:20260420T191321
CREATED:20260416T035530Z
LAST-MODIFIED:20260416T035530Z
UID:6231-1781719200-1781719200@michaeldamore.com
SUMMARY:Michael D'Amore returns to The Lani Kai
DESCRIPTION:You don’t want to miss the sunset.  That alone is worth the trip.\nDon’t wait to make your reservations.\n  \nCall (239) 463-3111 for your reservations\n 
URL:https://michaeldamore.com/event/michael-damore-returns-to-the-lani-kai-3/
LOCATION:Lani Kai Island Resort\, 1400 Estero Blvd.\, Fort Myers Beach\, Fl\, 33931
CATEGORIES:One Man Show
ATTACH;FMTTYPE=image/png:https://michaeldamore.com/wp-content/uploads/2026/04/1776311567774.png
END:VEVENT
BEGIN:VEVENT
DTSTART;TZID=UTC:20260819T170000
DTEND;TZID=UTC:20260819T170000
DTSTAMP:20260420T191321
CREATED:20260416T034300Z
LAST-MODIFIED:20260416T034300Z
UID:6220-1787158800-1787158800@michaeldamore.com
SUMMARY:Cass Cay
DESCRIPTION:
URL:https://michaeldamore.com/event/cass-cay-97/
LOCATION:Cass Cay\, 3200 Marcumbe Key Road\, Punta Gorda\, FL\, 33955\, United States
CATEGORIES:One Man Show
ATTACH;FMTTYPE=image/jpeg:https://michaeldamore.com/wp-content/uploads/2015/10/CassCayRestaurant.jpg
END:VEVENT
BEGIN:VEVENT
DTSTART;TZID=UTC:20261014T170000
DTEND;TZID=UTC:20261014T170000
DTSTAMP:20260420T191321
CREATED:20260416T034427Z
LAST-MODIFIED:20260416T034427Z
UID:6223-1791997200-1791997200@michaeldamore.com
SUMMARY:Cass Cay
DESCRIPTION:
URL:https://michaeldamore.com/event/cass-cay-98/
LOCATION:Cass Cay\, 3200 Marcumbe Key Road\, Punta Gorda\, FL\, 33955\, United States
CATEGORIES:One Man Show
ATTACH;FMTTYPE=image/jpeg:https://michaeldamore.com/wp-content/uploads/2015/10/CassCayRestaurant.jpg
END:VEVENT
BEGIN:VEVENT
DTSTART;TZID=UTC:20261111T170000
DTEND;TZID=UTC:20261111T170000
DTSTAMP:20260420T191321
CREATED:20260416T034536Z
LAST-MODIFIED:20260416T034536Z
UID:6226-1794416400-1794416400@michaeldamore.com
SUMMARY:Cass Cay
DESCRIPTION:
URL:https://michaeldamore.com/event/cass-cay-99/
LOCATION:Cass Cay\, 3200 Marcumbe Key Road\, Punta Gorda\, FL\, 33955\, United States
CATEGORIES:One Man Show
ATTACH;FMTTYPE=image/jpeg:https://michaeldamore.com/wp-content/uploads/2015/10/CassCayRestaurant.jpg
END:VEVENT
END:VCALENDAR