BEGIN:VCALENDAR
VERSION:2.0
PRODID:-//Michael D&#039;Amore - ECPv6.15.20//NONSGML v1.0//EN
CALSCALE:GREGORIAN
METHOD:PUBLISH
X-WR-CALNAME:Michael D&#039;Amore
X-ORIGINAL-URL:https://michaeldamore.com
X-WR-CALDESC:Events for Michael D&#039;Amore
REFRESH-INTERVAL;VALUE=DURATION:PT1H
X-Robots-Tag:noindex
X-PUBLISHED-TTL:PT1H
BEGIN:VTIMEZONE
TZID:UTC
BEGIN:STANDARD
TZOFFSETFROM:+0000
TZOFFSETTO:+0000
TZNAME:UTC
DTSTART:20220101T000000
END:STANDARD
END:VTIMEZONE
BEGIN:VTIMEZONE
TZID:America/New_York
BEGIN:DAYLIGHT
TZOFFSETFROM:-0500
TZOFFSETTO:-0400
TZNAME:EDT
DTSTART:20220313T070000
END:DAYLIGHT
BEGIN:STANDARD
TZOFFSETFROM:-0400
TZOFFSETTO:-0500
TZNAME:EST
DTSTART:20221106T060000
END:STANDARD
BEGIN:DAYLIGHT
TZOFFSETFROM:-0500
TZOFFSETTO:-0400
TZNAME:EDT
DTSTART:20230312T070000
END:DAYLIGHT
BEGIN:STANDARD
TZOFFSETFROM:-0400
TZOFFSETTO:-0500
TZNAME:EST
DTSTART:20231105T060000
END:STANDARD
BEGIN:DAYLIGHT
TZOFFSETFROM:-0500
TZOFFSETTO:-0400
TZNAME:EDT
DTSTART:20240310T070000
END:DAYLIGHT
BEGIN:STANDARD
TZOFFSETFROM:-0400
TZOFFSETTO:-0500
TZNAME:EST
DTSTART:20241103T060000
END:STANDARD
END:VTIMEZONE
BEGIN:VEVENT
DTSTART;TZID=UTC:20231105T160000
DTEND;TZID=UTC:20231105T160000
DTSTAMP:20260421T150652
CREATED:20230419T162528Z
LAST-MODIFIED:20230928T154644Z
UID:4798-1699200000-1699200000@michaeldamore.com
SUMMARY:Cass Cay
DESCRIPTION:Please note that we are changing the start time back to 4:00 PM.\nI can’t wait to see everyone.
URL:https://michaeldamore.com/event/cass-cay-64/
LOCATION:Cass Cay\, 3200 Marcumbe Key Road\, Punta Gorda\, FL\, 33955\, United States
CATEGORIES:One Man Show
ATTACH;FMTTYPE=image/jpeg:https://michaeldamore.com/wp-content/uploads/2015/10/CassCayRestaurant.jpg
END:VEVENT
BEGIN:VEVENT
DTSTART;TZID=America/New_York:20231102T183000
DTEND;TZID=America/New_York:20231102T183000
DTSTAMP:20260421T150652
CREATED:20230908T165232Z
LAST-MODIFIED:20230908T165232Z
UID:4992-1698949800-1698949800@michaeldamore.com
SUMMARY:Michael D'Amore comes to Austin's  North Port
DESCRIPTION:Event Room Seating – $15.00 Per Person\nDinner Seating Beginning at 5:00 PM\nBar Seating – $10.00 Per Person (limited visibility)\nShowtime 6:30 PM\nCome on in or call for reservations Seating is limited\n(941) 426-1155
URL:https://michaeldamore.com/event/michael-damore-comes-to-austins-north-port-3/
LOCATION:Austin’s North Port\, 14415 Tamiami Trail\, North Port\, FL\, 34287
CATEGORIES:One Man Show
ATTACH;FMTTYPE=image/jpeg:https://michaeldamore.com/wp-content/uploads/2023/09/Flyer-Austins-North-Port-9-28-23-and-11-2-23-copy.jpg
END:VEVENT
BEGIN:VEVENT
DTSTART;TZID=UTC:20231101T183000
DTEND;TZID=UTC:20231101T183000
DTSTAMP:20260421T150652
CREATED:20230706T200612Z
LAST-MODIFIED:20230706T200612Z
UID:4902-1698863400-1698863400@michaeldamore.com
SUMMARY:Dogtooth Sports & Music Bar
DESCRIPTION:Reservations are strongly recommended!!! \n  \nI look forward to seeing you there. \n 
URL:https://michaeldamore.com/event/dogtooth-sports-music-bar-68/
LOCATION:Dogtooth Sports and Music Bar\, 5310 Shirley St.\, Naples\, FL\, 34109\, United States
CATEGORIES:One Man Show
ATTACH;FMTTYPE=image/jpeg:https://michaeldamore.com/wp-content/uploads/2019/08/Dogtooth-Logo-3.jpg
END:VEVENT
BEGIN:VEVENT
DTSTART;TZID=UTC:20231021T190000
DTEND;TZID=UTC:20231021T190000
DTSTAMP:20260421T150652
CREATED:20230908T164406Z
LAST-MODIFIED:20230908T164406Z
UID:4989-1697914800-1697914800@michaeldamore.com
SUMMARY:The Capris in Easton PA
DESCRIPTION:LAR ENTERPRISES PRESENTS\nOH WHAT A NIGHT OF ROCK N’ ROLL\nStarring \n The Capris – “There’s A Moon Out Tonight”\nJay Siegals Tokens – “Lion Sleeps Tonight”\nBrian Hyland – “Sealed With A Kiss”\nChris Montez – “Let’s Dance”\nClassic Sounds\n\nHosted by COOL BOBBY B Sirius Radio 50’s on 5\n\n\nYou can purchase tickets at the link above or call (610) 252-3132
URL:https://michaeldamore.com/event/the-capris-in-easton-pa-5/
LOCATION:State Theatre Center for the Arts\, 453 Northampton Street\, Easton\, PA\, 18042\, United States
CATEGORIES:One Man Show,The Capris
ATTACH;FMTTYPE=image/jpeg:https://michaeldamore.com/wp-content/uploads/2023/09/Capris-Promo-Photo-10-w-name-copy-scaled.jpg
END:VEVENT
BEGIN:VEVENT
DTSTART;TZID=America/New_York:20231019T190000
DTEND;TZID=America/New_York:20231019T190000
DTSTAMP:20260421T150652
CREATED:20230423T232558Z
LAST-MODIFIED:20230423T232558Z
UID:4836-1697742000-1697742000@michaeldamore.com
SUMMARY:Sneaky Pete's
DESCRIPTION:
URL:https://michaeldamore.com/event/sneaky-petes-15/
LOCATION:Sneaky Pete’s\, 3465 Bonita Beach Rd\, Bonita Springs\, FL\, 34134
CATEGORIES:One Man Show
END:VEVENT
BEGIN:VEVENT
DTSTART;TZID=UTC:20231018T190000
DTEND;TZID=UTC:20231018T190000
DTSTAMP:20260421T150652
CREATED:20230329T213928Z
LAST-MODIFIED:20230329T213928Z
UID:4725-1697655600-1697655600@michaeldamore.com
SUMMARY:Cape Cabaret
DESCRIPTION:Call For Reservations\n$10.00 Entertainment Cover Charge
URL:https://michaeldamore.com/event/cape-cabaret-48/
LOCATION:Cape Cabaret\, 4725 Vincennes Blvd\, Cape Coral\, Fl\, 33904\, United States
CATEGORIES:One Man Show
END:VEVENT
BEGIN:VEVENT
DTSTART;TZID=UTC:20231015T140000
DTEND;TZID=UTC:20231015T170000
DTSTAMP:20260421T150652
CREATED:20230419T162457Z
LAST-MODIFIED:20230419T162457Z
UID:4796-1697378400-1697389200@michaeldamore.com
SUMMARY:Cass Cay
DESCRIPTION:Please note that we are changing the start time to 2:00 PM.\nI can’t wait to see everyone.
URL:https://michaeldamore.com/event/cass-cay-63/
LOCATION:Cass Cay\, 3200 Marcumbe Key Road\, Punta Gorda\, FL\, 33955\, United States
CATEGORIES:One Man Show
ATTACH;FMTTYPE=image/jpeg:https://michaeldamore.com/wp-content/uploads/2015/10/CassCayRestaurant.jpg
END:VEVENT
BEGIN:VEVENT
DTSTART;TZID=UTC:20231011T183000
DTEND;TZID=UTC:20231011T183000
DTSTAMP:20260421T150652
CREATED:20230706T200539Z
LAST-MODIFIED:20230706T200539Z
UID:4900-1697049000-1697049000@michaeldamore.com
SUMMARY:Dogtooth Sports & Music Bar
DESCRIPTION:Reservations are strongly recommended!!! \n  \nI look forward to seeing you there. \n 
URL:https://michaeldamore.com/event/dogtooth-sports-music-bar-67/
LOCATION:Dogtooth Sports and Music Bar\, 5310 Shirley St.\, Naples\, FL\, 34109\, United States
CATEGORIES:One Man Show
ATTACH;FMTTYPE=image/jpeg:https://michaeldamore.com/wp-content/uploads/2019/08/Dogtooth-Logo-3.jpg
END:VEVENT
BEGIN:VEVENT
DTSTART;TZID=America/New_York:20231010T180000
DTEND;TZID=America/New_York:20231010T180000
DTSTAMP:20260421T150652
CREATED:20230908T160724Z
LAST-MODIFIED:20230908T160724Z
UID:4972-1696960800-1696960800@michaeldamore.com
SUMMARY:Giuseppe and the Lion
DESCRIPTION:
URL:https://michaeldamore.com/event/giuseppe-and-the-lion-4/
LOCATION:Giuseppe and the Lion\, 1585 Pine Ridge Rd\, Naples\, FL\, 34109
CATEGORIES:One Man Show
ATTACH;FMTTYPE=image/jpeg:https://michaeldamore.com/wp-content/uploads/2023/09/Giuseppe-Flyer-Aug-thru-April-2024-copy-e1746273659710.jpg
END:VEVENT
BEGIN:VEVENT
DTSTART;TZID=America/New_York:20231008T150000
DTEND;TZID=America/New_York:20231008T183000
DTSTAMP:20260421T150652
CREATED:20230908T155909Z
LAST-MODIFIED:20230908T155909Z
UID:4970-1696777200-1696789800@michaeldamore.com
SUMMARY:The Capris come to The Stafford Township Arts Center
DESCRIPTION:On stage this night will be\nThe Capris\nThe Dubs\nKid Kyle\nFrank Pizarro
URL:https://michaeldamore.com/event/the-capris-come-to-the-stafford-township-arts-center/
LOCATION:Stafford Township Arts Center\, 1000 McKinley Ave\, Manahawkin\, NJ\, 08050
CATEGORIES:One Man Show,The Capris
END:VEVENT
BEGIN:VEVENT
DTSTART;TZID=America/New_York:20231005T200000
DTEND;TZID=America/New_York:20231005T200000
DTSTAMP:20260421T150652
CREATED:20230322T185503Z
LAST-MODIFIED:20230322T185503Z
UID:4702-1696536000-1696536000@michaeldamore.com
SUMMARY:Michael D'Amore returns to Boca Raton
DESCRIPTION:After the last show\, we had so many people request a return to Boca Raton\nWe made it happen!!!\nWe have an intimate evening planned at The Boca Black Box\nDon’t wait to get your tickets\nCall The Box Office at 561-483-9036
URL:https://michaeldamore.com/event/michael-damore-returns-to-boca-raton/
LOCATION:Boca Black Box\, 8221 Glades Road\, Boca Raton\, FL\, 33434
CATEGORIES:One Man Show
ATTACH;FMTTYPE=image/jpeg:https://michaeldamore.com/wp-content/uploads/2023/03/Flyer-Michael-DAmore-Boca-Black-Box-10-5-23-copy.jpg
END:VEVENT
BEGIN:VEVENT
DTSTART;TZID=America/New_York:20230930T180000
DTEND;TZID=America/New_York:20230930T180000
DTSTAMP:20260421T150652
CREATED:20230808T200834Z
LAST-MODIFIED:20230908T155044Z
UID:4944-1696096800-1696096800@michaeldamore.com
SUMMARY:Michael D'Amore performs at Cape Coral Festa Italiana
DESCRIPTION:I am proud to announce that I have been asked to headline the Cape Coral Festa Italiana event on September 30\, 2023\nThe Cape Coral Museum of History will host its inaugural Cape Coral Festa Italiana on September 30\, 2023\, honoring and celebrating the heritage of Cape Coral’s many Italian American residents.\nThe two part event held at GASC will include a noon to 6 pm festival featuring local Italian food establishments\, entertainment\, games\, cooking demonstrations and a vendor village\, while the evening will consist of a dinner dance and show featuring Michael D’Amore and Nicole D’Andrea.\nFesta Italiana will be a chance for residents and visitors to once more gather for great food and amazing music.\nCome celebrate with us and join the fun!\nAll proceeds benefit the Museum\, its mission\, and programming.\n\n 
URL:https://michaeldamore.com/event/michael-damore-performs-at-cape-coral-festa-italiana/
LOCATION:GASC Event Space\, 2101 SW Pine Island Rd\, Cape Coral\, FL\, 33991
CATEGORIES:One Man Show
ATTACH;FMTTYPE=image/jpeg:https://michaeldamore.com/wp-content/uploads/2023/08/Cape-Coral-festa-italiana-logo.jpg
END:VEVENT
BEGIN:VEVENT
DTSTART;TZID=America/New_York:20230928T183000
DTEND;TZID=America/New_York:20230928T183000
DTSTAMP:20260421T150652
CREATED:20230722T190058Z
LAST-MODIFIED:20230726T145107Z
UID:4916-1695925800-1695925800@michaeldamore.com
SUMMARY:Michael D'Amore comes to Austin's  North Port
DESCRIPTION:Event Room Seating – $15.00 Per Person\nDinner Seating Beginning at 5:00 PM\nBar Seating – $10.00 Per Person (limited visibility)\nShowtime 6:30 PM\nCome on in or call for reservations Seating is limited\n(941) 426-1155
URL:https://michaeldamore.com/event/michael-damore-comes-to-austins-north-port-2/
LOCATION:Austin’s North Port\, 14415 Tamiami Trail\, North Port\, FL\, 34287
CATEGORIES:One Man Show
ATTACH;FMTTYPE=image/jpeg:https://michaeldamore.com/wp-content/uploads/2023/07/Flyer-Austins-North-Port-9-28-23-copy.jpg
END:VEVENT
BEGIN:VEVENT
DTSTART;TZID=America/New_York:20230927T183000
DTEND;TZID=America/New_York:20230927T183000
DTSTAMP:20260421T150652
CREATED:20230908T152418Z
LAST-MODIFIED:20230908T171727Z
UID:4956-1695839400-1695839400@michaeldamore.com
SUMMARY:Michael D'Amore comes to Mango Rita's Rhythm House
DESCRIPTION:
URL:https://michaeldamore.com/event/michael-damore-comes-to-mango-ritas-rhythm-house-3/
LOCATION:Mango Rita’s Rhythm House\, 16440 S. Tamiami Trail\, Fort Myers\, FL\, 33908\, United States
CATEGORIES:One Man Show
ATTACH;FMTTYPE=image/png:https://michaeldamore.com/wp-content/uploads/2023/09/website-home-page-logo-rythym-house-1.png
END:VEVENT
BEGIN:VEVENT
DTSTART;TZID=UTC:20230920T190000
DTEND;TZID=UTC:20230920T190000
DTSTAMP:20260421T150652
CREATED:20230329T213849Z
LAST-MODIFIED:20230329T213859Z
UID:4723-1695236400-1695236400@michaeldamore.com
SUMMARY:Cape Cabaret
DESCRIPTION:Call For Reservations\n$10.00 Entertainment Cover Charge
URL:https://michaeldamore.com/event/cape-cabaret-47/
LOCATION:Cape Cabaret\, 4725 Vincennes Blvd\, Cape Coral\, Fl\, 33904\, United States
CATEGORIES:One Man Show
END:VEVENT
BEGIN:VEVENT
DTSTART;TZID=America/New_York:20230919T180000
DTEND;TZID=America/New_York:20230919T180000
DTSTAMP:20260421T150652
CREATED:20230706T200159Z
LAST-MODIFIED:20230706T200159Z
UID:4896-1695146400-1695146400@michaeldamore.com
SUMMARY:Giuseppe and the Lion
DESCRIPTION:
URL:https://michaeldamore.com/event/giuseppe-and-the-lion-3/
LOCATION:Giuseppe and the Lion\, 1585 Pine Ridge Rd\, Naples\, FL\, 34109
CATEGORIES:One Man Show
ATTACH;FMTTYPE=image/jpeg:https://michaeldamore.com/wp-content/uploads/2023/07/Flyer-Giuseppe-and-the-lion-8-22-9-19-copy.jpg
END:VEVENT
BEGIN:VEVENT
DTSTART;TZID=UTC:20230913T183000
DTEND;TZID=UTC:20230913T183000
DTSTAMP:20260421T150652
CREATED:20230329T213553Z
LAST-MODIFIED:20230329T213553Z
UID:4715-1694629800-1694629800@michaeldamore.com
SUMMARY:Dogtooth Sports & Music Bar
DESCRIPTION:Reservations are strongly recommended!!! \n  \nI look forward to seeing you there. \n 
URL:https://michaeldamore.com/event/dogtooth-sports-music-bar-65/
LOCATION:Dogtooth Sports and Music Bar\, 5310 Shirley St.\, Naples\, FL\, 34109\, United States
CATEGORIES:One Man Show
ATTACH;FMTTYPE=image/jpeg:https://michaeldamore.com/wp-content/uploads/2019/08/Dogtooth-Logo-3.jpg
END:VEVENT
BEGIN:VEVENT
DTSTART;TZID=UTC:20230911T180000
DTEND;TZID=UTC:20230911T180000
DTSTAMP:20260421T150652
CREATED:20230421T034033Z
LAST-MODIFIED:20230421T034033Z
UID:4826-1694455200-1694455200@michaeldamore.com
SUMMARY:Ristorante Limoncello
DESCRIPTION:  \n  \n  \nCall For Reservations (239) 260-7478
URL:https://michaeldamore.com/event/ristorante-limoncello-15/
LOCATION:Limoncello\, 13800 Tamiami Trail\, North Naples\, FL\, 34110\, United States
CATEGORIES:One Man Show
ATTACH;FMTTYPE=image/jpeg:https://michaeldamore.com/wp-content/uploads/2023/04/Limoncello-Logo-copy.jpg
END:VEVENT
BEGIN:VEVENT
DTSTART;TZID=UTC:20230910T140000
DTEND;TZID=UTC:20230910T170000
DTSTAMP:20260421T150652
CREATED:20230419T162422Z
LAST-MODIFIED:20230419T162422Z
UID:4794-1694354400-1694365200@michaeldamore.com
SUMMARY:Cass Cay
DESCRIPTION:Please note that we are changing the start time to 2:00 PM.\nI can’t wait to see everyone.
URL:https://michaeldamore.com/event/cass-cay-62/
LOCATION:Cass Cay\, 3200 Marcumbe Key Road\, Punta Gorda\, FL\, 33955\, United States
CATEGORIES:One Man Show
ATTACH;FMTTYPE=image/jpeg:https://michaeldamore.com/wp-content/uploads/2015/10/CassCayRestaurant.jpg
END:VEVENT
BEGIN:VEVENT
DTSTART;TZID=America/New_York:20230907T180000
DTEND;TZID=America/New_York:20230907T180000
DTSTAMP:20260421T150652
CREATED:20230808T152619Z
LAST-MODIFIED:20230808T152619Z
UID:4923-1694109600-1694109600@michaeldamore.com
SUMMARY:Englewood Elks Fundraiser
DESCRIPTION:I am happy to say that The Englewood Elks Lodge\nhas made great strides in recovering from hurricane Ian.\nI am excited that I will be returning once a month beginning in October but this is the fundraiser to help with the enormous costs that they’ve incurred to get back up and running.\nIf you have ever had a good time there with me\, please come on out and support them and we’ll have fun in the process.\nDoors open at 4:00 PM\nMusic begins at 6:00 PM\nYou can make your donations at the door or in advance online by clicking here
URL:https://michaeldamore.com/event/englewood-elks-fundraiser/
LOCATION:Englewood Elks  Lodge 2378\, 401 North Indiana Avenue\, Englewood\, FL\, 34223
CATEGORIES:One Man Show
ATTACH;FMTTYPE=image/jpeg:https://michaeldamore.com/wp-content/uploads/2023/08/Flyer-Michael-DAmore-Englewood-Elks-Fundrasier-9-7-23-copy-3-scaled.jpg
END:VEVENT
BEGIN:VEVENT
DTSTART;TZID=America/New_York:20230906T190000
DTEND;TZID=America/New_York:20230906T190000
DTSTAMP:20260421T150652
CREATED:20230423T232518Z
LAST-MODIFIED:20230518T171351Z
UID:4834-1694026800-1694026800@michaeldamore.com
SUMMARY:Sneaky Pete's
DESCRIPTION:
URL:https://michaeldamore.com/event/sneaky-petes-14/
LOCATION:Sneaky Pete’s\, 3465 Bonita Beach Rd\, Bonita Springs\, FL\, 34134
CATEGORIES:One Man Show
END:VEVENT
BEGIN:VEVENT
DTSTART;TZID=America/New_York:20230901T200000
DTEND;TZID=America/New_York:20230901T200000
DTSTAMP:20260421T150652
CREATED:20230330T004117Z
LAST-MODIFIED:20230406T144309Z
UID:4734-1693598400-1693598400@michaeldamore.com
SUMMARY:Lead East 2023
DESCRIPTION:Lead East 2023\nFriday Night Dance Party\n\nDancing The Night Away\nMichael D’Amore\nMichael Zandman\n  \n 
URL:https://michaeldamore.com/event/lead-east-2023/
LOCATION:Lead East – Parsippany Hilton Hotel\, 1 Hilton Ct\,\, Parsippany\, NJ\, 07054
CATEGORIES:One Man Show
ATTACH;FMTTYPE=image/jpeg:https://michaeldamore.com/wp-content/uploads/2023/03/Flyer-lead-east-2023-copy.jpg
END:VEVENT
BEGIN:VEVENT
DTSTART;TZID=America/New_York:20230830T180000
DTEND;TZID=America/New_York:20230830T180000
DTSTAMP:20260421T150652
CREATED:20230606T171033Z
LAST-MODIFIED:20230606T204637Z
UID:4864-1693418400-1693418400@michaeldamore.com
SUMMARY:Michael D'Amore returns to La Focaccia in Levittown NY
DESCRIPTION:I’m returning to Long Island N.Y.
URL:https://michaeldamore.com/event/michael-damore-returns-to-la-focaccia-in-levittown-ny/
LOCATION:La Focaccia\, 70 East Village Green\, Levittown\, NY\, 11756
CATEGORIES:One Man Show
ATTACH;FMTTYPE=image/jpeg:https://michaeldamore.com/wp-content/uploads/2023/06/Flyer-La-Focaccia-8-30-23-copy-scaled.jpg
END:VEVENT
BEGIN:VEVENT
DTSTART;TZID=America/New_York:20230830T120000
DTEND;TZID=America/New_York:20230830T120000
DTSTAMP:20260421T150652
CREATED:20230606T170615Z
LAST-MODIFIED:20230606T204829Z
UID:4858-1693396800-1693396800@michaeldamore.com
SUMMARY:Michael D'Amore comes to Eisenhower Park
DESCRIPTION:Nassau County Executive Bruce Blakeman Presents\nNoontime Free Park Concert Series\nEisenhower Park  East Meadow Long Island\nBring a blanket – Bring a chair\nProduced by Steve Dassa
URL:https://michaeldamore.com/event/michael-damore-comes-to-eisenhower-park/
LOCATION:Eisenhower Park\, Parking Field 1 Merrick Ave\, East Meadow\, NY
CATEGORIES:One Man Show
ATTACH;FMTTYPE=image/jpeg:https://michaeldamore.com/wp-content/uploads/2023/06/Flyer-Eisenhower-Park-8-30-23-copy-1.jpg
END:VEVENT
BEGIN:VEVENT
DTSTART;TZID=UTC:20230827T180000
DTEND;TZID=UTC:20230827T180000
DTSTAMP:20260421T150652
CREATED:20230706T200448Z
LAST-MODIFIED:20230706T200448Z
UID:4898-1693159200-1693159200@michaeldamore.com
SUMMARY:Dogtooth Sports & Music Bar
DESCRIPTION:Reservations are strongly recommended!!! \n  \nI look forward to seeing you there. \n 
URL:https://michaeldamore.com/event/dogtooth-sports-music-bar-66/
LOCATION:Dogtooth Sports and Music Bar\, 5310 Shirley St.\, Naples\, FL\, 34109\, United States
CATEGORIES:One Man Show
ATTACH;FMTTYPE=image/jpeg:https://michaeldamore.com/wp-content/uploads/2019/08/Dogtooth-Logo-3.jpg
END:VEVENT
BEGIN:VEVENT
DTSTART;TZID=America/New_York:20230826T183000
DTEND;TZID=America/New_York:20230826T183000
DTSTAMP:20260421T150652
CREATED:20230722T185833Z
LAST-MODIFIED:20230722T185833Z
UID:4910-1693074600-1693074600@michaeldamore.com
SUMMARY:Michael D'Amore comes to Austin's  North Port
DESCRIPTION:Event Room Seating – $15.00 Per Person\nDinner Seatings Beginning at 5:00 PM\nBar Seating – $10.00 Per Person (limited visibility)\nShowtime 6:30 PM\nCome on in or call for reservations Seating is limited\n(941) 426-1155
URL:https://michaeldamore.com/event/michael-damore-comes-to-austins-north-port/
LOCATION:Austin’s North Port\, 14415 Tamiami Trail\, North Port\, FL\, 34287
CATEGORIES:One Man Show
ATTACH;FMTTYPE=image/jpeg:https://michaeldamore.com/wp-content/uploads/2023/07/Flyer-Austins-North-Port-8-26-23-copy.jpg
END:VEVENT
BEGIN:VEVENT
DTSTART;TZID=America/New_York:20230825T183000
DTEND;TZID=America/New_York:20230825T183000
DTSTAMP:20260421T150652
CREATED:20230611T010749Z
LAST-MODIFIED:20230611T010749Z
UID:4876-1692988200-1692988200@michaeldamore.com
SUMMARY:Michael D'Amore comes to Mango Rita's Rhythm House
DESCRIPTION:
URL:https://michaeldamore.com/event/michael-damore-comes-to-mango-ritas-rhythm-house-2/
LOCATION:Mango Rita’s Rhythm House\, 16440 S. Tamiami Trail\, Fort Myers\, FL\, 33908\, United States
CATEGORIES:One Man Show
ATTACH;FMTTYPE=image/jpeg:https://michaeldamore.com/wp-content/uploads/2023/06/Flyer-Mango-Ritas-Rhythm-House-8-28-23-copy.jpg
END:VEVENT
BEGIN:VEVENT
DTSTART;TZID=UTC:20230823T190000
DTEND;TZID=UTC:20230823T190000
DTSTAMP:20260421T150652
CREATED:20230329T213818Z
LAST-MODIFIED:20230329T213818Z
UID:4721-1692817200-1692817200@michaeldamore.com
SUMMARY:Cape Cabaret
DESCRIPTION:Call For Reservations\n$10.00 Entertainment Cover Charge
URL:https://michaeldamore.com/event/cape-cabaret-46/
LOCATION:Cape Cabaret\, 4725 Vincennes Blvd\, Cape Coral\, Fl\, 33904\, United States
CATEGORIES:One Man Show
END:VEVENT
BEGIN:VEVENT
DTSTART;TZID=America/New_York:20230822T180000
DTEND;TZID=America/New_York:20230822T180000
DTSTAMP:20260421T150652
CREATED:20230706T200119Z
LAST-MODIFIED:20230706T200119Z
UID:4893-1692727200-1692727200@michaeldamore.com
SUMMARY:Giuseppe and the Lion
DESCRIPTION:
URL:https://michaeldamore.com/event/giuseppe-and-the-lion-2/
LOCATION:Giuseppe and the Lion\, 1585 Pine Ridge Rd\, Naples\, FL\, 34109
CATEGORIES:One Man Show
ATTACH;FMTTYPE=image/jpeg:https://michaeldamore.com/wp-content/uploads/2023/07/Flyer-Giuseppe-and-the-lion-8-22-9-19-copy.jpg
END:VEVENT
BEGIN:VEVENT
DTSTART;TZID=America/New_York:20230818T190000
DTEND;TZID=America/New_York:20230818T190000
DTSTAMP:20260421T150652
CREATED:20230423T232442Z
LAST-MODIFIED:20230518T171229Z
UID:4832-1692385200-1692385200@michaeldamore.com
SUMMARY:Sneaky Pete's
DESCRIPTION:
URL:https://michaeldamore.com/event/sneaky-petes-13/
LOCATION:Sneaky Pete’s\, 3465 Bonita Beach Rd\, Bonita Springs\, FL\, 34134
CATEGORIES:One Man Show
END:VEVENT
END:VCALENDAR