BEGIN:VCALENDAR
VERSION:2.0
PRODID:-//Michael D&#039;Amore - ECPv6.15.20//NONSGML v1.0//EN
CALSCALE:GREGORIAN
METHOD:PUBLISH
X-WR-CALNAME:Michael D&#039;Amore
X-ORIGINAL-URL:https://michaeldamore.com
X-WR-CALDESC:Events for Michael D&#039;Amore
REFRESH-INTERVAL;VALUE=DURATION:PT1H
X-Robots-Tag:noindex
X-PUBLISHED-TTL:PT1H
BEGIN:VTIMEZONE
TZID:UTC
BEGIN:STANDARD
TZOFFSETFROM:+0000
TZOFFSETTO:+0000
TZNAME:UTC
DTSTART:20220101T000000
END:STANDARD
END:VTIMEZONE
BEGIN:VTIMEZONE
TZID:America/New_York
BEGIN:DAYLIGHT
TZOFFSETFROM:-0500
TZOFFSETTO:-0400
TZNAME:EDT
DTSTART:20220313T070000
END:DAYLIGHT
BEGIN:STANDARD
TZOFFSETFROM:-0400
TZOFFSETTO:-0500
TZNAME:EST
DTSTART:20221106T060000
END:STANDARD
BEGIN:DAYLIGHT
TZOFFSETFROM:-0500
TZOFFSETTO:-0400
TZNAME:EDT
DTSTART:20230312T070000
END:DAYLIGHT
BEGIN:STANDARD
TZOFFSETFROM:-0400
TZOFFSETTO:-0500
TZNAME:EST
DTSTART:20231105T060000
END:STANDARD
BEGIN:DAYLIGHT
TZOFFSETFROM:-0500
TZOFFSETTO:-0400
TZNAME:EDT
DTSTART:20240310T070000
END:DAYLIGHT
BEGIN:STANDARD
TZOFFSETFROM:-0400
TZOFFSETTO:-0500
TZNAME:EST
DTSTART:20241103T060000
END:STANDARD
END:VTIMEZONE
BEGIN:VEVENT
DTSTART;TZID=UTC:20230604T140000
DTEND;TZID=UTC:20230604T170000
DTSTAMP:20260421T213211
CREATED:20230417T134845Z
LAST-MODIFIED:20230417T135131Z
UID:4783-1685887200-1685898000@michaeldamore.com
SUMMARY:Cass Cay
DESCRIPTION:Please note that we are changing the start time to 2:00 PM.\nI can’t wait to see everyone.
URL:https://michaeldamore.com/event/cass-cay-58/
LOCATION:Cass Cay\, 3200 Marcumbe Key Road\, Punta Gorda\, FL\, 33955\, United States
CATEGORIES:One Man Show
ATTACH;FMTTYPE=image/jpeg:https://michaeldamore.com/wp-content/uploads/2015/10/CassCayRestaurant.jpg
END:VEVENT
BEGIN:VEVENT
DTSTART;TZID=UTC:20230525T190000
DTEND;TZID=UTC:20230525T190000
DTSTAMP:20260421T213211
CREATED:20221122T120806Z
LAST-MODIFIED:20221122T120806Z
UID:4446-1685041200-1685041200@michaeldamore.com
SUMMARY:Cape Cabaret
DESCRIPTION:Call For Reservations\n$10.00 Entertainment Cover Charge
URL:https://michaeldamore.com/event/cape-cabaret-43/
LOCATION:Cape Cabaret\, 4725 Vincennes Blvd\, Cape Coral\, Fl\, 33904\, United States
CATEGORIES:One Man Show
END:VEVENT
BEGIN:VEVENT
DTSTART;TZID=UTC:20230524T183000
DTEND;TZID=UTC:20230524T183000
DTSTAMP:20260421T213211
CREATED:20230329T213257Z
LAST-MODIFIED:20230329T213257Z
UID:4707-1684953000-1684953000@michaeldamore.com
SUMMARY:Dogtooth Sports & Music Bar
DESCRIPTION:Reservations are strongly recommended!!! \n  \nI look forward to seeing you there. \n 
URL:https://michaeldamore.com/event/dogtooth-sports-music-bar-61/
LOCATION:Dogtooth Sports and Music Bar\, 5310 Shirley St.\, Naples\, FL\, 34109\, United States
CATEGORIES:One Man Show
ATTACH;FMTTYPE=image/jpeg:https://michaeldamore.com/wp-content/uploads/2019/08/Dogtooth-Logo-3.jpg
END:VEVENT
BEGIN:VEVENT
DTSTART;TZID=UTC:20230522T180000
DTEND;TZID=UTC:20230522T180000
DTSTAMP:20260421T213211
CREATED:20230421T033648Z
LAST-MODIFIED:20230421T033648Z
UID:4816-1684778400-1684778400@michaeldamore.com
SUMMARY:Ristorante Limoncello
DESCRIPTION:  \n  \n  \nCall For Reservations (239) 260-7478
URL:https://michaeldamore.com/event/ristorante-limoncello-11/
LOCATION:Limoncello\, 13800 Tamiami Trail\, North Naples\, FL\, 34110\, United States
CATEGORIES:One Man Show
ATTACH;FMTTYPE=image/jpeg:https://michaeldamore.com/wp-content/uploads/2023/04/Limoncello-Logo-copy.jpg
END:VEVENT
BEGIN:VEVENT
DTSTART;TZID=America/New_York:20230520T190000
DTEND;TZID=America/New_York:20230520T190000
DTSTAMP:20260421T213211
CREATED:20230315T054044Z
LAST-MODIFIED:20230315T054044Z
UID:4700-1684609200-1684609200@michaeldamore.com
SUMMARY:The Capris at Count Basie Theater
DESCRIPTION:LAR ENTERPRISES PRESENTS\nOh What A Night of Doo-wop \nCount Basie Center for the Arts \nSaturday May 20th @ 7PM \nStarring\nThe Capris- “There’s A Moon Out Tonight ” \nHerb Reed’s Platters-“Only You” \nThe Demensions – “Over The Rainbow” \nThe Chiffons—“One Fine Day” \nCleveland Still & The Dubs – “Could This Be Magic” \nJimmy Stephens “Image of A Girl” \nThe Coasters—“Charlie Brown” \nThe Fireflies – “You Were Mine” \nHosted by COOL BOBBY B\nSirius Radio 50’s on 5 \nBox Office Phone: (732) 842-9000 \n  \n 
URL:https://michaeldamore.com/event/the-capris-at-count-basie-theater-2/
LOCATION:Count Basie Theater\, 99 Monmouth Street\, Red Bank\, NJ\, 07701
CATEGORIES:One Man Show,The Capris
ATTACH;FMTTYPE=image/jpeg:https://michaeldamore.com/wp-content/uploads/2018/10/Capris-Promo-Photo-2-final-5-3-e1566429575362.jpg
END:VEVENT
BEGIN:VEVENT
DTSTART;TZID=America/New_York:20230427T190000
DTEND;TZID=America/New_York:20230427T190000
DTSTAMP:20260421T213211
CREATED:20230120T202302Z
LAST-MODIFIED:20230120T202302Z
UID:4642-1682622000-1682622000@michaeldamore.com
SUMMARY:Sneaky Pete's
DESCRIPTION:
URL:https://michaeldamore.com/event/sneaky-petes-11/
LOCATION:Sneaky Pete’s\, 3465 Bonita Beach Rd\, Bonita Springs\, FL\, 34134
CATEGORIES:One Man Show
END:VEVENT
BEGIN:VEVENT
DTSTART;TZID=UTC:20230419T183000
DTEND;TZID=UTC:20230419T183000
DTSTAMP:20260421T213211
CREATED:20221122T120450Z
LAST-MODIFIED:20221122T120450Z
UID:4436-1681929000-1681929000@michaeldamore.com
SUMMARY:Dogtooth Sports & Music Bar
DESCRIPTION:Reservations are strongly recommended!!! \n  \nI look forward to seeing you there. \n 
URL:https://michaeldamore.com/event/dogtooth-sports-music-bar-60/
LOCATION:Dogtooth Sports and Music Bar\, 5310 Shirley St.\, Naples\, FL\, 34109\, United States
CATEGORIES:One Man Show
ATTACH;FMTTYPE=image/jpeg:https://michaeldamore.com/wp-content/uploads/2019/08/Dogtooth-Logo-3.jpg
END:VEVENT
BEGIN:VEVENT
DTSTART;TZID=UTC:20230416T160000
DTEND;TZID=UTC:20230416T160000
DTSTAMP:20260421T213211
CREATED:20221129T174229Z
LAST-MODIFIED:20221129T174229Z
UID:4464-1681660800-1681660800@michaeldamore.com
SUMMARY:Cass Cay
DESCRIPTION:
URL:https://michaeldamore.com/event/cass-cay-57/
LOCATION:Cass Cay\, 3200 Marcumbe Key Road\, Punta Gorda\, FL\, 33955\, United States
CATEGORIES:One Man Show
ATTACH;FMTTYPE=image/jpeg:https://michaeldamore.com/wp-content/uploads/2015/10/CassCayRestaurant.jpg
END:VEVENT
BEGIN:VEVENT
DTSTART;TZID=UTC:20230413T190000
DTEND;TZID=UTC:20230413T190000
DTSTAMP:20260421T213211
CREATED:20230211T155241Z
LAST-MODIFIED:20230211T155241Z
UID:4665-1681412400-1681412400@michaeldamore.com
SUMMARY:Michael D'Amore Returns to The Cultural Park Theater
DESCRIPTION:One Night Only\nReturning to my hometown theater is always so much fun.  This is the place that we let our hair down and just have a good old fashioned fun time.  I can’t wait to see everyone again.\nBox Office: 239-772-5862\nTickets on sale now
URL:https://michaeldamore.com/event/michael-damore-returns-to-the-cultural-park-theater/
LOCATION:Cultural Park Theater\, 528 Cultural Park Blvd.\, Cape Coral\, 33990\, United States
CATEGORIES:One Man Show
ATTACH;FMTTYPE=image/jpeg:https://michaeldamore.com/wp-content/uploads/2023/02/Michael-DAmore-April-13-CPT.jpg
END:VEVENT
BEGIN:VEVENT
DTSTART;TZID=UTC:20230406T190000
DTEND;TZID=UTC:20230406T190000
DTSTAMP:20260421T213211
CREATED:20221122T120742Z
LAST-MODIFIED:20221122T120742Z
UID:4444-1680807600-1680807600@michaeldamore.com
SUMMARY:Cape Cabaret
DESCRIPTION:Call For Reservations\n$10.00 Entertainment Cover Charge
URL:https://michaeldamore.com/event/cape-cabaret-42/
LOCATION:Cape Cabaret\, 4725 Vincennes Blvd\, Cape Coral\, Fl\, 33904\, United States
CATEGORIES:One Man Show
END:VEVENT
BEGIN:VEVENT
DTSTART;TZID=UTC:20230405T183000
DTEND;TZID=UTC:20230405T183000
DTSTAMP:20260421T213211
CREATED:20221122T120428Z
LAST-MODIFIED:20221122T120428Z
UID:4434-1680719400-1680719400@michaeldamore.com
SUMMARY:Dogtooth Sports & Music Bar
DESCRIPTION:Reservations are strongly recommended!!! \n  \nI look forward to seeing you there. \n 
URL:https://michaeldamore.com/event/dogtooth-sports-music-bar-59/
LOCATION:Dogtooth Sports and Music Bar\, 5310 Shirley St.\, Naples\, FL\, 34109\, United States
CATEGORIES:One Man Show
ATTACH;FMTTYPE=image/jpeg:https://michaeldamore.com/wp-content/uploads/2019/08/Dogtooth-Logo-3.jpg
END:VEVENT
BEGIN:VEVENT
DTSTART;TZID=UTC:20230403T180000
DTEND;TZID=UTC:20230403T180000
DTSTAMP:20260421T213211
CREATED:20230213T172106Z
LAST-MODIFIED:20230213T172120Z
UID:4669-1680544800-1680544800@michaeldamore.com
SUMMARY:Ristorante Limoncello
DESCRIPTION:  \n  \n  \nCall For Reservations (239) 260-7478
URL:https://michaeldamore.com/event/ristorante-limoncello-10/
LOCATION:Limoncello\, 13800 Tamiami Trail\, North Naples\, FL\, 34110\, United States
CATEGORIES:One Man Show
END:VEVENT
BEGIN:VEVENT
DTSTART;TZID=America/New_York:20230330T190000
DTEND;TZID=America/New_York:20230330T190000
DTSTAMP:20260421T213211
CREATED:20230120T202226Z
LAST-MODIFIED:20230120T202226Z
UID:4640-1680202800-1680202800@michaeldamore.com
SUMMARY:Sneaky Pete's
DESCRIPTION:
URL:https://michaeldamore.com/event/sneaky-petes-10/
LOCATION:Sneaky Pete’s\, 3465 Bonita Beach Rd\, Bonita Springs\, FL\, 34134
CATEGORIES:One Man Show
END:VEVENT
BEGIN:VEVENT
DTSTART;TZID=America/New_York:20230326T160000
DTEND;TZID=America/New_York:20230326T160000
DTSTAMP:20260421T213211
CREATED:20230211T154038Z
LAST-MODIFIED:20230213T172236Z
UID:4663-1679846400-1679846400@michaeldamore.com
SUMMARY:Rocky Burns Birthday Bash - Open To The Public
DESCRIPTION:Rocky Burn Birthday Bash\nat\nAll Star Sports Grill\nThis is open to the public so make your reservations early
URL:https://michaeldamore.com/event/rocky-burns-birthday-bash-open-to-the-public-2/
LOCATION:All Star Sports Grill\, 2360 Tamiami Trail\, Port Charlotte\, FL\, 33952
CATEGORIES:One Man Show
END:VEVENT
BEGIN:VEVENT
DTSTART;TZID=America/New_York:20230325T190000
DTEND;TZID=America/New_York:20230325T190000
DTSTAMP:20260421T213211
CREATED:20230202T163817Z
LAST-MODIFIED:20230213T172213Z
UID:4657-1679770800-1679770800@michaeldamore.com
SUMMARY:The Capris at Parker Playhouse
DESCRIPTION:Fort Lauderdale Florida\nWe’re coming
URL:https://michaeldamore.com/event/the-capris-at-parker-playhouse/
LOCATION:Parker Playhouse\, 707 NE 8th Street\, Fort Lauderdale\, FL\, 33304
CATEGORIES:One Man Show,The Capris
ATTACH;FMTTYPE=image/jpeg:https://michaeldamore.com/wp-content/uploads/2023/02/325559473_1803997403311796_2309886579961038923_n.jpg
END:VEVENT
BEGIN:VEVENT
DTSTART;TZID=UTC:20230322T183000
DTEND;TZID=UTC:20230322T183000
DTSTAMP:20260421T213211
CREATED:20221122T120405Z
LAST-MODIFIED:20221122T120405Z
UID:4432-1679509800-1679509800@michaeldamore.com
SUMMARY:Dogtooth Sports & Music Bar
DESCRIPTION:Reservations are strongly recommended!!! \n  \nI look forward to seeing you there. \n 
URL:https://michaeldamore.com/event/dogtooth-sports-music-bar-58/
LOCATION:Dogtooth Sports and Music Bar\, 5310 Shirley St.\, Naples\, FL\, 34109\, United States
CATEGORIES:One Man Show
ATTACH;FMTTYPE=image/jpeg:https://michaeldamore.com/wp-content/uploads/2019/08/Dogtooth-Logo-3.jpg
END:VEVENT
BEGIN:VEVENT
DTSTART;TZID=UTC:20230312T160000
DTEND;TZID=UTC:20230312T160000
DTSTAMP:20260421T213211
CREATED:20221129T174205Z
LAST-MODIFIED:20221129T174205Z
UID:4462-1678636800-1678636800@michaeldamore.com
SUMMARY:Cass Cay
DESCRIPTION:
URL:https://michaeldamore.com/event/cass-cay-56/
LOCATION:Cass Cay\, 3200 Marcumbe Key Road\, Punta Gorda\, FL\, 33955\, United States
CATEGORIES:One Man Show
ATTACH;FMTTYPE=image/jpeg:https://michaeldamore.com/wp-content/uploads/2015/10/CassCayRestaurant.jpg
END:VEVENT
BEGIN:VEVENT
DTSTART;TZID=UTC:20230308T183000
DTEND;TZID=UTC:20230308T183000
DTSTAMP:20260421T213211
CREATED:20221122T120343Z
LAST-MODIFIED:20221122T120343Z
UID:4430-1678300200-1678300200@michaeldamore.com
SUMMARY:Dogtooth Sports & Music Bar
DESCRIPTION:Reservations are strongly recommended!!! \n  \nI look forward to seeing you there. \n 
URL:https://michaeldamore.com/event/dogtooth-sports-music-bar-57/
LOCATION:Dogtooth Sports and Music Bar\, 5310 Shirley St.\, Naples\, FL\, 34109\, United States
CATEGORIES:One Man Show
ATTACH;FMTTYPE=image/jpeg:https://michaeldamore.com/wp-content/uploads/2019/08/Dogtooth-Logo-3.jpg
END:VEVENT
BEGIN:VEVENT
DTSTART;TZID=UTC:20230305T190000
DTEND;TZID=UTC:20230305T190000
DTSTAMP:20260421T213211
CREATED:20221122T120610Z
LAST-MODIFIED:20221122T120634Z
UID:4440-1678042800-1678042800@michaeldamore.com
SUMMARY:Cape Cabaret
DESCRIPTION:Call For Reservations\n$10.00 Entertainment Cover Charge
URL:https://michaeldamore.com/event/cape-cabaret-40/
LOCATION:Cape Cabaret\, 4725 Vincennes Blvd\, Cape Coral\, Fl\, 33904\, United States
CATEGORIES:One Man Show
END:VEVENT
BEGIN:VEVENT
DTSTART;TZID=UTC:20230227T180000
DTEND;TZID=UTC:20230227T180000
DTSTAMP:20260421T213211
CREATED:20230109T054532Z
LAST-MODIFIED:20230109T054532Z
UID:4628-1677520800-1677520800@michaeldamore.com
SUMMARY:Ristorante Limoncello
DESCRIPTION:  \n  \n  \nCall For Reservations (239) 260-7478
URL:https://michaeldamore.com/event/ristorante-limoncello-9/
LOCATION:Limoncello\, 13800 Tamiami Trail\, North Naples\, FL\, 34110\, United States
CATEGORIES:One Man Show
END:VEVENT
BEGIN:VEVENT
DTSTART;TZID=UTC:20230226T160000
DTEND;TZID=UTC:20230226T160000
DTSTAMP:20260421T213211
CREATED:20221129T174112Z
LAST-MODIFIED:20221129T174112Z
UID:4460-1677427200-1677427200@michaeldamore.com
SUMMARY:Cass Cay
DESCRIPTION:
URL:https://michaeldamore.com/event/cass-cay-55/
LOCATION:Cass Cay\, 3200 Marcumbe Key Road\, Punta Gorda\, FL\, 33955\, United States
CATEGORIES:One Man Show
ATTACH;FMTTYPE=image/jpeg:https://michaeldamore.com/wp-content/uploads/2015/10/CassCayRestaurant.jpg
END:VEVENT
BEGIN:VEVENT
DTSTART;TZID=America/New_York:20230222T170000
DTEND;TZID=America/New_York:20230222T170000
DTSTAMP:20260421T213211
CREATED:20230112T014024Z
LAST-MODIFIED:20230112T014313Z
UID:4630-1677085200-1677085200@michaeldamore.com
SUMMARY:Disabled American Veterans Fundraiser
DESCRIPTION:Call Mary at 908-910-8022 for tickets\nThis will be a fun night for a good cause
URL:https://michaeldamore.com/event/disabled-american-veterans-fundraiser-2/
LOCATION:Landmark Naples\, 1620 Gulf Coast Drive\, Naples\, FL\, 34110
CATEGORIES:One Man Show
ATTACH;FMTTYPE=image/jpeg:https://michaeldamore.com/wp-content/uploads/2023/01/Flyer-Disabled-Vet-Benefit-2-22-23-copy-scaled.jpg
END:VEVENT
BEGIN:VEVENT
DTSTART;TZID=UTC:20230219T190000
DTEND;TZID=UTC:20230219T190000
DTSTAMP:20260421T213211
CREATED:20221122T120712Z
LAST-MODIFIED:20221122T120712Z
UID:4442-1676833200-1676833200@michaeldamore.com
SUMMARY:Cape Cabaret
DESCRIPTION:Call For Reservations\n$10.00 Entertainment Cover Charge
URL:https://michaeldamore.com/event/cape-cabaret-41/
LOCATION:Cape Cabaret\, 4725 Vincennes Blvd\, Cape Coral\, Fl\, 33904\, United States
CATEGORIES:One Man Show
END:VEVENT
BEGIN:VEVENT
DTSTART;TZID=America/New_York:20230216T190000
DTEND;TZID=America/New_York:20230216T190000
DTSTAMP:20260421T213211
CREATED:20230120T202129Z
LAST-MODIFIED:20230120T202129Z
UID:4638-1676574000-1676574000@michaeldamore.com
SUMMARY:Sneaky Pete's
DESCRIPTION:
URL:https://michaeldamore.com/event/sneaky-petes-9/
LOCATION:Sneaky Pete’s\, 3465 Bonita Beach Rd\, Bonita Springs\, FL\, 34134
CATEGORIES:One Man Show
END:VEVENT
BEGIN:VEVENT
DTSTART;TZID=UTC:20230215T183000
DTEND;TZID=UTC:20230215T183000
DTSTAMP:20260421T213211
CREATED:20221122T120310Z
LAST-MODIFIED:20221122T120310Z
UID:4428-1676485800-1676485800@michaeldamore.com
SUMMARY:Dogtooth Sports & Music Bar
DESCRIPTION:Reservations are strongly recommended!!! \n  \nI look forward to seeing you there. \n 
URL:https://michaeldamore.com/event/dogtooth-sports-music-bar-45/
LOCATION:Dogtooth Sports and Music Bar\, 5310 Shirley St.\, Naples\, FL\, 34109\, United States
CATEGORIES:One Man Show
ATTACH;FMTTYPE=image/jpeg:https://michaeldamore.com/wp-content/uploads/2019/08/Dogtooth-Logo-3.jpg
END:VEVENT
BEGIN:VEVENT
DTSTART;TZID=UTC:20230213T180000
DTEND;TZID=UTC:20230213T180000
DTSTAMP:20260421T213211
CREATED:20230109T054436Z
LAST-MODIFIED:20230109T054436Z
UID:4626-1676311200-1676311200@michaeldamore.com
SUMMARY:Ristorante Limoncello
DESCRIPTION:  \n  \n  \nCall For Reservations (239) 260-7478
URL:https://michaeldamore.com/event/ristorante-limoncello-8/
LOCATION:Limoncello\, 13800 Tamiami Trail\, North Naples\, FL\, 34110\, United States
CATEGORIES:One Man Show
END:VEVENT
BEGIN:VEVENT
DTSTART;TZID=UTC:20230205T160000
DTEND;TZID=UTC:20230205T160000
DTSTAMP:20260421T213211
CREATED:20221129T174046Z
LAST-MODIFIED:20221129T174046Z
UID:4458-1675612800-1675612800@michaeldamore.com
SUMMARY:Cass Cay
DESCRIPTION:
URL:https://michaeldamore.com/event/cass-cay-54/
LOCATION:Cass Cay\, 3200 Marcumbe Key Road\, Punta Gorda\, FL\, 33955\, United States
CATEGORIES:One Man Show
ATTACH;FMTTYPE=image/jpeg:https://michaeldamore.com/wp-content/uploads/2015/10/CassCayRestaurant.jpg
END:VEVENT
BEGIN:VEVENT
DTSTART;TZID=UTC:20230131T190000
DTEND;TZID=UTC:20230131T190000
DTSTAMP:20260421T213211
CREATED:20221122T120545Z
LAST-MODIFIED:20221122T120545Z
UID:4438-1675191600-1675191600@michaeldamore.com
SUMMARY:Cape Cabaret
DESCRIPTION:Call For Reservations\n$10.00 Entertainment Cover Charge
URL:https://michaeldamore.com/event/cape-cabaret-39/
LOCATION:Cape Cabaret\, 4725 Vincennes Blvd\, Cape Coral\, Fl\, 33904\, United States
CATEGORIES:One Man Show
END:VEVENT
BEGIN:VEVENT
DTSTART;TZID=UTC:20230129T160000
DTEND;TZID=UTC:20230129T160000
DTSTAMP:20260421T213211
CREATED:20221129T174021Z
LAST-MODIFIED:20221129T174021Z
UID:4456-1675008000-1675008000@michaeldamore.com
SUMMARY:Cass Cay
DESCRIPTION:
URL:https://michaeldamore.com/event/cass-cay-53/
LOCATION:Cass Cay\, 3200 Marcumbe Key Road\, Punta Gorda\, FL\, 33955\, United States
CATEGORIES:One Man Show
ATTACH;FMTTYPE=image/jpeg:https://michaeldamore.com/wp-content/uploads/2015/10/CassCayRestaurant.jpg
END:VEVENT
BEGIN:VEVENT
DTSTART;TZID=America/New_York:20230126T190000
DTEND;TZID=America/New_York:20230126T190000
DTSTAMP:20260421T213211
CREATED:20230120T202035Z
LAST-MODIFIED:20230120T202035Z
UID:4636-1674759600-1674759600@michaeldamore.com
SUMMARY:Sneaky Pete's
DESCRIPTION:
URL:https://michaeldamore.com/event/sneaky-petes-7/
LOCATION:Sneaky Pete’s\, 3465 Bonita Beach Rd\, Bonita Springs\, FL\, 34134
CATEGORIES:One Man Show
END:VEVENT
END:VCALENDAR