BEGIN:VCALENDAR
VERSION:2.0
PRODID:-//Michael D&#039;Amore - ECPv6.15.20//NONSGML v1.0//EN
CALSCALE:GREGORIAN
METHOD:PUBLISH
X-WR-CALNAME:Michael D&#039;Amore
X-ORIGINAL-URL:https://michaeldamore.com
X-WR-CALDESC:Events for Michael D&#039;Amore
REFRESH-INTERVAL;VALUE=DURATION:PT1H
X-Robots-Tag:noindex
X-PUBLISHED-TTL:PT1H
BEGIN:VTIMEZONE
TZID:UTC
BEGIN:STANDARD
TZOFFSETFROM:+0000
TZOFFSETTO:+0000
TZNAME:UTC
DTSTART:20210101T000000
END:STANDARD
END:VTIMEZONE
BEGIN:VTIMEZONE
TZID:America/New_York
BEGIN:DAYLIGHT
TZOFFSETFROM:-0500
TZOFFSETTO:-0400
TZNAME:EDT
DTSTART:20210314T070000
END:DAYLIGHT
BEGIN:STANDARD
TZOFFSETFROM:-0400
TZOFFSETTO:-0500
TZNAME:EST
DTSTART:20211107T060000
END:STANDARD
BEGIN:DAYLIGHT
TZOFFSETFROM:-0500
TZOFFSETTO:-0400
TZNAME:EDT
DTSTART:20220313T070000
END:DAYLIGHT
BEGIN:STANDARD
TZOFFSETFROM:-0400
TZOFFSETTO:-0500
TZNAME:EST
DTSTART:20221106T060000
END:STANDARD
BEGIN:DAYLIGHT
TZOFFSETFROM:-0500
TZOFFSETTO:-0400
TZNAME:EDT
DTSTART:20230312T070000
END:DAYLIGHT
BEGIN:STANDARD
TZOFFSETFROM:-0400
TZOFFSETTO:-0500
TZNAME:EST
DTSTART:20231105T060000
END:STANDARD
END:VTIMEZONE
BEGIN:VEVENT
DTSTART;TZID=UTC:20220423T190000
DTEND;TZID=UTC:20220423T190000
DTSTAMP:20260424T152518
CREATED:20220206T220007Z
LAST-MODIFIED:20220206T221314Z
UID:3784-1650740400-1650740400@michaeldamore.com
SUMMARY:The Capris in Wilkes-Barre PA
DESCRIPTION:“Oh What A Night” of Doo Wop & Legends Vol. 2\nFeaturing\nThe Capris\nThe Duprees\nDennis Tufano\nJay Siegel’s Tokens\nCharlie Gracie\nBobby Brooks Wilson
URL:https://michaeldamore.com/event/the-capris-in-wilkes-barre-pa-2/
LOCATION:F.M. Kirby Center for the Performing Arts\, 71 Public Square\, Wilkes-Barre\, PA\, 18701\, United States
CATEGORIES:One Man Show,The Capris
ATTACH;FMTTYPE=image/jpeg:https://michaeldamore.com/wp-content/uploads/2016/07/The-Capris-209-scaled.jpg
END:VEVENT
BEGIN:VEVENT
DTSTART;TZID=UTC:20220421T190000
DTEND;TZID=UTC:20220421T190000
DTSTAMP:20260424T152518
CREATED:20210726T153808Z
LAST-MODIFIED:20210726T153808Z
UID:3530-1650567600-1650567600@michaeldamore.com
SUMMARY:Cape Cabaret
DESCRIPTION:Call For Reservations\n$10.00 Entertainment Cover Charge
URL:https://michaeldamore.com/event/cape-cabaret-31/
LOCATION:Cape Cabaret\, 4725 Vincennes Blvd\, Cape Coral\, Fl\, 33904\, United States
CATEGORIES:One Man Show
END:VEVENT
BEGIN:VEVENT
DTSTART;TZID=UTC:20220420T183000
DTEND;TZID=UTC:20220420T183000
DTSTAMP:20260424T152518
CREATED:20210928T140948Z
LAST-MODIFIED:20210928T140948Z
UID:3603-1650479400-1650479400@michaeldamore.com
SUMMARY:Dogtooth Sports & Music Bar
DESCRIPTION:Reservations are strongly recommended!!! \n  \nI look forward to seeing you there. \n 
URL:https://michaeldamore.com/event/dogtooth-sports-music-bar-43/
LOCATION:Dogtooth Sports and Music Bar\, 5310 Shirley St.\, Naples\, FL\, 34109\, United States
CATEGORIES:One Man Show
ATTACH;FMTTYPE=image/jpeg:https://michaeldamore.com/wp-content/uploads/2019/08/Dogtooth-Logo-3.jpg
END:VEVENT
BEGIN:VEVENT
DTSTART;TZID=America/New_York:20220411T173000
DTEND;TZID=America/New_York:20220411T173000
DTSTAMP:20260424T152518
CREATED:20210928T142037Z
LAST-MODIFIED:20210928T142037Z
UID:3633-1649698200-1649698200@michaeldamore.com
SUMMARY:Island View Restaurant
DESCRIPTION:A show with a view.   You don’t want to miss the sunset.\nDon’t wait to make your reservations.\n  \nCall (239) 463-5550 for your reservations
URL:https://michaeldamore.com/event/island-view-restaurant-37/
LOCATION:Lani Kai Island Resort\, 1400 Estero Blvd.\, Fort Myers Beach\, Fl\, 33931
CATEGORIES:One Man Show
ATTACH;FMTTYPE=image/png:https://michaeldamore.com/wp-content/uploads/2021/06/Island-View-Restaurant-Logo.png
END:VEVENT
BEGIN:VEVENT
DTSTART;TZID=UTC:20220409T200000
DTEND;TZID=UTC:20220409T200000
DTSTAMP:20260424T152518
CREATED:20220206T213034Z
LAST-MODIFIED:20220206T213327Z
UID:3776-1649534400-1649534400@michaeldamore.com
SUMMARY:The Capris in Cerritos California
DESCRIPTION:The Best of Doo-Wop Vol. VI\nFeaturing\nThe Capris – “There’s A Moon Out Tonight”\nBob Miranda and the Happenings – “See You in September”\nRon Dante – “Sugar Sugar”\nDennis Tufano (Original lead singer of The Buckinghams) – “Kind of a Drag”\nChris Montez – Let’s Dance\nLarry Chance and the Earls – “I Believe”\nJimmy Gallagher (Original lead sing of The Passions) – “Just to Be With You”\nAcapella by Classic Sounds\n 
URL:https://michaeldamore.com/event/the-capris-in-cerritos-california-2/
LOCATION:Cerritos Center for the Performing Arts\, 18000 Park Plaza Drive\, Cerritos\, CA\, 90703\, United States
CATEGORIES:One Man Show,The Capris
ATTACH;FMTTYPE=image/jpeg:https://michaeldamore.com/wp-content/uploads/2022/02/Capris-Cerritos-PAC-April-9-2022-copy.jpg
END:VEVENT
BEGIN:VEVENT
DTSTART;TZID=UTC:20220406T183000
DTEND;TZID=UTC:20220406T183000
DTSTAMP:20260424T152518
CREATED:20210928T140922Z
LAST-MODIFIED:20210928T140922Z
UID:3601-1649269800-1649269800@michaeldamore.com
SUMMARY:Dogtooth Sports & Music Bar
DESCRIPTION:Reservations are strongly recommended!!! \n  \nI look forward to seeing you there. \n 
URL:https://michaeldamore.com/event/dogtooth-sports-music-bar-42/
LOCATION:Dogtooth Sports and Music Bar\, 5310 Shirley St.\, Naples\, FL\, 34109\, United States
CATEGORIES:One Man Show
ATTACH;FMTTYPE=image/jpeg:https://michaeldamore.com/wp-content/uploads/2019/08/Dogtooth-Logo-3.jpg
END:VEVENT
BEGIN:VEVENT
DTSTART;TZID=America/New_York:20220405T173000
DTEND;TZID=America/New_York:20220405T173000
DTSTAMP:20260424T152518
CREATED:20210928T142018Z
LAST-MODIFIED:20210928T142018Z
UID:3631-1649179800-1649179800@michaeldamore.com
SUMMARY:Island View Restaurant
DESCRIPTION:A show with a view.   You don’t want to miss the sunset.\nDon’t wait to make your reservations.\n  \nCall (239) 463-5550 for your reservations
URL:https://michaeldamore.com/event/island-view-restaurant-36/
LOCATION:Lani Kai Island Resort\, 1400 Estero Blvd.\, Fort Myers Beach\, Fl\, 33931
CATEGORIES:One Man Show
ATTACH;FMTTYPE=image/png:https://michaeldamore.com/wp-content/uploads/2021/06/Island-View-Restaurant-Logo.png
END:VEVENT
BEGIN:VEVENT
DTSTART;TZID=America/New_York:20220404T173000
DTEND;TZID=America/New_York:20220404T173000
DTSTAMP:20260424T152518
CREATED:20210928T142000Z
LAST-MODIFIED:20210928T142000Z
UID:3629-1649093400-1649093400@michaeldamore.com
SUMMARY:Island View Restaurant
DESCRIPTION:A show with a view.   You don’t want to miss the sunset.\nDon’t wait to make your reservations.\n  \nCall (239) 463-5550 for your reservations
URL:https://michaeldamore.com/event/island-view-restaurant-35/
LOCATION:Lani Kai Island Resort\, 1400 Estero Blvd.\, Fort Myers Beach\, Fl\, 33931
CATEGORIES:One Man Show
ATTACH;FMTTYPE=image/png:https://michaeldamore.com/wp-content/uploads/2021/06/Island-View-Restaurant-Logo.png
END:VEVENT
BEGIN:VEVENT
DTSTART;TZID=UTC:20220403T160000
DTEND;TZID=UTC:20220403T160000
DTSTAMP:20260424T152518
CREATED:20210928T140402Z
LAST-MODIFIED:20211016T161427Z
UID:3585-1649001600-1649001600@michaeldamore.com
SUMMARY:Cass Cay
DESCRIPTION:
URL:https://michaeldamore.com/event/cass-cay-46/
LOCATION:Cass Cay\, 3200 Marcumbe Key Road\, Punta Gorda\, FL\, 33955\, United States
CATEGORIES:One Man Show
ATTACH;FMTTYPE=image/jpeg:https://michaeldamore.com/wp-content/uploads/2015/10/CassCayRestaurant.jpg
END:VEVENT
BEGIN:VEVENT
DTSTART;TZID=America/New_York:20220401T190000
DTEND;TZID=America/New_York:20220401T190000
DTSTAMP:20260424T152518
CREATED:20220206T163833Z
LAST-MODIFIED:20220206T233046Z
UID:3770-1648839600-1648839600@michaeldamore.com
SUMMARY:Michael D'Amore comes to Eustis FL at The Living Drama Theater April 1\, 2022
DESCRIPTION:Tickets are on sale now\nDon’t miss one of the few times I will be in The Villages area.\n\nCall 321-439-0529 for tickets
URL:https://michaeldamore.com/event/michael-damore-comes-to-eustis-fl-at-the-living-drama-theater-april-1-2022/
LOCATION:Living Drama Theater\, 431 Plaza Drive\, Eustis\, FL\, 32726
CATEGORIES:One Man Show
END:VEVENT
BEGIN:VEVENT
DTSTART;TZID=UTC:20220331T190000
DTEND;TZID=UTC:20220331T190000
DTSTAMP:20260424T152518
CREATED:20210726T153752Z
LAST-MODIFIED:20210726T153752Z
UID:3528-1648753200-1648753200@michaeldamore.com
SUMMARY:Cape Cabaret
DESCRIPTION:Call For Reservations\n$10.00 Entertainment Cover Charge
URL:https://michaeldamore.com/event/cape-cabaret-30/
LOCATION:Cape Cabaret\, 4725 Vincennes Blvd\, Cape Coral\, Fl\, 33904\, United States
CATEGORIES:One Man Show
END:VEVENT
BEGIN:VEVENT
DTSTART;TZID=America/New_York:20220328T173000
DTEND;TZID=America/New_York:20220328T173000
DTSTAMP:20260424T152518
CREATED:20210928T141928Z
LAST-MODIFIED:20210928T141937Z
UID:3627-1648488600-1648488600@michaeldamore.com
SUMMARY:Island View Restaurant
DESCRIPTION:A show with a view.   You don’t want to miss the sunset.\nDon’t wait to make your reservations.\n  \nCall (239) 463-5550 for your reservations
URL:https://michaeldamore.com/event/island-view-restaurant-34/
LOCATION:Lani Kai Island Resort\, 1400 Estero Blvd.\, Fort Myers Beach\, Fl\, 33931
CATEGORIES:One Man Show
ATTACH;FMTTYPE=image/png:https://michaeldamore.com/wp-content/uploads/2021/06/Island-View-Restaurant-Logo.png
END:VEVENT
BEGIN:VEVENT
DTSTART;TZID=America/New_York:20220327T160000
DTEND;TZID=America/New_York:20220327T160000
DTSTAMP:20260424T152518
CREATED:20200915T030419Z
LAST-MODIFIED:20211209T100613Z
UID:2648-1648396800-1648396800@michaeldamore.com
SUMMARY:All Star Sports Grill
DESCRIPTION:Parties of 5 or more may make a reservation.\nEveryone else will be seated on a first come\, first served basis\nFor reservations\, please call 941-743-4140
URL:https://michaeldamore.com/event/all-star-sports-grill/
LOCATION:All Star Sports Grill\, 2360 Tamiami Trail\, Port Charlotte\, FL\, 33952
CATEGORIES:One Man Show
END:VEVENT
BEGIN:VEVENT
DTSTART;TZID=America/New_York:20220326T200000
DTEND;TZID=America/New_York:20220326T200000
DTSTAMP:20260424T152518
CREATED:20220317T163601Z
LAST-MODIFIED:20220317T164028Z
UID:3826-1648324800-1648324800@michaeldamore.com
SUMMARY:Michael D'Amore Show at Vizcaya in Delray Beach
DESCRIPTION:For Tickets Call (561) 496-3313 \n\nNo tickets will be sold the day of the show \n  \n 
URL:https://michaeldamore.com/event/michael-damore-show-at-vizcaya-in-delray-beach/
LOCATION:Vizcaya Delray Beach\, 15150 Michelangelo Blvd.\, Delray Beach\, FL\, 33446
CATEGORIES:One Man Show
ATTACH;FMTTYPE=image/jpeg:https://michaeldamore.com/wp-content/uploads/2022/03/Flyer-Vizcaya-3-26-22-copy.jpg
END:VEVENT
BEGIN:VEVENT
DTSTART;TZID=America/New_York:20220322T180000
DTEND;TZID=America/New_York:20220322T180000
DTSTAMP:20260424T152518
CREATED:20210723T145446Z
LAST-MODIFIED:20210723T145446Z
UID:3515-1647972000-1647972000@michaeldamore.com
SUMMARY:The Return of the SWFL Sock Hop with Michael D'Amore Englewood Edition
DESCRIPTION:The SWFL Sock Hop\nEnglewood Edition\nDoor Open at 4:30 PM  Showtime 6:00 PM\nFull food service and full cash bar\nCall for your reservations 941-474-1404
URL:https://michaeldamore.com/event/the-return-of-the-swfl-sock-hop-with-michael-damore-englewood-edition-17/
LOCATION:Englewood Elks  Lodge 2378\, 401 North Indiana Avenue\, Englewood\, FL\, 34223
CATEGORIES:One Man Show,Sock Hop
END:VEVENT
BEGIN:VEVENT
DTSTART;TZID=UTC:20220320T160000
DTEND;TZID=UTC:20220320T160000
DTSTAMP:20260424T152518
CREATED:20210928T140338Z
LAST-MODIFIED:20210928T140338Z
UID:3583-1647792000-1647792000@michaeldamore.com
SUMMARY:Cass Cay
DESCRIPTION:
URL:https://michaeldamore.com/event/cass-cay-45/
LOCATION:Cass Cay\, 3200 Marcumbe Key Road\, Punta Gorda\, FL\, 33955\, United States
CATEGORIES:One Man Show
ATTACH;FMTTYPE=image/jpeg:https://michaeldamore.com/wp-content/uploads/2015/10/CassCayRestaurant.jpg
END:VEVENT
BEGIN:VEVENT
DTSTART;TZID=America/New_York:20220319T210000
DTEND;TZID=America/New_York:20220319T210000
DTSTAMP:20260424T152518
CREATED:20220316T155258Z
LAST-MODIFIED:20220316T155258Z
UID:3822-1647723600-1647723600@michaeldamore.com
SUMMARY:San Gennaro Feast Hallandale Florida March 19\, 2022
DESCRIPTION:I’ll be taking the stage at 9:00 PM after\nPhilly Cuz and Biagio and before the Studio 54 Band\n\nSAN GENNARO FEAST\nMARCH 17-20\, 2022\nHALLANDALE BEACH\, FL\nGULFSTREAM PARK\n\n\n\n\nGeneral Admission $12 Adults (16+) | $5 Children (3-15)\n\nCarnival Tickets & Wristbands sold separately.\nUnlimited Ride Wristbands:\nThursday $25 (BOGO Parent Wristbands)\nFriday-Sunday $35\nRide Tickets: $1.50 per ticket or 24 for $24\n\nFestival Hours\n\nSaturday (3/19): 11am-Midnight
URL:https://michaeldamore.com/event/san-gennaro-feast-hallandale-florida-march-19-2022/
LOCATION:Located at Gulfstream Park\, 901 S Federal Hwy\, Hallandale Beach\, FL\, 33009
CATEGORIES:One Man Show
ATTACH;FMTTYPE=image/jpeg:https://michaeldamore.com/wp-content/uploads/2022/03/1646056147_https-_cdn.evbuc_.com_images_216540499_172718201046_1_original.jpg
END:VEVENT
BEGIN:VEVENT
DTSTART;TZID=America/New_York:20220317T180000
DTEND;TZID=America/New_York:20220317T180000
DTSTAMP:20260424T152518
CREATED:20220110T190821Z
LAST-MODIFIED:20220110T191014Z
UID:3740-1647540000-1647540000@michaeldamore.com
SUMMARY:Dinner Show at Grill at 1951 3-17-22
DESCRIPTION:Back By Popular Demand!!!\n\n\nThank you to everyone who has made these dinner shows so successful and so much fun.\nMy band and I can’t wait to do it again.\n 
URL:https://michaeldamore.com/event/dinner-show-at-grill-at-1951-3-17-22/
LOCATION:Grill at 1951\, 1951 Tamiami Trail\, Port Charlotte\, Florida\, 33948
CATEGORIES:Dinner Shows,One Man Show
ATTACH;FMTTYPE=image/jpeg:https://michaeldamore.com/wp-content/uploads/2019/02/Michael-DAmore-Band-4.jpg
END:VEVENT
BEGIN:VEVENT
DTSTART;TZID=UTC:20220316T183000
DTEND;TZID=UTC:20220316T183000
DTSTAMP:20260424T152518
CREATED:20210928T140842Z
LAST-MODIFIED:20210928T140842Z
UID:3599-1647455400-1647455400@michaeldamore.com
SUMMARY:Dogtooth Sports & Music Bar
DESCRIPTION:Reservations are strongly recommended!!! \n  \nI look forward to seeing you there. \n 
URL:https://michaeldamore.com/event/dogtooth-sports-music-bar-41/
LOCATION:Dogtooth Sports and Music Bar\, 5310 Shirley St.\, Naples\, FL\, 34109\, United States
CATEGORIES:One Man Show
ATTACH;FMTTYPE=image/jpeg:https://michaeldamore.com/wp-content/uploads/2019/08/Dogtooth-Logo-3.jpg
END:VEVENT
BEGIN:VEVENT
DTSTART;TZID=America/New_York:20220314T173000
DTEND;TZID=America/New_York:20220314T173000
DTSTAMP:20260424T152518
CREATED:20210928T142603Z
LAST-MODIFIED:20210928T142603Z
UID:3635-1647279000-1647279000@michaeldamore.com
SUMMARY:Island View Restaurant
DESCRIPTION:A show with a view.   You don’t want to miss the sunset.\nDon’t wait to make your reservations.\n  \nCall (239) 463-5550 for your reservations
URL:https://michaeldamore.com/event/island-view-restaurant-38/
LOCATION:Lani Kai Island Resort\, 1400 Estero Blvd.\, Fort Myers Beach\, Fl\, 33931
CATEGORIES:One Man Show
ATTACH;FMTTYPE=image/png:https://michaeldamore.com/wp-content/uploads/2021/06/Island-View-Restaurant-Logo.png
END:VEVENT
BEGIN:VEVENT
DTSTART;TZID=America/New_York:20220308T173000
DTEND;TZID=America/New_York:20220308T173000
DTSTAMP:20260424T152518
CREATED:20210928T141907Z
LAST-MODIFIED:20210928T141907Z
UID:3625-1646760600-1646760600@michaeldamore.com
SUMMARY:Island View Restaurant
DESCRIPTION:A show with a view.   You don’t want to miss the sunset.\nDon’t wait to make your reservations.\n  \nCall (239) 463-5550 for your reservations
URL:https://michaeldamore.com/event/island-view-restaurant-33/
LOCATION:Lani Kai Island Resort\, 1400 Estero Blvd.\, Fort Myers Beach\, Fl\, 33931
CATEGORIES:One Man Show
ATTACH;FMTTYPE=image/png:https://michaeldamore.com/wp-content/uploads/2021/06/Island-View-Restaurant-Logo.png
END:VEVENT
BEGIN:VEVENT
DTSTART;TZID=America/New_York:20220307T173000
DTEND;TZID=America/New_York:20220307T173000
DTSTAMP:20260424T152518
CREATED:20210928T141849Z
LAST-MODIFIED:20210928T141849Z
UID:3623-1646674200-1646674200@michaeldamore.com
SUMMARY:Island View Restaurant
DESCRIPTION:A show with a view.   You don’t want to miss the sunset.\nDon’t wait to make your reservations.\n  \nCall (239) 463-5550 for your reservations
URL:https://michaeldamore.com/event/island-view-restaurant-32/
LOCATION:Lani Kai Island Resort\, 1400 Estero Blvd.\, Fort Myers Beach\, Fl\, 33931
CATEGORIES:One Man Show
ATTACH;FMTTYPE=image/png:https://michaeldamore.com/wp-content/uploads/2021/06/Island-View-Restaurant-Logo.png
END:VEVENT
BEGIN:VEVENT
DTSTART;TZID=UTC:20220306T160000
DTEND;TZID=UTC:20220306T160000
DTSTAMP:20260424T152518
CREATED:20210928T140316Z
LAST-MODIFIED:20210928T140316Z
UID:3581-1646582400-1646582400@michaeldamore.com
SUMMARY:Cass Cay
DESCRIPTION:
URL:https://michaeldamore.com/event/cass-cay-44/
LOCATION:Cass Cay\, 3200 Marcumbe Key Road\, Punta Gorda\, FL\, 33955\, United States
CATEGORIES:One Man Show
ATTACH;FMTTYPE=image/jpeg:https://michaeldamore.com/wp-content/uploads/2015/10/CassCayRestaurant.jpg
END:VEVENT
BEGIN:VEVENT
DTSTART;TZID=UTC:20220303T190000
DTEND;TZID=UTC:20220303T190000
DTSTAMP:20260424T152518
CREATED:20210726T153732Z
LAST-MODIFIED:20210726T153732Z
UID:3526-1646334000-1646334000@michaeldamore.com
SUMMARY:Cape Cabaret
DESCRIPTION:Call For Reservations\n$10.00 Entertainment Cover Charge
URL:https://michaeldamore.com/event/cape-cabaret-29/
LOCATION:Cape Cabaret\, 4725 Vincennes Blvd\, Cape Coral\, Fl\, 33904\, United States
CATEGORIES:One Man Show
END:VEVENT
BEGIN:VEVENT
DTSTART;TZID=UTC:20220302T183000
DTEND;TZID=UTC:20220302T183000
DTSTAMP:20260424T152518
CREATED:20210928T140817Z
LAST-MODIFIED:20210928T140817Z
UID:3597-1646245800-1646245800@michaeldamore.com
SUMMARY:Dogtooth Sports & Music Bar
DESCRIPTION:Reservations are strongly recommended!!! \n  \nI look forward to seeing you there. \n 
URL:https://michaeldamore.com/event/dogtooth-sports-music-bar-40/
LOCATION:Dogtooth Sports and Music Bar\, 5310 Shirley St.\, Naples\, FL\, 34109\, United States
CATEGORIES:One Man Show
ATTACH;FMTTYPE=image/jpeg:https://michaeldamore.com/wp-content/uploads/2019/08/Dogtooth-Logo-3.jpg
END:VEVENT
BEGIN:VEVENT
DTSTART;TZID=America/New_York:20220301T180000
DTEND;TZID=America/New_York:20220301T180000
DTSTAMP:20260424T152518
CREATED:20210723T145359Z
LAST-MODIFIED:20210723T145359Z
UID:3513-1646157600-1646157600@michaeldamore.com
SUMMARY:The Return of the SWFL Sock Hop with Michael D'Amore Englewood Edition
DESCRIPTION:The SWFL Sock Hop\nEnglewood Edition\nDoor Open at 4:30 PM  Showtime 6:00 PM\nFull food service and full cash bar\nCall for your reservations 941-474-1404
URL:https://michaeldamore.com/event/the-return-of-the-swfl-sock-hop-with-michael-damore-englewood-edition-16/
LOCATION:Englewood Elks  Lodge 2378\, 401 North Indiana Avenue\, Englewood\, FL\, 34223
CATEGORIES:One Man Show,Sock Hop
END:VEVENT
BEGIN:VEVENT
DTSTART;TZID=America/New_York:20220228T173000
DTEND;TZID=America/New_York:20220228T173000
DTSTAMP:20260424T152518
CREATED:20210928T141821Z
LAST-MODIFIED:20210928T141821Z
UID:3621-1646069400-1646069400@michaeldamore.com
SUMMARY:Island View Restaurant
DESCRIPTION:A show with a view.   You don’t want to miss the sunset.\nDon’t wait to make your reservations.\n  \nCall (239) 463-5550 for your reservations
URL:https://michaeldamore.com/event/island-view-restaurant-31/
LOCATION:Lani Kai Island Resort\, 1400 Estero Blvd.\, Fort Myers Beach\, Fl\, 33931
CATEGORIES:One Man Show
ATTACH;FMTTYPE=image/png:https://michaeldamore.com/wp-content/uploads/2021/06/Island-View-Restaurant-Logo.png
END:VEVENT
BEGIN:VEVENT
DTSTART;TZID=America/New_York:20220224T190000
DTEND;TZID=America/New_York:20220224T190000
DTSTAMP:20260424T152518
CREATED:20220121T231144Z
LAST-MODIFIED:20220121T231144Z
UID:3758-1645729200-1645729200@michaeldamore.com
SUMMARY:Sneaky Pete's
DESCRIPTION:
URL:https://michaeldamore.com/event/sneaky-petes-4/
LOCATION:Sneaky Pete’s\, 3465 Bonita Beach Rd\, Bonita Springs\, FL\, 34134
CATEGORIES:One Man Show
END:VEVENT
BEGIN:VEVENT
DTSTART;TZID=America/New_York:20220223T180000
DTEND;TZID=America/New_York:20220223T180000
DTSTAMP:20260424T152518
CREATED:20220221T215024Z
LAST-MODIFIED:20220221T215025Z
UID:3800-1645639200-1645639200@michaeldamore.com
SUMMARY:Disabled American Veterans Fundraiser
DESCRIPTION:Tickets are $20 at the door \nOr call Mary at 908-910-8022 \n  \n  \n  \n 
URL:https://michaeldamore.com/event/disabled-american-veterans-fundraiser/
LOCATION:Landmark Naples\, 1620 Gulf Coast Drive\, Naples\, FL\, 34110
CATEGORIES:One Man Show
ATTACH;FMTTYPE=image/jpeg:https://michaeldamore.com/wp-content/uploads/2022/02/20220211_125123.jpg
END:VEVENT
BEGIN:VEVENT
DTSTART;TZID=UTC:20220220T160000
DTEND;TZID=UTC:20220220T160000
DTSTAMP:20260424T152518
CREATED:20210928T140238Z
LAST-MODIFIED:20210928T140254Z
UID:3579-1645372800-1645372800@michaeldamore.com
SUMMARY:Cass Cay
DESCRIPTION:
URL:https://michaeldamore.com/event/cass-cay-43/
LOCATION:Cass Cay\, 3200 Marcumbe Key Road\, Punta Gorda\, FL\, 33955\, United States
CATEGORIES:One Man Show
ATTACH;FMTTYPE=image/jpeg:https://michaeldamore.com/wp-content/uploads/2015/10/CassCayRestaurant.jpg
END:VEVENT
END:VCALENDAR