BEGIN:VCALENDAR
VERSION:2.0
PRODID:-//Michael D&#039;Amore - ECPv6.15.20//NONSGML v1.0//EN
CALSCALE:GREGORIAN
METHOD:PUBLISH
X-ORIGINAL-URL:https://michaeldamore.com
X-WR-CALDESC:Events for Michael D&#039;Amore
REFRESH-INTERVAL;VALUE=DURATION:PT1H
X-Robots-Tag:noindex
X-PUBLISHED-TTL:PT1H
BEGIN:VTIMEZONE
TZID:America/New_York
BEGIN:DAYLIGHT
TZOFFSETFROM:-0500
TZOFFSETTO:-0400
TZNAME:EDT
DTSTART:20200308T070000
END:DAYLIGHT
BEGIN:STANDARD
TZOFFSETFROM:-0400
TZOFFSETTO:-0500
TZNAME:EST
DTSTART:20201101T060000
END:STANDARD
BEGIN:DAYLIGHT
TZOFFSETFROM:-0500
TZOFFSETTO:-0400
TZNAME:EDT
DTSTART:20210314T070000
END:DAYLIGHT
BEGIN:STANDARD
TZOFFSETFROM:-0400
TZOFFSETTO:-0500
TZNAME:EST
DTSTART:20211107T060000
END:STANDARD
BEGIN:DAYLIGHT
TZOFFSETFROM:-0500
TZOFFSETTO:-0400
TZNAME:EDT
DTSTART:20220313T070000
END:DAYLIGHT
BEGIN:STANDARD
TZOFFSETFROM:-0400
TZOFFSETTO:-0500
TZNAME:EST
DTSTART:20221106T060000
END:STANDARD
BEGIN:DAYLIGHT
TZOFFSETFROM:-0500
TZOFFSETTO:-0400
TZNAME:EDT
DTSTART:20230312T070000
END:DAYLIGHT
BEGIN:STANDARD
TZOFFSETFROM:-0400
TZOFFSETTO:-0500
TZNAME:EST
DTSTART:20231105T060000
END:STANDARD
END:VTIMEZONE
BEGIN:VTIMEZONE
TZID:UTC
BEGIN:STANDARD
TZOFFSETFROM:+0000
TZOFFSETTO:+0000
TZNAME:UTC
DTSTART:20200101T000000
END:STANDARD
END:VTIMEZONE
BEGIN:VEVENT
DTSTART;TZID=America/New_York:20220207T173000
DTEND;TZID=America/New_York:20220207T173000
DTSTAMP:20260424T200759
CREATED:20210928T141757Z
LAST-MODIFIED:20210928T141757Z
UID:3619-1644255000-1644255000@michaeldamore.com
SUMMARY:Island View Restaurant
DESCRIPTION:A show with a view.   You don’t want to miss the sunset.\nDon’t wait to make your reservations.\n  \nCall (239) 463-5550 for your reservations
URL:https://michaeldamore.com/event/island-view-restaurant-30/
LOCATION:Lani Kai Island Resort\, 1400 Estero Blvd.\, Fort Myers Beach\, Fl\, 33931
CATEGORIES:One Man Show
ATTACH;FMTTYPE=image/png:https://michaeldamore.com/wp-content/uploads/2021/06/Island-View-Restaurant-Logo.png
END:VEVENT
BEGIN:VEVENT
DTSTART;TZID=UTC:20220202T183000
DTEND;TZID=UTC:20220202T183000
DTSTAMP:20260424T200759
CREATED:20210928T140722Z
LAST-MODIFIED:20210928T140722Z
UID:3593-1643826600-1643826600@michaeldamore.com
SUMMARY:Dogtooth Sports & Music Bar
DESCRIPTION:Reservations are strongly recommended!!! \n  \nI look forward to seeing you there. \n 
URL:https://michaeldamore.com/event/dogtooth-sports-music-bar-38/
LOCATION:Dogtooth Sports and Music Bar\, 5310 Shirley St.\, Naples\, FL\, 34109\, United States
CATEGORIES:One Man Show
ATTACH;FMTTYPE=image/jpeg:https://michaeldamore.com/wp-content/uploads/2019/08/Dogtooth-Logo-3.jpg
END:VEVENT
BEGIN:VEVENT
DTSTART;TZID=America/New_York:20220201T173000
DTEND;TZID=America/New_York:20220201T173000
DTSTAMP:20260424T200759
CREATED:20210928T141656Z
LAST-MODIFIED:20210928T141705Z
UID:3617-1643736600-1643736600@michaeldamore.com
SUMMARY:Island View Restaurant
DESCRIPTION:A show with a view.   You don’t want to miss the sunset.\nDon’t wait to make your reservations.\n  \nCall (239) 463-5550 for your reservations
URL:https://michaeldamore.com/event/island-view-restaurant-29/
LOCATION:Lani Kai Island Resort\, 1400 Estero Blvd.\, Fort Myers Beach\, Fl\, 33931
CATEGORIES:One Man Show
ATTACH;FMTTYPE=image/png:https://michaeldamore.com/wp-content/uploads/2021/06/Island-View-Restaurant-Logo.png
END:VEVENT
BEGIN:VEVENT
DTSTART;TZID=America/New_York:20220131T173000
DTEND;TZID=America/New_York:20220131T173000
DTSTAMP:20260424T200759
CREATED:20210928T141627Z
LAST-MODIFIED:20210928T141627Z
UID:3614-1643650200-1643650200@michaeldamore.com
SUMMARY:Island View Restaurant
DESCRIPTION:A show with a view.   You don’t want to miss the sunset.\nDon’t wait to make your reservations.\n  \nCall (239) 463-5550 for your reservations
URL:https://michaeldamore.com/event/island-view-restaurant-28/
LOCATION:Lani Kai Island Resort\, 1400 Estero Blvd.\, Fort Myers Beach\, Fl\, 33931
CATEGORIES:One Man Show
ATTACH;FMTTYPE=image/png:https://michaeldamore.com/wp-content/uploads/2021/06/Island-View-Restaurant-Logo.png
END:VEVENT
BEGIN:VEVENT
DTSTART;TZID=America/New_York:20220125T173000
DTEND;TZID=America/New_York:20220125T173000
DTSTAMP:20260424T200759
CREATED:20210928T141545Z
LAST-MODIFIED:20210928T141545Z
UID:3613-1643131800-1643131800@michaeldamore.com
SUMMARY:Island View Restaurant
DESCRIPTION:A show with a view.   You don’t want to miss the sunset.\nDon’t wait to make your reservations.\n  \nCall (239) 463-5550 for your reservations
URL:https://michaeldamore.com/event/island-view-restaurant-27/
LOCATION:Lani Kai Island Resort\, 1400 Estero Blvd.\, Fort Myers Beach\, Fl\, 33931
CATEGORIES:One Man Show
ATTACH;FMTTYPE=image/png:https://michaeldamore.com/wp-content/uploads/2021/06/Island-View-Restaurant-Logo.png
END:VEVENT
BEGIN:VEVENT
DTSTART;TZID=UTC:20220123T180000
DTEND;TZID=UTC:20220123T180000
DTSTAMP:20260424T200759
CREATED:20210928T140646Z
LAST-MODIFIED:20210928T140646Z
UID:3591-1642960800-1642960800@michaeldamore.com
SUMMARY:Dogtooth Sports & Music Bar
DESCRIPTION:Reservations are strongly recommended!!! \n  \nI look forward to seeing you there. \n 
URL:https://michaeldamore.com/event/dogtooth-sports-music-bar-37/
LOCATION:Dogtooth Sports and Music Bar\, 5310 Shirley St.\, Naples\, FL\, 34109\, United States
CATEGORIES:One Man Show
ATTACH;FMTTYPE=image/jpeg:https://michaeldamore.com/wp-content/uploads/2019/08/Dogtooth-Logo-3.jpg
END:VEVENT
BEGIN:VEVENT
DTSTART;TZID=UTC:20220120T190000
DTEND;TZID=UTC:20220120T190000
DTSTAMP:20260424T200759
CREATED:20210726T153639Z
LAST-MODIFIED:20210726T153639Z
UID:3522-1642705200-1642705200@michaeldamore.com
SUMMARY:Cape Cabaret
DESCRIPTION:Call For Reservations\n$10.00 Entertainment Cover Charge
URL:https://michaeldamore.com/event/cape-cabaret-27/
LOCATION:Cape Cabaret\, 4725 Vincennes Blvd\, Cape Coral\, Fl\, 33904\, United States
CATEGORIES:One Man Show
END:VEVENT
BEGIN:VEVENT
DTSTART;TZID=America/New_York:20220118T180000
DTEND;TZID=America/New_York:20220118T180000
DTSTAMP:20260424T200759
CREATED:20210723T145311Z
LAST-MODIFIED:20210723T145311Z
UID:3509-1642528800-1642528800@michaeldamore.com
SUMMARY:The Return of the SWFL Sock Hop with Michael D'Amore Englewood Edition
DESCRIPTION:The SWFL Sock Hop\nEnglewood Edition\nDoor Open at 4:30 PM  Showtime 6:00 PM\nFull food service and full cash bar\nCall for your reservations 941-474-1404
URL:https://michaeldamore.com/event/the-return-of-the-swfl-sock-hop-with-michael-damore-englewood-edition-14/
LOCATION:Englewood Elks  Lodge 2378\, 401 North Indiana Avenue\, Englewood\, FL\, 34223
CATEGORIES:One Man Show,Sock Hop
END:VEVENT
BEGIN:VEVENT
DTSTART;TZID=UTC:20220116T160000
DTEND;TZID=UTC:20220116T160000
DTSTAMP:20260424T200759
CREATED:20210928T140123Z
LAST-MODIFIED:20210928T140123Z
UID:3575-1642348800-1642348800@michaeldamore.com
SUMMARY:Cass Cay
DESCRIPTION:
URL:https://michaeldamore.com/event/cass-cay-41/
LOCATION:Cass Cay\, 3200 Marcumbe Key Road\, Punta Gorda\, FL\, 33955\, United States
CATEGORIES:One Man Show
ATTACH;FMTTYPE=image/jpeg:https://michaeldamore.com/wp-content/uploads/2015/10/CassCayRestaurant.jpg
END:VEVENT
BEGIN:VEVENT
DTSTART;TZID=America/New_York:20220112T173000
DTEND;TZID=America/New_York:20220112T173000
DTSTAMP:20260424T200759
CREATED:20210928T141456Z
LAST-MODIFIED:20210928T141456Z
UID:3611-1642008600-1642008600@michaeldamore.com
SUMMARY:Island View Restaurant
DESCRIPTION:A show with a view.   You don’t want to miss the sunset.\nDon’t wait to make your reservations.\n  \nCall (239) 463-5550 for your reservations
URL:https://michaeldamore.com/event/island-view-restaurant-26/
LOCATION:Lani Kai Island Resort\, 1400 Estero Blvd.\, Fort Myers Beach\, Fl\, 33931
CATEGORIES:One Man Show
ATTACH;FMTTYPE=image/png:https://michaeldamore.com/wp-content/uploads/2021/06/Island-View-Restaurant-Logo.png
END:VEVENT
BEGIN:VEVENT
DTSTART;TZID=America/New_York:20220111T173000
DTEND;TZID=America/New_York:20220111T173000
DTSTAMP:20260424T200759
CREATED:20210928T141426Z
LAST-MODIFIED:20210928T141426Z
UID:3609-1641922200-1641922200@michaeldamore.com
SUMMARY:Island View Restaurant
DESCRIPTION:A show with a view.   You don’t want to miss the sunset.\nDon’t wait to make your reservations.\n  \nCall (239) 463-5550 for your reservations
URL:https://michaeldamore.com/event/island-view-restaurant-25/
LOCATION:Lani Kai Island Resort\, 1400 Estero Blvd.\, Fort Myers Beach\, Fl\, 33931
CATEGORIES:One Man Show
ATTACH;FMTTYPE=image/png:https://michaeldamore.com/wp-content/uploads/2021/06/Island-View-Restaurant-Logo.png
END:VEVENT
BEGIN:VEVENT
DTSTART;TZID=America/New_York:20220110T173000
DTEND;TZID=America/New_York:20220110T173000
DTSTAMP:20260424T200759
CREATED:20210928T141353Z
LAST-MODIFIED:20210928T141353Z
UID:3607-1641835800-1641835800@michaeldamore.com
SUMMARY:Island View Restaurant
DESCRIPTION:A show with a view.   You don’t want to miss the sunset.\nDon’t wait to make your reservations.\n  \nCall (239) 463-5550 for your reservations
URL:https://michaeldamore.com/event/island-view-restaurant-24/
LOCATION:Lani Kai Island Resort\, 1400 Estero Blvd.\, Fort Myers Beach\, Fl\, 33931
CATEGORIES:One Man Show
ATTACH;FMTTYPE=image/png:https://michaeldamore.com/wp-content/uploads/2021/06/Island-View-Restaurant-Logo.png
END:VEVENT
BEGIN:VEVENT
DTSTART;TZID=UTC:20220109T180000
DTEND;TZID=UTC:20220109T180000
DTSTAMP:20260424T200759
CREATED:20210928T140618Z
LAST-MODIFIED:20210928T140618Z
UID:3589-1641751200-1641751200@michaeldamore.com
SUMMARY:Dogtooth Sports & Music Bar
DESCRIPTION:Reservations are strongly recommended!!! \n  \nI look forward to seeing you there. \n 
URL:https://michaeldamore.com/event/dogtooth-sports-music-bar-36/
LOCATION:Dogtooth Sports and Music Bar\, 5310 Shirley St.\, Naples\, FL\, 34109\, United States
CATEGORIES:One Man Show
ATTACH;FMTTYPE=image/jpeg:https://michaeldamore.com/wp-content/uploads/2019/08/Dogtooth-Logo-3.jpg
END:VEVENT
BEGIN:VEVENT
DTSTART;TZID=America/New_York:20220108T190000
DTEND;TZID=America/New_York:20220108T190000
DTSTAMP:20260424T200759
CREATED:20210722T141548Z
LAST-MODIFIED:20210722T141548Z
UID:3493-1641668400-1641668400@michaeldamore.com
SUMMARY:Michael D'Amore comes to Eustis FL at The Living Drama Theater January 8\, 2022
DESCRIPTION:Tickets are on sale now\nDon’t miss one of the few times I will be in The Villages area.\n\nCall 321-439-0529 for tickets
URL:https://michaeldamore.com/event/michael-damore-comes-to-eustis-florida/
LOCATION:Living Drama Theater\, 431 Plaza Drive\, Eustis\, FL\, 32726
CATEGORIES:One Man Show
ATTACH;FMTTYPE=image/jpeg:https://michaeldamore.com/wp-content/uploads/2021/07/Flyer-Living-Drama-Theater-2-1-8-22.jpg
END:VEVENT
BEGIN:VEVENT
DTSTART;TZID=America/New_York:20220106T180000
DTEND;TZID=America/New_York:20220106T180000
DTSTAMP:20260424T200759
CREATED:20211011T211431Z
LAST-MODIFIED:20211011T211533Z
UID:3651-1641492000-1641492000@michaeldamore.com
SUMMARY:The Return of the SWFL Sock Hop with Michael D'Amore Bonita Springs Edition
DESCRIPTION:The Return of The SWFL Sock Hop\nBonita Springs Edition\nDoor Open at 4:30 PM  Showtime 6:00 PM\nFull food service and full cash bar\nCall for your reservations 239-947-2753 Option 2
URL:https://michaeldamore.com/event/the-return-of-the-swfl-sock-hop-with-michael-damore-bonita-springs-edition-12/
LOCATION:Bonita Springs Elks Banquet Hall\, 3231 Coconut Road\, Bonita Springs\, FL\, 34134
CATEGORIES:One Man Show,Sock Hop
END:VEVENT
BEGIN:VEVENT
DTSTART;TZID=America/New_York:20220104T173000
DTEND;TZID=America/New_York:20220104T173000
DTSTAMP:20260424T200759
CREATED:20210928T141053Z
LAST-MODIFIED:20210928T141053Z
UID:3605-1641317400-1641317400@michaeldamore.com
SUMMARY:Island View Restaurant
DESCRIPTION:A show with a view.   You don’t want to miss the sunset.\nDon’t wait to make your reservations.\n  \nCall (239) 463-5550 for your reservations
URL:https://michaeldamore.com/event/island-view-restaurant-23/
LOCATION:Lani Kai Island Resort\, 1400 Estero Blvd.\, Fort Myers Beach\, Fl\, 33931
CATEGORIES:One Man Show
ATTACH;FMTTYPE=image/png:https://michaeldamore.com/wp-content/uploads/2021/06/Island-View-Restaurant-Logo.png
END:VEVENT
BEGIN:VEVENT
DTSTART;TZID=UTC:20220102T160000
DTEND;TZID=UTC:20220102T160000
DTSTAMP:20260424T200759
CREATED:20210928T140046Z
LAST-MODIFIED:20210928T140046Z
UID:3573-1641139200-1641139200@michaeldamore.com
SUMMARY:Cass Cay
DESCRIPTION:
URL:https://michaeldamore.com/event/cass-cay-40/
LOCATION:Cass Cay\, 3200 Marcumbe Key Road\, Punta Gorda\, FL\, 33955\, United States
CATEGORIES:One Man Show
ATTACH;FMTTYPE=image/jpeg:https://michaeldamore.com/wp-content/uploads/2015/10/CassCayRestaurant.jpg
END:VEVENT
BEGIN:VEVENT
DTSTART;TZID=America/New_York:20211229T200000
DTEND;TZID=America/New_York:20211229T200000
DTSTAMP:20260424T200759
CREATED:20211106T163529Z
LAST-MODIFIED:20211106T163529Z
UID:3671-1640808000-1640808000@michaeldamore.com
SUMMARY:Sneaky Pete's
DESCRIPTION:
URL:https://michaeldamore.com/event/sneaky-petes-3/
LOCATION:Sneaky Pete’s\, 3465 Bonita Beach Rd\, Bonita Springs\, FL\, 34134
CATEGORIES:One Man Show
END:VEVENT
BEGIN:VEVENT
DTSTART;TZID=America/New_York:20211228T180000
DTEND;TZID=America/New_York:20211228T180000
DTSTAMP:20260424T200759
CREATED:20210723T145242Z
LAST-MODIFIED:20210723T145242Z
UID:3507-1640714400-1640714400@michaeldamore.com
SUMMARY:The Return of the SWFL Sock Hop with Michael D'Amore Englewood Edition
DESCRIPTION:The SWFL Sock Hop\nEnglewood Edition\nDoor Open at 4:30 PM  Showtime 6:00 PM\nFull food service and full cash bar\nCall for your reservations 941-474-1404
URL:https://michaeldamore.com/event/the-return-of-the-swfl-sock-hop-with-michael-damore-englewood-edition-13/
LOCATION:Englewood Elks  Lodge 2378\, 401 North Indiana Avenue\, Englewood\, FL\, 34223
CATEGORIES:One Man Show,Sock Hop
END:VEVENT
BEGIN:VEVENT
DTSTART;TZID=UTC:20211226T180000
DTEND;TZID=UTC:20211226T180000
DTSTAMP:20260424T200759
CREATED:20210602T064317Z
LAST-MODIFIED:20210602T064317Z
UID:3388-1640541600-1640541600@michaeldamore.com
SUMMARY:Dogtooth Sports & Music Bar
DESCRIPTION:Reservations are strongly recommended!!! \n  \nI look forward to seeing you there. \n 
URL:https://michaeldamore.com/event/dogtooth-sports-music-bar-35/
LOCATION:Dogtooth Sports and Music Bar\, 5310 Shirley St.\, Naples\, FL\, 34109\, United States
CATEGORIES:One Man Show
ATTACH;FMTTYPE=image/jpeg:https://michaeldamore.com/wp-content/uploads/2019/08/Dogtooth-Logo-3.jpg
END:VEVENT
BEGIN:VEVENT
DTSTART;TZID=America/New_York:20211223T180000
DTEND;TZID=America/New_York:20211223T180000
DTSTAMP:20260424T200759
CREATED:20211125T192135Z
LAST-MODIFIED:20211125T192203Z
UID:3693-1640282400-1640282400@michaeldamore.com
SUMMARY:Holiday Celebration Dinner Show at Grill at 1951
DESCRIPTION:It is great to be returning to The Grill at 1951\n\nThank you to everyone who has made these shows so successful and so much fun.\nMy band and I can’t wait to do it again.
URL:https://michaeldamore.com/event/holiday-celebration-dinner-show-at-grill-at-1951-12-23-21/
LOCATION:Grill at 1951\, 1951 Tamiami Trail\, Port Charlotte\, Florida\, 33948
CATEGORIES:Dinner Shows,One Man Show
ATTACH;FMTTYPE=image/jpeg:https://michaeldamore.com/wp-content/uploads/2019/02/Michael-DAmore-Band-4.jpg
END:VEVENT
BEGIN:VEVENT
DTSTART;TZID=UTC:20211222T190000
DTEND;TZID=UTC:20211222T190000
DTSTAMP:20260424T200759
CREATED:20210531T135539Z
LAST-MODIFIED:20210726T153610Z
UID:3370-1640199600-1640199600@michaeldamore.com
SUMMARY:Cape Cabaret
DESCRIPTION:Call For Reservations\n$10.00 Entertainment Cover Charge
URL:https://michaeldamore.com/event/cape-cabaret-26/
LOCATION:Cape Cabaret\, 4725 Vincennes Blvd\, Cape Coral\, Fl\, 33904\, United States
CATEGORIES:One Man Show
END:VEVENT
BEGIN:VEVENT
DTSTART;TZID=America/New_York:20211221T173000
DTEND;TZID=America/New_York:20211221T173000
DTSTAMP:20260424T200759
CREATED:20210630T155828Z
LAST-MODIFIED:20210630T155828Z
UID:3467-1640107800-1640107800@michaeldamore.com
SUMMARY:Island View Restaurant
DESCRIPTION:A show with a view.   You don’t want to miss the sunset.\nDon’t wait to make your reservations.\n  \nCall (239) 463-5550 for your reservations
URL:https://michaeldamore.com/event/island-view-restaurant-22/
LOCATION:Lani Kai Island Resort\, 1400 Estero Blvd.\, Fort Myers Beach\, Fl\, 33931
CATEGORIES:One Man Show
ATTACH;FMTTYPE=image/png:https://michaeldamore.com/wp-content/uploads/2021/06/Island-View-Restaurant-Logo.png
END:VEVENT
BEGIN:VEVENT
DTSTART;TZID=UTC:20211219T160000
DTEND;TZID=UTC:20211219T160000
DTSTAMP:20260424T200759
CREATED:20210531T133013Z
LAST-MODIFIED:20210531T133013Z
UID:3356-1639929600-1639929600@michaeldamore.com
SUMMARY:Cass Cay
DESCRIPTION:
URL:https://michaeldamore.com/event/cass-cay-39/
LOCATION:Cass Cay\, 3200 Marcumbe Key Road\, Punta Gorda\, FL\, 33955\, United States
CATEGORIES:One Man Show
ATTACH;FMTTYPE=image/jpeg:https://michaeldamore.com/wp-content/uploads/2015/10/CassCayRestaurant.jpg
END:VEVENT
BEGIN:VEVENT
DTSTART;TZID=America/New_York:20211216T180000
DTEND;TZID=America/New_York:20211216T180000
DTSTAMP:20260424T200759
CREATED:20211011T211627Z
LAST-MODIFIED:20211011T211627Z
UID:3654-1639677600-1639677600@michaeldamore.com
SUMMARY:The Return of the SWFL Sock Hop with Michael D'Amore Bonita Springs Edition
DESCRIPTION:The Return of The SWFL Sock Hop\nBonita Springs Edition\nDoor Open at 4:30 PM  Showtime 6:00 PM\nFull food service and full cash bar\nCall for your reservations 239-947-2753 Option 2
URL:https://michaeldamore.com/event/the-return-of-the-swfl-sock-hop-with-michael-damore-bonita-springs-edition-13/
LOCATION:Bonita Springs Elks Banquet Hall\, 3231 Coconut Road\, Bonita Springs\, FL\, 34134
CATEGORIES:One Man Show,Sock Hop
END:VEVENT
BEGIN:VEVENT
DTSTART;TZID=UTC:20211212T180000
DTEND;TZID=UTC:20211212T180000
DTSTAMP:20260424T200759
CREATED:20210602T064250Z
LAST-MODIFIED:20210602T064250Z
UID:3386-1639332000-1639332000@michaeldamore.com
SUMMARY:Dogtooth Sports & Music Bar
DESCRIPTION:Reservations are strongly recommended!!! \n  \nI look forward to seeing you there. \n 
URL:https://michaeldamore.com/event/dogtooth-sports-music-bar-34/
LOCATION:Dogtooth Sports and Music Bar\, 5310 Shirley St.\, Naples\, FL\, 34109\, United States
CATEGORIES:One Man Show
ATTACH;FMTTYPE=image/jpeg:https://michaeldamore.com/wp-content/uploads/2019/08/Dogtooth-Logo-3.jpg
END:VEVENT
BEGIN:VEVENT
DTSTART;TZID=UTC:20211201T190000
DTEND;TZID=UTC:20211201T190000
DTSTAMP:20260424T200759
CREATED:20210531T135512Z
LAST-MODIFIED:20210726T153547Z
UID:3368-1638385200-1638385200@michaeldamore.com
SUMMARY:Cape Cabaret
DESCRIPTION:Call For Reservations\n$10.00 Entertainment Cover Charge
URL:https://michaeldamore.com/event/cape-cabaret-25/
LOCATION:Cape Cabaret\, 4725 Vincennes Blvd\, Cape Coral\, Fl\, 33904\, United States
CATEGORIES:One Man Show
END:VEVENT
BEGIN:VEVENT
DTSTART;TZID=UTC:20211128T160000
DTEND;TZID=UTC:20211128T160000
DTSTAMP:20260424T200759
CREATED:20210531T132938Z
LAST-MODIFIED:20210531T132953Z
UID:3354-1638115200-1638115200@michaeldamore.com
SUMMARY:Cass Cay
DESCRIPTION:
URL:https://michaeldamore.com/event/cass-cay-38/
LOCATION:Cass Cay\, 3200 Marcumbe Key Road\, Punta Gorda\, FL\, 33955\, United States
CATEGORIES:One Man Show
ATTACH;FMTTYPE=image/jpeg:https://michaeldamore.com/wp-content/uploads/2015/10/CassCayRestaurant.jpg
END:VEVENT
BEGIN:VEVENT
DTSTART;TZID=America/New_York:20211127T200000
DTEND;TZID=America/New_York:20211127T200000
DTSTAMP:20260424T200759
CREATED:20210602T072322Z
LAST-MODIFIED:20210602T073214Z
UID:3407-1638043200-1638043200@michaeldamore.com
SUMMARY:Century Village - Pembroke Pines Florida
DESCRIPTION:Unfortunately this show is only open to residents or friends of residents.\nMichael D’Amore – Decade Dreamin’\nMichael D’Amore is proud to return to The Century Village Theaters in 2021.\n \n 
URL:https://michaeldamore.com/event/century-village-pembroke-pines-florida/
LOCATION:Century Village Theater – Pembroke Pines\, 13300 SW 10th Street\, Pembroke Pines\, FL\, 33027
CATEGORIES:One Man Show
ATTACH;FMTTYPE=image/jpeg:https://michaeldamore.com/wp-content/uploads/2021/06/Michael-DAmore-Decade-Dreamin-Promo-scaled-e1622618996379.jpg
END:VEVENT
BEGIN:VEVENT
DTSTART;TZID=UTC:20211124T183000
DTEND;TZID=UTC:20211124T183000
DTSTAMP:20260424T200759
CREATED:20210602T064220Z
LAST-MODIFIED:20210602T064220Z
UID:3384-1637778600-1637778600@michaeldamore.com
SUMMARY:Dogtooth Sports & Music Bar
DESCRIPTION:Reservations are strongly recommended!!! \n  \nI look forward to seeing you there. \n 
URL:https://michaeldamore.com/event/dogtooth-sports-music-bar-33/
LOCATION:Dogtooth Sports and Music Bar\, 5310 Shirley St.\, Naples\, FL\, 34109\, United States
CATEGORIES:One Man Show
ATTACH;FMTTYPE=image/jpeg:https://michaeldamore.com/wp-content/uploads/2019/08/Dogtooth-Logo-3.jpg
END:VEVENT
END:VCALENDAR