BEGIN:VCALENDAR
VERSION:2.0
PRODID:-//Michael D&#039;Amore - ECPv6.15.20//NONSGML v1.0//EN
CALSCALE:GREGORIAN
METHOD:PUBLISH
X-WR-CALNAME:Michael D&#039;Amore
X-ORIGINAL-URL:https://michaeldamore.com
X-WR-CALDESC:Events for Michael D&#039;Amore
REFRESH-INTERVAL;VALUE=DURATION:PT1H
X-Robots-Tag:noindex
X-PUBLISHED-TTL:PT1H
BEGIN:VTIMEZONE
TZID:America/New_York
BEGIN:DAYLIGHT
TZOFFSETFROM:-0500
TZOFFSETTO:-0400
TZNAME:EDT
DTSTART:20200308T070000
END:DAYLIGHT
BEGIN:STANDARD
TZOFFSETFROM:-0400
TZOFFSETTO:-0500
TZNAME:EST
DTSTART:20201101T060000
END:STANDARD
BEGIN:DAYLIGHT
TZOFFSETFROM:-0500
TZOFFSETTO:-0400
TZNAME:EDT
DTSTART:20210314T070000
END:DAYLIGHT
BEGIN:STANDARD
TZOFFSETFROM:-0400
TZOFFSETTO:-0500
TZNAME:EST
DTSTART:20211107T060000
END:STANDARD
BEGIN:DAYLIGHT
TZOFFSETFROM:-0500
TZOFFSETTO:-0400
TZNAME:EDT
DTSTART:20220313T070000
END:DAYLIGHT
BEGIN:STANDARD
TZOFFSETFROM:-0400
TZOFFSETTO:-0500
TZNAME:EST
DTSTART:20221106T060000
END:STANDARD
END:VTIMEZONE
BEGIN:VTIMEZONE
TZID:UTC
BEGIN:STANDARD
TZOFFSETFROM:+0000
TZOFFSETTO:+0000
TZNAME:UTC
DTSTART:20200101T000000
END:STANDARD
END:VTIMEZONE
BEGIN:VEVENT
DTSTART;TZID=America/New_York:20211216T180000
DTEND;TZID=America/New_York:20211216T180000
DTSTAMP:20260424T231550
CREATED:20211011T211627Z
LAST-MODIFIED:20211011T211627Z
UID:3654-1639677600-1639677600@michaeldamore.com
SUMMARY:The Return of the SWFL Sock Hop with Michael D'Amore Bonita Springs Edition
DESCRIPTION:The Return of The SWFL Sock Hop\nBonita Springs Edition\nDoor Open at 4:30 PM  Showtime 6:00 PM\nFull food service and full cash bar\nCall for your reservations 239-947-2753 Option 2
URL:https://michaeldamore.com/event/the-return-of-the-swfl-sock-hop-with-michael-damore-bonita-springs-edition-13/
LOCATION:Bonita Springs Elks Banquet Hall\, 3231 Coconut Road\, Bonita Springs\, FL\, 34134
CATEGORIES:One Man Show,Sock Hop
END:VEVENT
BEGIN:VEVENT
DTSTART;TZID=UTC:20211212T180000
DTEND;TZID=UTC:20211212T180000
DTSTAMP:20260424T231550
CREATED:20210602T064250Z
LAST-MODIFIED:20210602T064250Z
UID:3386-1639332000-1639332000@michaeldamore.com
SUMMARY:Dogtooth Sports & Music Bar
DESCRIPTION:Reservations are strongly recommended!!! \n  \nI look forward to seeing you there. \n 
URL:https://michaeldamore.com/event/dogtooth-sports-music-bar-34/
LOCATION:Dogtooth Sports and Music Bar\, 5310 Shirley St.\, Naples\, FL\, 34109\, United States
CATEGORIES:One Man Show
ATTACH;FMTTYPE=image/jpeg:https://michaeldamore.com/wp-content/uploads/2019/08/Dogtooth-Logo-3.jpg
END:VEVENT
BEGIN:VEVENT
DTSTART;TZID=UTC:20211201T190000
DTEND;TZID=UTC:20211201T190000
DTSTAMP:20260424T231550
CREATED:20210531T135512Z
LAST-MODIFIED:20210726T153547Z
UID:3368-1638385200-1638385200@michaeldamore.com
SUMMARY:Cape Cabaret
DESCRIPTION:Call For Reservations\n$10.00 Entertainment Cover Charge
URL:https://michaeldamore.com/event/cape-cabaret-25/
LOCATION:Cape Cabaret\, 4725 Vincennes Blvd\, Cape Coral\, Fl\, 33904\, United States
CATEGORIES:One Man Show
END:VEVENT
BEGIN:VEVENT
DTSTART;TZID=UTC:20211128T160000
DTEND;TZID=UTC:20211128T160000
DTSTAMP:20260424T231550
CREATED:20210531T132938Z
LAST-MODIFIED:20210531T132953Z
UID:3354-1638115200-1638115200@michaeldamore.com
SUMMARY:Cass Cay
DESCRIPTION:
URL:https://michaeldamore.com/event/cass-cay-38/
LOCATION:Cass Cay\, 3200 Marcumbe Key Road\, Punta Gorda\, FL\, 33955\, United States
CATEGORIES:One Man Show
ATTACH;FMTTYPE=image/jpeg:https://michaeldamore.com/wp-content/uploads/2015/10/CassCayRestaurant.jpg
END:VEVENT
BEGIN:VEVENT
DTSTART;TZID=America/New_York:20211127T200000
DTEND;TZID=America/New_York:20211127T200000
DTSTAMP:20260424T231550
CREATED:20210602T072322Z
LAST-MODIFIED:20210602T073214Z
UID:3407-1638043200-1638043200@michaeldamore.com
SUMMARY:Century Village - Pembroke Pines Florida
DESCRIPTION:Unfortunately this show is only open to residents or friends of residents.\nMichael D’Amore – Decade Dreamin’\nMichael D’Amore is proud to return to The Century Village Theaters in 2021.\n \n 
URL:https://michaeldamore.com/event/century-village-pembroke-pines-florida/
LOCATION:Century Village Theater – Pembroke Pines\, 13300 SW 10th Street\, Pembroke Pines\, FL\, 33027
CATEGORIES:One Man Show
ATTACH;FMTTYPE=image/jpeg:https://michaeldamore.com/wp-content/uploads/2021/06/Michael-DAmore-Decade-Dreamin-Promo-scaled-e1622618996379.jpg
END:VEVENT
BEGIN:VEVENT
DTSTART;TZID=UTC:20211124T183000
DTEND;TZID=UTC:20211124T183000
DTSTAMP:20260424T231550
CREATED:20210602T064220Z
LAST-MODIFIED:20210602T064220Z
UID:3384-1637778600-1637778600@michaeldamore.com
SUMMARY:Dogtooth Sports & Music Bar
DESCRIPTION:Reservations are strongly recommended!!! \n  \nI look forward to seeing you there. \n 
URL:https://michaeldamore.com/event/dogtooth-sports-music-bar-33/
LOCATION:Dogtooth Sports and Music Bar\, 5310 Shirley St.\, Naples\, FL\, 34109\, United States
CATEGORIES:One Man Show
ATTACH;FMTTYPE=image/jpeg:https://michaeldamore.com/wp-content/uploads/2019/08/Dogtooth-Logo-3.jpg
END:VEVENT
BEGIN:VEVENT
DTSTART;TZID=America/New_York:20211123T173000
DTEND;TZID=America/New_York:20211123T173000
DTSTAMP:20260424T231550
CREATED:20210630T155758Z
LAST-MODIFIED:20210630T155758Z
UID:3465-1637688600-1637688600@michaeldamore.com
SUMMARY:Island View Restaurant
DESCRIPTION:A show with a view.   You don’t want to miss the sunset.\nDon’t wait to make your reservations.\n  \nCall (239) 463-5550 for your reservations
URL:https://michaeldamore.com/event/island-view-restaurant-21/
LOCATION:Lani Kai Island Resort\, 1400 Estero Blvd.\, Fort Myers Beach\, Fl\, 33931
CATEGORIES:One Man Show
ATTACH;FMTTYPE=image/png:https://michaeldamore.com/wp-content/uploads/2021/06/Island-View-Restaurant-Logo.png
END:VEVENT
BEGIN:VEVENT
DTSTART;TZID=UTC:20211121T160000
DTEND;TZID=UTC:20211121T160000
DTSTAMP:20260424T231550
CREATED:20210531T132915Z
LAST-MODIFIED:20210531T132915Z
UID:3352-1637510400-1637510400@michaeldamore.com
SUMMARY:Cass Cay
DESCRIPTION:
URL:https://michaeldamore.com/event/cass-cay-37/
LOCATION:Cass Cay\, 3200 Marcumbe Key Road\, Punta Gorda\, FL\, 33955\, United States
CATEGORIES:One Man Show
ATTACH;FMTTYPE=image/jpeg:https://michaeldamore.com/wp-content/uploads/2015/10/CassCayRestaurant.jpg
END:VEVENT
BEGIN:VEVENT
DTSTART;TZID=America/New_York:20211120T200000
DTEND;TZID=America/New_York:20211120T200000
DTSTAMP:20260424T231550
CREATED:20210602T072252Z
LAST-MODIFIED:20210602T073150Z
UID:3403-1637438400-1637438400@michaeldamore.com
SUMMARY:Century Village - Boca Raton Florida
DESCRIPTION:Unfortunately this show is only open to residents or friends of residents.\nMichael D’Amore – Decade Dreamin’\nMichael D’Amore is proud to return to The Century Village Theaters in 2021.\n \n 
URL:https://michaeldamore.com/event/century-village-boca-raton-florida/
LOCATION:Century Village Theater – Boca Raton\, 19296 Lyons Rd.\, Boca Raton\, FL\, 33434
CATEGORIES:One Man Show
ATTACH;FMTTYPE=image/jpeg:https://michaeldamore.com/wp-content/uploads/2021/06/Michael-DAmore-Decade-Dreamin-Promo-scaled-e1622618996379.jpg
END:VEVENT
BEGIN:VEVENT
DTSTART;TZID=America/New_York:20211116T180000
DTEND;TZID=America/New_York:20211116T180000
DTSTAMP:20260424T231550
CREATED:20210723T145215Z
LAST-MODIFIED:20210723T145215Z
UID:3505-1637085600-1637085600@michaeldamore.com
SUMMARY:The Return of the SWFL Sock Hop with Michael D'Amore Englewood Edition
DESCRIPTION:The SWFL Sock Hop\nEnglewood Edition\nDoor Open at 4:30 PM  Showtime 6:00 PM\nFull food service and full cash bar\nCall for your reservations 941-474-1404
URL:https://michaeldamore.com/event/the-return-of-the-swfl-sock-hop-with-michael-damore-englewood-edition-12/
LOCATION:Englewood Elks  Lodge 2378\, 401 North Indiana Avenue\, Englewood\, FL\, 34223
CATEGORIES:One Man Show,Sock Hop
END:VEVENT
BEGIN:VEVENT
DTSTART;TZID=America/New_York:20211114T190000
DTEND;TZID=America/New_York:20211114T190000
DTSTAMP:20260424T231550
CREATED:20211106T162034Z
LAST-MODIFIED:20211106T162034Z
UID:3668-1636916400-1636916400@michaeldamore.com
SUMMARY:Sneaky Pete's
DESCRIPTION:
URL:https://michaeldamore.com/event/sneaky-petes-2/
LOCATION:Sneaky Pete’s\, 3465 Bonita Beach Rd\, Bonita Springs\, FL\, 34134
CATEGORIES:One Man Show
ATTACH;FMTTYPE=image/jpeg:https://michaeldamore.com/wp-content/uploads/2021/11/Flyer-Sneaky-Petes-11-14-21.jpg
END:VEVENT
BEGIN:VEVENT
DTSTART;TZID=America/New_York:20211113T200000
DTEND;TZID=America/New_York:20211113T200000
DTSTAMP:20260424T231550
CREATED:20210602T071143Z
LAST-MODIFIED:20210602T072403Z
UID:3393-1636833600-1636833600@michaeldamore.com
SUMMARY:Century Village - West Palm Beach Florida
DESCRIPTION:Unfortunately this show is only open to residents or friends of residents.\nMichael D’Amore – Decade Dreamin’\nMichael D’Amore is proud to return to The Century Village Theaters in 2021.
URL:https://michaeldamore.com/event/century-village-theaters/
LOCATION:Century Village Theater – West Palm Beach\, 200 Century Blvd.\, West Palm Beach\, FL\, 33417
CATEGORIES:One Man Show
ATTACH;FMTTYPE=image/jpeg:https://michaeldamore.com/wp-content/uploads/2021/06/Michael-DAmore-Decade-Dreamin-Promo-scaled-e1622618996379.jpg
END:VEVENT
BEGIN:VEVENT
DTSTART;TZID=UTC:20211112T190000
DTEND;TZID=UTC:20211112T190000
DTSTAMP:20260424T231550
CREATED:20210531T135441Z
LAST-MODIFIED:20210726T153512Z
UID:3366-1636743600-1636743600@michaeldamore.com
SUMMARY:Cape Cabaret
DESCRIPTION:Call For Reservations\n$10.00 Entertainment Cover Charge
URL:https://michaeldamore.com/event/cape-cabaret-24/
LOCATION:Cape Cabaret\, 4725 Vincennes Blvd\, Cape Coral\, Fl\, 33904\, United States
CATEGORIES:One Man Show
END:VEVENT
BEGIN:VEVENT
DTSTART;TZID=America/New_York:20211111T180000
DTEND;TZID=America/New_York:20211111T180000
DTSTAMP:20260424T231550
CREATED:20211011T211328Z
LAST-MODIFIED:20211011T211328Z
UID:3649-1636653600-1636653600@michaeldamore.com
SUMMARY:The Return of the SWFL Sock Hop with Michael D'Amore Bonita Springs Edition
DESCRIPTION:The Return of The SWFL Sock Hop\nBonita Springs Edition\nDoor Open at 4:30 PM  Showtime 6:00 PM\nFull food service and full cash bar\nCall for your reservations 239-947-2753
URL:https://michaeldamore.com/event/the-return-of-the-swfl-sock-hop-with-michael-damore-bonita-springs-edition-11/
LOCATION:Bonita Springs Elks Banquet Hall\, 3231 Coconut Road\, Bonita Springs\, FL\, 34134
CATEGORIES:One Man Show,Sock Hop
END:VEVENT
BEGIN:VEVENT
DTSTART;TZID=UTC:20211110T183000
DTEND;TZID=UTC:20211110T183000
DTSTAMP:20260424T231550
CREATED:20210602T064200Z
LAST-MODIFIED:20210602T064200Z
UID:3382-1636569000-1636569000@michaeldamore.com
SUMMARY:Dogtooth Sports & Music Bar
DESCRIPTION:Reservations are strongly recommended!!! \n  \nI look forward to seeing you there. \n 
URL:https://michaeldamore.com/event/dogtooth-sports-music-bar-32/
LOCATION:Dogtooth Sports and Music Bar\, 5310 Shirley St.\, Naples\, FL\, 34109\, United States
CATEGORIES:One Man Show
ATTACH;FMTTYPE=image/jpeg:https://michaeldamore.com/wp-content/uploads/2019/08/Dogtooth-Logo-3.jpg
END:VEVENT
BEGIN:VEVENT
DTSTART;TZID=America/New_York:20211109T173000
DTEND;TZID=America/New_York:20211109T173000
DTSTAMP:20260424T231550
CREATED:20210630T155739Z
LAST-MODIFIED:20210630T155739Z
UID:3463-1636479000-1636479000@michaeldamore.com
SUMMARY:Island View Restaurant
DESCRIPTION:A show with a view.   You don’t want to miss the sunset.\nDon’t wait to make your reservations.\n  \nCall (239) 463-5550 for your reservations
URL:https://michaeldamore.com/event/island-view-restaurant-20/
LOCATION:Lani Kai Island Resort\, 1400 Estero Blvd.\, Fort Myers Beach\, Fl\, 33931
CATEGORIES:One Man Show
ATTACH;FMTTYPE=image/png:https://michaeldamore.com/wp-content/uploads/2021/06/Island-View-Restaurant-Logo.png
END:VEVENT
BEGIN:VEVENT
DTSTART;TZID=UTC:20211107T160000
DTEND;TZID=UTC:20211107T160000
DTSTAMP:20260424T231550
CREATED:20210531T132845Z
LAST-MODIFIED:20210531T132852Z
UID:3350-1636300800-1636300800@michaeldamore.com
SUMMARY:Cass Cay
DESCRIPTION:
URL:https://michaeldamore.com/event/cass-cay-36/
LOCATION:Cass Cay\, 3200 Marcumbe Key Road\, Punta Gorda\, FL\, 33955\, United States
CATEGORIES:One Man Show
ATTACH;FMTTYPE=image/jpeg:https://michaeldamore.com/wp-content/uploads/2015/10/CassCayRestaurant.jpg
END:VEVENT
BEGIN:VEVENT
DTSTART;TZID=UTC:20211024T180000
DTEND;TZID=UTC:20211024T180000
DTSTAMP:20260424T231550
CREATED:20210602T064126Z
LAST-MODIFIED:20210602T064126Z
UID:3380-1635098400-1635098400@michaeldamore.com
SUMMARY:Dogtooth Sports & Music Bar
DESCRIPTION:Reservations are strongly recommended!!! \n  \nI look forward to seeing you there. \n 
URL:https://michaeldamore.com/event/dogtooth-sports-music-bar-31/
LOCATION:Dogtooth Sports and Music Bar\, 5310 Shirley St.\, Naples\, FL\, 34109\, United States
CATEGORIES:One Man Show
ATTACH;FMTTYPE=image/jpeg:https://michaeldamore.com/wp-content/uploads/2019/08/Dogtooth-Logo-3.jpg
END:VEVENT
BEGIN:VEVENT
DTSTART;TZID=UTC:20211021T183000
DTEND;TZID=UTC:20211021T183000
DTSTAMP:20260424T231550
CREATED:20210531T132721Z
LAST-MODIFIED:20210531T132749Z
UID:3348-1634841000-1634841000@michaeldamore.com
SUMMARY:Cass Cay
DESCRIPTION:
URL:https://michaeldamore.com/event/cass-cay-35/
LOCATION:Cass Cay\, 3200 Marcumbe Key Road\, Punta Gorda\, FL\, 33955\, United States
CATEGORIES:One Man Show
ATTACH;FMTTYPE=image/jpeg:https://michaeldamore.com/wp-content/uploads/2015/10/CassCayRestaurant.jpg
END:VEVENT
BEGIN:VEVENT
DTSTART;TZID=America/New_York:20211019T173000
DTEND;TZID=America/New_York:20211019T173000
DTSTAMP:20260424T231550
CREATED:20210630T155717Z
LAST-MODIFIED:20210630T155717Z
UID:3461-1634664600-1634664600@michaeldamore.com
SUMMARY:Island View Restaurant
DESCRIPTION:A show with a view.   You don’t want to miss the sunset.\nDon’t wait to make your reservations.\n  \nCall (239) 463-5550 for your reservations
URL:https://michaeldamore.com/event/island-view-restaurant-19/
LOCATION:Lani Kai Island Resort\, 1400 Estero Blvd.\, Fort Myers Beach\, Fl\, 33931
CATEGORIES:One Man Show
ATTACH;FMTTYPE=image/png:https://michaeldamore.com/wp-content/uploads/2021/06/Island-View-Restaurant-Logo.png
END:VEVENT
BEGIN:VEVENT
DTSTART;TZID=UTC:20211016T190000
DTEND;TZID=UTC:20211016T190000
DTSTAMP:20260424T231550
CREATED:20210830T154000Z
LAST-MODIFIED:20210830T154003Z
UID:2759-1634410800-1634410800@michaeldamore.com
SUMMARY:The Capris in Easton PA
DESCRIPTION:LAR ENTERPRISES PRESENTS\nOH WHAT A NIGHT OF DOO WOP\nStarring \nThe Capris – “There’s A Moon Out Tonight”\nHarold Winley’s Clovers – “Love Potion Number 9”\nJimmy Gallagher Original Lead Singer of The Passions – “Just To Be With You”\n\nTony Middleton & The Willows – “Church Bells May Ring”\nJimmy Clanton – “Venus In Blue Jeans”\nThe Mystics – “Hushabye”\nLenny Dell & The Demensions – “Over The Rainbow”\nCleveland Still & The Dubs – “Could This Be Magic “\nTheFireflies – “You Were Mine”\nAcappella By Award Winning\nClassic Sounds\nHosted by COOL BOBBY B\nSirius Radio 50’s on 5 \n\n\nYou can purchase tickets at the link above or call (610) 252-3132
URL:https://michaeldamore.com/event/the-capris-in-easton-pa-2/
LOCATION:State Theatre Center for the Arts\, 453 Northampton Street\, Easton\, PA\, 18042\, United States
CATEGORIES:One Man Show,The Capris
ATTACH;FMTTYPE=image/jpeg:https://michaeldamore.com/wp-content/uploads/2018/10/Capris-Promo-Photo-2-final-5-3-e1566429575362.jpg
END:VEVENT
BEGIN:VEVENT
DTSTART;TZID=America/New_York:20211014T190000
DTEND;TZID=America/New_York:20211014T190000
DTSTAMP:20260424T231550
CREATED:20210602T074718Z
LAST-MODIFIED:20210610T095717Z
UID:3413-1634238000-1634238000@michaeldamore.com
SUMMARY:Benefit for "Wreaths Across America"
DESCRIPTION:Support an amazing cause and have fun doing it!!!!\n“Wreaths Across America”\nNite Under The Museum\nLimited Tickets Available – Do Not Wait \nIf you have served in the armed forces\, had family or friends who have served or  known anyone who has\,\nthis is an opportunity to say “Thank You.”\n  \nTo learn more about the organization please visit\nhttps://www.wreathsacrossamerica.org/\nI have said it before and I will say it every chance I get.  Every veteran should hear the words “Thank you for your service and your sacrifice” every day of their lives.
URL:https://michaeldamore.com/event/benefit-for-wreaths-across-america/
LOCATION:Military Heritage Museum\, 900 W. Marion Avenue\, Punta Gorda\, FL\, 33950
CATEGORIES:One Man Show
ATTACH;FMTTYPE=application/pdf:https://michaeldamore.com/wp-content/uploads/2021/06/Nite-Under-The-Museum-2021-WAA-FINAL-WITH-QR.pdf
ORGANIZER;CN="Linda":MAILTO:lm1461@comcast.net
END:VEVENT
BEGIN:VEVENT
DTSTART;TZID=America/New_York:20211013T173000
DTEND;TZID=America/New_York:20211013T173000
DTSTAMP:20260424T231550
CREATED:20210602T065246Z
LAST-MODIFIED:20210602T065246Z
UID:3391-1634146200-1634146200@michaeldamore.com
SUMMARY:Island View Restaurant
DESCRIPTION:A show with a view.   You don’t want to miss the sunset.\nDon’t wait to make your reservations.  Seating will go fast.\n  \nCall (239) 463-5550 for your reservations
URL:https://michaeldamore.com/event/island-view-restaurant-14/
LOCATION:Lani Kai Island Resort\, 1400 Estero Blvd.\, Fort Myers Beach\, Fl\, 33931
CATEGORIES:One Man Show
END:VEVENT
BEGIN:VEVENT
DTSTART;TZID=America/New_York:20211012T180000
DTEND;TZID=America/New_York:20211012T180000
DTSTAMP:20260424T231550
CREATED:20210723T145144Z
LAST-MODIFIED:20210723T145144Z
UID:3503-1634061600-1634061600@michaeldamore.com
SUMMARY:The Return of the SWFL Sock Hop with Michael D'Amore Englewood Edition
DESCRIPTION:The SWFL Sock Hop\nEnglewood Edition\nDoor Open at 4:30 PM  Showtime 6:00 PM\nFull food service and full cash bar\nCall for your reservations 941-474-1404
URL:https://michaeldamore.com/event/the-return-of-the-swfl-sock-hop-with-michael-damore-englewood-edition-11/
LOCATION:Englewood Elks  Lodge 2378\, 401 North Indiana Avenue\, Englewood\, FL\, 34223
CATEGORIES:One Man Show,Sock Hop
END:VEVENT
BEGIN:VEVENT
DTSTART;TZID=UTC:20211010T180000
DTEND;TZID=UTC:20211010T180000
DTSTAMP:20260424T231550
CREATED:20210602T064103Z
LAST-MODIFIED:20210602T064103Z
UID:3378-1633888800-1633888800@michaeldamore.com
SUMMARY:Dogtooth Sports & Music Bar
DESCRIPTION:Reservations are strongly recommended!!! \n  \nI look forward to seeing you there. \n 
URL:https://michaeldamore.com/event/dogtooth-sports-music-bar-30/
LOCATION:Dogtooth Sports and Music Bar\, 5310 Shirley St.\, Naples\, FL\, 34109\, United States
CATEGORIES:One Man Show
ATTACH;FMTTYPE=image/jpeg:https://michaeldamore.com/wp-content/uploads/2019/08/Dogtooth-Logo-3.jpg
END:VEVENT
BEGIN:VEVENT
DTSTART;TZID=America/New_York:20211007T180000
DTEND;TZID=America/New_York:20211007T180000
DTSTAMP:20260424T231550
CREATED:20210830T154236Z
LAST-MODIFIED:20210830T154236Z
UID:3546-1633629600-1633629600@michaeldamore.com
SUMMARY:The Return of the SWFL Sock Hop with Michael D'Amore Bonita Springs Edition
DESCRIPTION:The Return of The SWFL Sock Hop\nBonita Springs Edition\nDoor Open at 4:30 PM  Showtime 6:00 PM\nFull food service and full cash bar\nCall for your reservations 239-947-2753
URL:https://michaeldamore.com/event/the-return-of-the-swfl-sock-hop-with-michael-damore-bonita-springs-edition-10/
LOCATION:Bonita Springs Elks Banquet Hall\, 3231 Coconut Road\, Bonita Springs\, FL\, 34134
CATEGORIES:One Man Show,Sock Hop
END:VEVENT
BEGIN:VEVENT
DTSTART;TZID=UTC:20211006T190000
DTEND;TZID=UTC:20211006T190000
DTSTAMP:20260424T231550
CREATED:20210531T135411Z
LAST-MODIFIED:20210930T131428Z
UID:3364-1633546800-1633546800@michaeldamore.com
SUMMARY:Cape Cabaret
DESCRIPTION:Call For Reservations\n$10.00 Entertainment Cover Charge
URL:https://michaeldamore.com/event/cape-cabaret-23/
LOCATION:Cape Cabaret\, 4725 Vincennes Blvd\, Cape Coral\, Fl\, 33904\, United States
CATEGORIES:One Man Show
END:VEVENT
BEGIN:VEVENT
DTSTART;TZID=America/New_York:20211002T190000
DTEND;TZID=America/New_York:20211002T190000
DTSTAMP:20260424T231550
CREATED:20210601T230000Z
LAST-MODIFIED:20210726T153442Z
UID:2465-1633201200-1633201200@michaeldamore.com
SUMMARY:The Capris at Count Basie Theater
DESCRIPTION:LAR ENTERPRISES PRESENTS\nOh What a Night of Rock n Roll Volume 3\n\n  \nLarry Chance & The Earls – “I Believe” \nThe Capris – “There’s A Moon Out Tonight” \nThe Happenings – ”See You In September” \nBrian Hyland – “Sealed With A Kiss” \nChris Montez – “Lets Dance” \nJoey Dee – “The Peppermint Twist \nKathy Young – “A Thousand Stars” \nJohn Kuse & the Excellents – “Coney Island Baby” \nSky’s The Limit – “A Tribute To The Original Duprees” \nHosted by Cool Bobby B of Sirius Radio – 50s on 5
URL:https://michaeldamore.com/event/the-capris-at-count-basie-theater/
LOCATION:Count Basie Theater\, 99 Monmouth Street\, Red Bank\, NJ\, 07701
CATEGORIES:One Man Show,The Capris
ATTACH;FMTTYPE=image/jpeg:https://michaeldamore.com/wp-content/uploads/2018/10/Capris-Promo-Photo-2-final-5-3-e1566429575362.jpg
END:VEVENT
BEGIN:VEVENT
DTSTART;TZID=UTC:20210930T183000
DTEND;TZID=UTC:20210930T183000
DTSTAMP:20260424T231550
CREATED:20210531T132644Z
LAST-MODIFIED:20210531T132644Z
UID:3346-1633026600-1633026600@michaeldamore.com
SUMMARY:Cass Cay
DESCRIPTION:
URL:https://michaeldamore.com/event/cass-cay-34/
LOCATION:Cass Cay\, 3200 Marcumbe Key Road\, Punta Gorda\, FL\, 33955\, United States
CATEGORIES:One Man Show
ATTACH;FMTTYPE=image/jpeg:https://michaeldamore.com/wp-content/uploads/2015/10/CassCayRestaurant.jpg
END:VEVENT
BEGIN:VEVENT
DTSTART;TZID=UTC:20210929T183000
DTEND;TZID=UTC:20210929T183000
DTSTAMP:20260424T231550
CREATED:20210602T064026Z
LAST-MODIFIED:20210602T064026Z
UID:3376-1632940200-1632940200@michaeldamore.com
SUMMARY:Dogtooth Sports & Music Bar
DESCRIPTION:Reservations are strongly recommended!!! \n  \nI look forward to seeing you there. \n 
URL:https://michaeldamore.com/event/dogtooth-sports-music-bar-29/
LOCATION:Dogtooth Sports and Music Bar\, 5310 Shirley St.\, Naples\, FL\, 34109\, United States
CATEGORIES:One Man Show
ATTACH;FMTTYPE=image/jpeg:https://michaeldamore.com/wp-content/uploads/2019/08/Dogtooth-Logo-3.jpg
END:VEVENT
END:VCALENDAR