BEGIN:VCALENDAR
VERSION:2.0
PRODID:-//Michael D&#039;Amore - ECPv6.15.20//NONSGML v1.0//EN
CALSCALE:GREGORIAN
METHOD:PUBLISH
X-WR-CALNAME:Michael D&#039;Amore
X-ORIGINAL-URL:https://michaeldamore.com
X-WR-CALDESC:Events for Michael D&#039;Amore
REFRESH-INTERVAL;VALUE=DURATION:PT1H
X-Robots-Tag:noindex
X-PUBLISHED-TTL:PT1H
BEGIN:VTIMEZONE
TZID:America/New_York
BEGIN:DAYLIGHT
TZOFFSETFROM:-0500
TZOFFSETTO:-0400
TZNAME:EDT
DTSTART:20250309T070000
END:DAYLIGHT
BEGIN:STANDARD
TZOFFSETFROM:-0400
TZOFFSETTO:-0500
TZNAME:EST
DTSTART:20251102T060000
END:STANDARD
BEGIN:DAYLIGHT
TZOFFSETFROM:-0500
TZOFFSETTO:-0400
TZNAME:EDT
DTSTART:20260308T070000
END:DAYLIGHT
BEGIN:STANDARD
TZOFFSETFROM:-0400
TZOFFSETTO:-0500
TZNAME:EST
DTSTART:20261101T060000
END:STANDARD
BEGIN:DAYLIGHT
TZOFFSETFROM:-0500
TZOFFSETTO:-0400
TZNAME:EDT
DTSTART:20270314T070000
END:DAYLIGHT
BEGIN:STANDARD
TZOFFSETFROM:-0400
TZOFFSETTO:-0500
TZNAME:EST
DTSTART:20271107T060000
END:STANDARD
END:VTIMEZONE
BEGIN:VTIMEZONE
TZID:UTC
BEGIN:STANDARD
TZOFFSETFROM:+0000
TZOFFSETTO:+0000
TZNAME:UTC
DTSTART:20250101T000000
END:STANDARD
END:VTIMEZONE
BEGIN:VEVENT
DTSTART;TZID=America/New_York:20260820T180000
DTEND;TZID=America/New_York:20260820T180000
DTSTAMP:20260421T170831
CREATED:20260421T152331Z
LAST-MODIFIED:20260421T152331Z
UID:6249-1787248800-1787248800@michaeldamore.com
SUMMARY:Michael D'Amore returns to The Lani Kai
DESCRIPTION:You don’t want to miss the sunset.  That alone is worth the trip.\nDon’t wait to make your reservations.\n  \nCall (239) 463-3111 for your reservations\n 
URL:https://michaeldamore.com/event/michael-damore-returns-to-the-lani-kai-5/
LOCATION:Lani Kai Island Resort\, 1400 Estero Blvd.\, Fort Myers Beach\, Fl\, 33931
CATEGORIES:One Man Show
ATTACH;FMTTYPE=image/png:https://michaeldamore.com/wp-content/uploads/2026/04/1776311567774.png
END:VEVENT
BEGIN:VEVENT
DTSTART;TZID=America/New_York:20260821T190000
DTEND;TZID=America/New_York:20260821T190000
DTSTAMP:20260421T170831
CREATED:20260421T153030Z
LAST-MODIFIED:20260421T153030Z
UID:6263-1787338800-1787338800@michaeldamore.com
SUMMARY:Giuseppe and the Lion
DESCRIPTION:
URL:https://michaeldamore.com/event/giuseppe-and-the-lion-39/
LOCATION:Giuseppe and the Lion\, 1585 Pine Ridge Rd\, Naples\, FL\, 34109
CATEGORIES:One Man Show
ATTACH;FMTTYPE=image/jpeg:https://michaeldamore.com/wp-content/uploads/2023/09/Giuseppe-Flyer-Aug-thru-April-2024-copy-e1746273659710.jpg
END:VEVENT
BEGIN:VEVENT
DTSTART;TZID=UTC:20260913T183000
DTEND;TZID=UTC:20260913T183000
DTSTAMP:20260421T170831
CREATED:20260421T171602Z
LAST-MODIFIED:20260421T171602Z
UID:6278-1789324200-1789324200@michaeldamore.com
SUMMARY:Dogtooth Sports & Music Bar
DESCRIPTION:Reservations are strongly recommended!!! \n  \nI look forward to seeing you there. \n 
URL:https://michaeldamore.com/event/dogtooth-sports-music-bar-106/
LOCATION:Dogtooth Sports and Music Bar\, 5310 Shirley St.\, Naples\, FL\, 34109\, United States
CATEGORIES:One Man Show
ATTACH;FMTTYPE=image/jpeg:https://michaeldamore.com/wp-content/uploads/2019/08/Dogtooth-Logo-3.jpg
END:VEVENT
BEGIN:VEVENT
DTSTART;TZID=America/New_York:20260916T180000
DTEND;TZID=America/New_York:20260916T180000
DTSTAMP:20260421T170831
CREATED:20260421T152403Z
LAST-MODIFIED:20260421T152403Z
UID:6251-1789581600-1789581600@michaeldamore.com
SUMMARY:Michael D'Amore returns to The Lani Kai
DESCRIPTION:You don’t want to miss the sunset.  That alone is worth the trip.\nDon’t wait to make your reservations.\n  \nCall (239) 463-3111 for your reservations\n 
URL:https://michaeldamore.com/event/michael-damore-returns-to-the-lani-kai-6/
LOCATION:Lani Kai Island Resort\, 1400 Estero Blvd.\, Fort Myers Beach\, Fl\, 33931
CATEGORIES:One Man Show
ATTACH;FMTTYPE=image/png:https://michaeldamore.com/wp-content/uploads/2026/04/1776311567774.png
END:VEVENT
BEGIN:VEVENT
DTSTART;TZID=America/New_York:20260925T190000
DTEND;TZID=America/New_York:20260925T190000
DTSTAMP:20260421T170831
CREATED:20260421T153110Z
LAST-MODIFIED:20260421T153110Z
UID:6265-1790362800-1790362800@michaeldamore.com
SUMMARY:Giuseppe and the Lion
DESCRIPTION:
URL:https://michaeldamore.com/event/giuseppe-and-the-lion-40/
LOCATION:Giuseppe and the Lion\, 1585 Pine Ridge Rd\, Naples\, FL\, 34109
CATEGORIES:One Man Show
ATTACH;FMTTYPE=image/jpeg:https://michaeldamore.com/wp-content/uploads/2023/09/Giuseppe-Flyer-Aug-thru-April-2024-copy-e1746273659710.jpg
END:VEVENT
BEGIN:VEVENT
DTSTART;TZID=UTC:20261011T183000
DTEND;TZID=UTC:20261011T183000
DTSTAMP:20260421T170831
CREATED:20260421T171644Z
LAST-MODIFIED:20260421T171644Z
UID:6280-1791743400-1791743400@michaeldamore.com
SUMMARY:Dogtooth Sports & Music Bar
DESCRIPTION:Reservations are strongly recommended!!! \n  \nI look forward to seeing you there. \n 
URL:https://michaeldamore.com/event/dogtooth-sports-music-bar-107/
LOCATION:Dogtooth Sports and Music Bar\, 5310 Shirley St.\, Naples\, FL\, 34109\, United States
CATEGORIES:One Man Show
ATTACH;FMTTYPE=image/jpeg:https://michaeldamore.com/wp-content/uploads/2019/08/Dogtooth-Logo-3.jpg
END:VEVENT
BEGIN:VEVENT
DTSTART;TZID=UTC:20261014T170000
DTEND;TZID=UTC:20261014T170000
DTSTAMP:20260421T170831
CREATED:20260416T034427Z
LAST-MODIFIED:20260416T034427Z
UID:6223-1791997200-1791997200@michaeldamore.com
SUMMARY:Cass Cay
DESCRIPTION:
URL:https://michaeldamore.com/event/cass-cay-98/
LOCATION:Cass Cay\, 3200 Marcumbe Key Road\, Punta Gorda\, FL\, 33955\, United States
CATEGORIES:One Man Show
ATTACH;FMTTYPE=image/jpeg:https://michaeldamore.com/wp-content/uploads/2015/10/CassCayRestaurant.jpg
END:VEVENT
BEGIN:VEVENT
DTSTART;TZID=America/New_York:20261015T180000
DTEND;TZID=America/New_York:20261015T180000
DTSTAMP:20260421T170831
CREATED:20260421T152437Z
LAST-MODIFIED:20260421T152437Z
UID:6253-1792087200-1792087200@michaeldamore.com
SUMMARY:Michael D'Amore returns to The Lani Kai
DESCRIPTION:You don’t want to miss the sunset.  That alone is worth the trip.\nDon’t wait to make your reservations.\n  \nCall (239) 463-3111 for your reservations\n 
URL:https://michaeldamore.com/event/michael-damore-returns-to-the-lani-kai-7/
LOCATION:Lani Kai Island Resort\, 1400 Estero Blvd.\, Fort Myers Beach\, Fl\, 33931
CATEGORIES:One Man Show
ATTACH;FMTTYPE=image/png:https://michaeldamore.com/wp-content/uploads/2026/04/1776311567774.png
END:VEVENT
BEGIN:VEVENT
DTSTART;TZID=America/New_York:20261017T190000
DTEND;TZID=America/New_York:20261017T190000
DTSTAMP:20260421T170831
CREATED:20260421T152619Z
LAST-MODIFIED:20260421T152619Z
UID:6255-1792263600-1792263600@michaeldamore.com
SUMMARY:Giuseppe and the Lion
DESCRIPTION:Michael D’Amore Live\nIt isn’t often that I get to play with the band and it is open to the public.\nI am excited to have this public appearance with The Ryan Chapman Orchestra.\n  \nFor tickets call 239-592-0050\n 
URL:https://michaeldamore.com/event/giuseppe-and-the-lion-35/
LOCATION:Giuseppe and the Lion\, 1585 Pine Ridge Rd\, Naples\, FL\, 34109
CATEGORIES:One Man Show
END:VEVENT
BEGIN:VEVENT
DTSTART;TZID=UTC:20261111T170000
DTEND;TZID=UTC:20261111T170000
DTSTAMP:20260421T170831
CREATED:20260416T034536Z
LAST-MODIFIED:20260416T034536Z
UID:6226-1794416400-1794416400@michaeldamore.com
SUMMARY:Cass Cay
DESCRIPTION:
URL:https://michaeldamore.com/event/cass-cay-99/
LOCATION:Cass Cay\, 3200 Marcumbe Key Road\, Punta Gorda\, FL\, 33955\, United States
CATEGORIES:One Man Show
ATTACH;FMTTYPE=image/jpeg:https://michaeldamore.com/wp-content/uploads/2015/10/CassCayRestaurant.jpg
END:VEVENT
BEGIN:VEVENT
DTSTART;TZID=America/New_York:20261128T190000
DTEND;TZID=America/New_York:20261128T190000
DTSTAMP:20260421T170831
CREATED:20260421T152657Z
LAST-MODIFIED:20260421T152657Z
UID:6257-1795892400-1795892400@michaeldamore.com
SUMMARY:Giuseppe and the Lion
DESCRIPTION:Michael D’Amore Live\nIt isn’t often that I get to play with the band and it is open to the public.\nI am excited to have this public appearance with The Ryan Chapman Orchestra.\n  \nFor tickets call 239-592-0050\n 
URL:https://michaeldamore.com/event/giuseppe-and-the-lion-36/
LOCATION:Giuseppe and the Lion\, 1585 Pine Ridge Rd\, Naples\, FL\, 34109
CATEGORIES:One Man Show
END:VEVENT
BEGIN:VEVENT
DTSTART;TZID=America/New_York:20261216T190000
DTEND;TZID=America/New_York:20261216T190000
DTSTAMP:20260421T170831
CREATED:20260421T153147Z
LAST-MODIFIED:20260421T153147Z
UID:6267-1797447600-1797447600@michaeldamore.com
SUMMARY:Giuseppe and the Lion
DESCRIPTION:
URL:https://michaeldamore.com/event/giuseppe-and-the-lion-41/
LOCATION:Giuseppe and the Lion\, 1585 Pine Ridge Rd\, Naples\, FL\, 34109
CATEGORIES:One Man Show
ATTACH;FMTTYPE=image/jpeg:https://michaeldamore.com/wp-content/uploads/2023/09/Giuseppe-Flyer-Aug-thru-April-2024-copy-e1746273659710.jpg
END:VEVENT
END:VCALENDAR